
BEGIN:VCALENDAR
VERSION:2.0
PRODID:-//Navarrebeach.com - ECPv6.15.20//NONSGML v1.0//EN
CALSCALE:GREGORIAN
METHOD:PUBLISH
X-WR-CALNAME:Navarrebeach.com
X-ORIGINAL-URL:https://navarrebeach.com
X-WR-CALDESC:Events for Navarrebeach.com
REFRESH-INTERVAL;VALUE=DURATION:PT1H
X-Robots-Tag:noindex
X-PUBLISHED-TTL:PT1H
BEGIN:VTIMEZONE
TZID:UTC
BEGIN:STANDARD
TZOFFSETFROM:+0000
TZOFFSETTO:+0000
TZNAME:UTC
DTSTART:20230101T000000
END:STANDARD
END:VTIMEZONE
BEGIN:VEVENT
DTSTART;TZID=UTC:20240816T073000
DTEND;TZID=UTC:20240818T210000
DTSTAMP:20260422T183719
CREATED:20240815T194128Z
LAST-MODIFIED:20240815T194128Z
UID:9796-1723793400-1724014800@navarrebeach.com
SUMMARY:Teacher Appreciation Weekend at Andy D's on Navarre Beach
DESCRIPTION:It’s Teacher/Educator Appreciation Weekend at Andy D’s. Santa Rosa County welcomed their students back to school on 8/12 and Andy D’s wants to thank all the employees of education institutions in Santa Rosa County for their commitment to our young people. This weekend\, Friday – Sunday open to close\, all employees of education institutions w/ ID get 15% OFF their food order. Plus we have drink specials all weekend and live entertainment and music for your enjoyment.
URL:https://navarrebeach.com/event/teacher-appreciation-weekend-at-andy-ds-on-navarre-beach/
LOCATION:Andy D’s Beachside Restaurant & Deck Bar\, 8649 Gulf Blvd\, Navarre\, 32566
ATTACH;FMTTYPE=image/jpeg:https://navarrebeach.com/wp-content/uploads/2024/08/455146085_450180818012925_8347576078571986964_n.jpg
END:VEVENT
BEGIN:VEVENT
DTSTART;TZID=UTC:20240818T150000
DTEND;TZID=UTC:20240818T190000
DTSTAMP:20260422T183719
CREATED:20240813T203055Z
LAST-MODIFIED:20240813T203055Z
UID:9679-1723993200-1724007600@navarrebeach.com
SUMMARY:Live Music at Juana’s
DESCRIPTION:If you enjoy live music\, food\, and a beachfront view\, head to Juana’s for a fun night! The Jay Williams Band will be performing for audiences.
URL:https://navarrebeach.com/event/live-music-at-juanas-5/
LOCATION:Juanas Pagodas\, 1451 Navarre Beach Causeway\, Navarre\, FL\, 32566\, United States
ATTACH;FMTTYPE=image/png:https://navarrebeach.com/wp-content/uploads/2024/08/juanas-pagodas-exterior-beach.png
END:VEVENT
END:VCALENDAR