
BEGIN:VCALENDAR
VERSION:2.0
PRODID:-//Navarrebeach.com - ECPv6.15.20//NONSGML v1.0//EN
CALSCALE:GREGORIAN
METHOD:PUBLISH
X-WR-CALNAME:Navarrebeach.com
X-ORIGINAL-URL:https://navarrebeach.com
X-WR-CALDESC:Events for Navarrebeach.com
REFRESH-INTERVAL;VALUE=DURATION:PT1H
X-Robots-Tag:noindex
X-PUBLISHED-TTL:PT1H
BEGIN:VTIMEZONE
TZID:UTC
BEGIN:STANDARD
TZOFFSETFROM:+0000
TZOFFSETTO:+0000
TZNAME:UTC
DTSTART:20230101T000000
END:STANDARD
END:VTIMEZONE
BEGIN:VEVENT
DTSTART;TZID=UTC:20240819T000000
DTEND;TZID=UTC:20240824T120000
DTSTAMP:20260422T183723
CREATED:20240815T201400Z
LAST-MODIFIED:20240815T201722Z
UID:9826-1724025600-1724500800@navarrebeach.com
SUMMARY:Bring A Friend Week
DESCRIPTION:Bring A Friend Week! August 19th – 24th. Grab your buddies\, family\, friends\, neighbors\, everybody invited including prior members\, non-members\, etc. Bring as many friends as you want. If your friends schedule doesn’t meet your schedule\, they can attend with or without you. If your friend signs up\, everyone gets money!
URL:https://navarrebeach.com/event/bring-a-friend-week/
LOCATION:CrossFit Navarre\, 2212 Highway 87\, Navarre\, FL\, 32566\, United States
ATTACH;FMTTYPE=image/jpeg:https://navarrebeach.com/wp-content/uploads/2024/08/454675357_1029214995879578_3422731706524934463_n-e1723752966495.jpg
END:VEVENT
BEGIN:VEVENT
DTSTART;TZID=UTC:20240815T083000
DTEND;TZID=UTC:20240815T093000
DTSTAMP:20260422T183723
CREATED:20240814T200529Z
LAST-MODIFIED:20240814T200529Z
UID:9762-1723710600-1723714200@navarrebeach.com
SUMMARY:Beach Yoga
DESCRIPTION:This gentle beach yoga class is a great place to take it slow and experience all the benefits of yoga on the beach. This gentle beach yoga class is excellent for anyone wanting to enjoy nature\, do yoga with the sounds of the waves\, and breathe in the salty\, fresh air.
URL:https://navarrebeach.com/event/beach-yoga/
LOCATION:Navarre Beach Pier\, 8579 Gulf Blvd\, Navarre\, FL\, 32566\, United States
ATTACH;FMTTYPE=image/jpeg:https://navarrebeach.com/wp-content/uploads/2024/08/half_size_1696252056234_offering_image.jpg
END:VEVENT
BEGIN:VEVENT
DTSTART;TZID=UTC:20240820T160000
DTEND;TZID=UTC:20240820T183000
DTSTAMP:20260422T183723
CREATED:20240813T205456Z
LAST-MODIFIED:20240813T205717Z
UID:9693-1724169600-1724178600@navarrebeach.com
SUMMARY:Movie Time Tuesdays
DESCRIPTION:Join your community for a screening of Hotel Transylvania 3! All movies begin at 4 p.m.\, and the Friends of the Navarre Library will provide refreshments.
URL:https://navarrebeach.com/event/movie-time-tuesdays/
LOCATION:The Navarre Library\, 8484 James M. Harvell Rd\, Navarre\, FL\, 32566\, United States
ATTACH;FMTTYPE=image/png:https://navarrebeach.com/wp-content/uploads/2024/08/shutterstock_2154644685-Converted-01.png
END:VEVENT
BEGIN:VEVENT
DTSTART;TZID=UTC:20240820T170000
DTEND;TZID=UTC:20240820T200000
DTSTAMP:20260422T183723
CREATED:20240815T210857Z
LAST-MODIFIED:20240909T205007Z
UID:9852-1724173200-1724184000@navarrebeach.com
SUMMARY:Music Bingo Tuesday Nights
DESCRIPTION:Join us Tuesday nights at Andy D’s on Navarre Beach 5-8 PM for SoundCheck Music Bingo! FREE to Play\, FREE to win!!!! Always a full house so come early! Enjoy Navarre Beach’s best Happy Hour 4-6 PM with 1/2 Price Domestic Bottles and Drafts and $3 Well Drinks and House Wine! Food Specials – 10% OFF for Locals\, 15% OFF for Military/Veterans & First Responders!\n\nWe’ll be doing 4 rounds of music bingo\, so if you like Music and you like Bingo\, then you’re in luck! The fun starts at 5:00 pm\, so bring some friends and make a night of it! Test your song title knowledge of the best music of the 60’s\, 70’s\, 80’s\, 90’s and today!!!\n\nPrizes for ALL winners!
URL:https://navarrebeach.com/event/music-bingo-tuesday-nights/
LOCATION:Andy D’s Beachside Restaurant & Deck Bar\, 8649 Gulf Blvd\, Navarre\, 32566
ATTACH;FMTTYPE=image/jpeg:https://navarrebeach.com/wp-content/uploads/2024/08/430196979_347676781596663_6661000585627206549_n-e1723756036224.jpg
END:VEVENT
END:VCALENDAR