
BEGIN:VCALENDAR
VERSION:2.0
PRODID:-//Navarrebeach.com - ECPv6.15.20//NONSGML v1.0//EN
CALSCALE:GREGORIAN
METHOD:PUBLISH
X-WR-CALNAME:Navarrebeach.com
X-ORIGINAL-URL:https://navarrebeach.com
X-WR-CALDESC:Events for Navarrebeach.com
REFRESH-INTERVAL;VALUE=DURATION:PT1H
X-Robots-Tag:noindex
X-PUBLISHED-TTL:PT1H
BEGIN:VTIMEZONE
TZID:UTC
BEGIN:STANDARD
TZOFFSETFROM:+0000
TZOFFSETTO:+0000
TZNAME:UTC
DTSTART:20230101T000000
END:STANDARD
END:VTIMEZONE
BEGIN:VEVENT
DTSTART;TZID=UTC:20240819T000000
DTEND;TZID=UTC:20240824T120000
DTSTAMP:20260422T170606
CREATED:20240815T201400Z
LAST-MODIFIED:20240815T201722Z
UID:9826-1724025600-1724500800@navarrebeach.com
SUMMARY:Bring A Friend Week
DESCRIPTION:Bring A Friend Week! August 19th – 24th. Grab your buddies\, family\, friends\, neighbors\, everybody invited including prior members\, non-members\, etc. Bring as many friends as you want. If your friends schedule doesn’t meet your schedule\, they can attend with or without you. If your friend signs up\, everyone gets money!
URL:https://navarrebeach.com/event/bring-a-friend-week/
LOCATION:CrossFit Navarre\, 2212 Highway 87\, Navarre\, FL\, 32566\, United States
ATTACH;FMTTYPE=image/jpeg:https://navarrebeach.com/wp-content/uploads/2024/08/454675357_1029214995879578_3422731706524934463_n-e1723752966495.jpg
END:VEVENT
BEGIN:VEVENT
DTSTART;TZID=UTC:20240822T173000
DTEND;TZID=UTC:20240822T203000
DTSTAMP:20260422T170606
CREATED:20240820T215049Z
LAST-MODIFIED:20240820T215049Z
UID:9973-1724347800-1724358600@navarrebeach.com
SUMMARY:The Silkbirds Live at Andy D's
DESCRIPTION:Enjoy all the songs you would love to listen to from this duo.
URL:https://navarrebeach.com/event/the-silkbirds-live-at-andy-ds/
LOCATION:Andy D’s Beachside Restaurant & Deck Bar\, 8649 Gulf Blvd\, Navarre\, 32566
ATTACH;FMTTYPE=image/jpeg:https://navarrebeach.com/wp-content/uploads/2024/08/434756658_367912889573052_5482203951700212086_n-e1724190608463.jpg
END:VEVENT
BEGIN:VEVENT
DTSTART;TZID=UTC:20240822T183000
DTEND;TZID=UTC:20240822T213000
DTSTAMP:20260422T170606
CREATED:20240820T213247Z
LAST-MODIFIED:20240820T213247Z
UID:9954-1724351400-1724362200@navarrebeach.com
SUMMARY:Wine Bar Trivia Night!
DESCRIPTION:Grab your thinking cap and join the Vine Wine Bar for Laughter\, Fun\, & Prizes as they play Trivia with Maggie Bowles! Each game will be on different subjects\, so you may have the knowledge your teammates need! Grab your friends and prepare for a great time with delicious wines\, beer\, and an awesome selection of scrumptious food!
URL:https://navarrebeach.com/event/wine-bar-trivia-night/
LOCATION:The Vine Wine Bar\, Bistro & Shoppe\, 8211 Navarre Pkwy\, Navarre\, FL\, 32566\, United States
ATTACH;FMTTYPE=image/jpeg:https://navarrebeach.com/wp-content/uploads/2024/08/454508998_1026395616160887_6588256534088382738_n-e1724189562891.jpg
END:VEVENT
BEGIN:VEVENT
DTSTART;TZID=UTC:20240822T190000
DTEND;TZID=UTC:20240822T230000
DTSTAMP:20260422T170606
CREATED:20240814T194251Z
LAST-MODIFIED:20240814T194251Z
UID:9735-1724353200-1724367600@navarrebeach.com
SUMMARY:Live Music at Juana’s
DESCRIPTION:If you enjoy live music\, food\, and a beachfront view\, head to Juana’s for a fun night! Musician Jeff Ivanoff will be performing for audiences.
URL:https://navarrebeach.com/event/live-music-at-juanas-7/
LOCATION:Juanas Pagodas\, 1451 Navarre Beach Causeway\, Navarre\, FL\, 32566\, United States
ATTACH;FMTTYPE=image/png:https://navarrebeach.com/wp-content/uploads/2024/08/juanas-pagodas-exterior-beach.png
END:VEVENT
BEGIN:VEVENT
DTSTART;TZID=UTC:20240822T190000
DTEND;TZID=UTC:20240822T230000
DTSTAMP:20260422T170606
CREATED:20240820T212611Z
LAST-MODIFIED:20240820T212611Z
UID:9947-1724353200-1724367600@navarrebeach.com
SUMMARY:Jams in the Sand featuring Horseshoe Kitty
DESCRIPTION:NO COVER! Nashville singer/songwriter Jason McPhail formerly lived on the Emerald Coast. Bring your beach chairs or blankets and enjoy the good vibes! Windjammers on the Pier restaurant & bar\, the pier gift shop\, and the Sandbar downstairs bar will be open. No outside food or drinks. Only $1 to stroll the longest pier on the Gulf of Mexico and enjoy spectacular sunsets!
URL:https://navarrebeach.com/event/jams-in-the-sand-featuring-horseshoe-kitty/
LOCATION:Navarre Beach Pier\, 8579 Gulf Blvd\, Navarre\, FL\, 32566\, United States
ATTACH;FMTTYPE=image/jpeg:https://navarrebeach.com/wp-content/uploads/2024/08/434390192_429454802954479_4378585341996847645_n-e1724189163443.jpg
END:VEVENT
END:VCALENDAR