
BEGIN:VCALENDAR
VERSION:2.0
PRODID:-//Navarrebeach.com - ECPv6.15.20//NONSGML v1.0//EN
CALSCALE:GREGORIAN
METHOD:PUBLISH
X-ORIGINAL-URL:https://navarrebeach.com
X-WR-CALDESC:Events for Navarrebeach.com
REFRESH-INTERVAL;VALUE=DURATION:PT1H
X-Robots-Tag:noindex
X-PUBLISHED-TTL:PT1H
BEGIN:VTIMEZONE
TZID:UTC
BEGIN:STANDARD
TZOFFSETFROM:+0000
TZOFFSETTO:+0000
TZNAME:UTC
DTSTART:20230101T000000
END:STANDARD
END:VTIMEZONE
BEGIN:VEVENT
DTSTART;TZID=UTC:20240819T000000
DTEND;TZID=UTC:20240824T120000
DTSTAMP:20260422T170616
CREATED:20240815T201400Z
LAST-MODIFIED:20240815T201722Z
UID:9826-1724025600-1724500800@navarrebeach.com
SUMMARY:Bring A Friend Week
DESCRIPTION:Bring A Friend Week! August 19th – 24th. Grab your buddies\, family\, friends\, neighbors\, everybody invited including prior members\, non-members\, etc. Bring as many friends as you want. If your friends schedule doesn’t meet your schedule\, they can attend with or without you. If your friend signs up\, everyone gets money!
URL:https://navarrebeach.com/event/bring-a-friend-week/
LOCATION:CrossFit Navarre\, 2212 Highway 87\, Navarre\, FL\, 32566\, United States
ATTACH;FMTTYPE=image/jpeg:https://navarrebeach.com/wp-content/uploads/2024/08/454675357_1029214995879578_3422731706524934463_n-e1723752966495.jpg
END:VEVENT
BEGIN:VEVENT
DTSTART;TZID=UTC:20240824T074500
DTEND;TZID=UTC:20240824T090000
DTSTAMP:20260422T170616
CREATED:20240823T201555Z
LAST-MODIFIED:20240823T201555Z
UID:10098-1724485500-1724490000@navarrebeach.com
SUMMARY:Navarre Park Cleanup
DESCRIPTION:Navarre Park is a nice beachfront park with easy access to Hwy 98. I’ll bring all of the grabbers\, gloves\, buckets\, and bags. Bring your water and wear closed-toe shoes!
URL:https://navarrebeach.com/event/navarre-park-cleanup/
LOCATION:Navarre Park\, 8513 Navarre Pkwy\, Navarre\, FL\, 32566\, United States
ATTACH;FMTTYPE=image/jpeg:https://navarrebeach.com/wp-content/uploads/2024/08/449439241_496184346416019_3587975243061340744_n-e1724444141577.jpg
END:VEVENT
BEGIN:VEVENT
DTSTART;TZID=UTC:20240824T080000
DTEND;TZID=UTC:20240824T120000
DTSTAMP:20260422T170616
CREATED:20240823T195629Z
LAST-MODIFIED:20240823T195629Z
UID:10090-1724486400-1724500800@navarrebeach.com
SUMMARY:2024 Kickoff Classic
DESCRIPTION:NYSA will host the 2024 Kickoff Classic at its home field. The gate fee is $5. Football teams will scrimmage teams from opposing parks.
URL:https://navarrebeach.com/event/2024-kickoff-classic/
LOCATION:Navarre Youth Sports Association\, 8840 High School Blvd\, Navarre\, FL\, 32566\, United States
ATTACH;FMTTYPE=image/jpeg:https://navarrebeach.com/wp-content/uploads/2024/08/454852243_1016214996966283_7473852330461473550_n.jpg
ORGANIZER;CN="NYSA Cheerleading":MAILTO:Cheerleading@nysasports.com
END:VEVENT
BEGIN:VEVENT
DTSTART;TZID=UTC:20240824T083000
DTEND;TZID=UTC:20240824T100000
DTSTAMP:20260422T170616
CREATED:20240813T212038Z
LAST-MODIFIED:20240813T212038Z
UID:9715-1724488200-1724493600@navarrebeach.com
SUMMARY:Marine Mammal School
DESCRIPTION:Do you love marine mammals? Join Navarre Beach Sea Turtle Conservation Center for Marine Mammal School and learn what makes these amazing animals so incredible!
URL:https://navarrebeach.com/event/marine-mammal-school/
LOCATION:Navarre Beach Sea Turtle Conservation Center\, 8740 Gulf Blvd\, Navarre\, FL\, 32566\, United States
ATTACH;FMTTYPE=image/jpeg:https://navarrebeach.com/wp-content/uploads/2024/08/453974067_888814386611626_6438035589072681407_n-e1723584028653.jpg
END:VEVENT
BEGIN:VEVENT
DTSTART;TZID=UTC:20240824T083000
DTEND;TZID=UTC:20240824T110000
DTSTAMP:20260422T170616
CREATED:20240814T213601Z
LAST-MODIFIED:20240814T213601Z
UID:9781-1724488200-1724497200@navarrebeach.com
SUMMARY:Going Beyond Women's Conference 2024
DESCRIPTION:Join the St. Paul United Methodist Church as they host the annual Going Beyond Women’s Conference Simulcast with Priscilla Shirer and worship with Anthony Evans! Doors open at 8:30 for snacks and beverages\, the simulcast begins at 9. We will break for lunch (you are free to bring your own\, leave to go eat\, or purchase the optional Firehouse lunch)\, then come back together for the rest of the Simulcast.
URL:https://navarrebeach.com/event/going-beyond-womens-conference-2024/
LOCATION:St. Paul United Methodist Church\, 4901 Gulf Breeze Pkwy\, Gulf Breeze\, FL\, 32563-9286\, United States
ATTACH;FMTTYPE=image/jpeg:https://navarrebeach.com/wp-content/uploads/2024/08/450483087_881504530687463_2362084099890828262_n.jpg
END:VEVENT
BEGIN:VEVENT
DTSTART;TZID=UTC:20240824T093000
DTEND;TZID=UTC:20240824T103000
DTSTAMP:20260422T170616
CREATED:20240820T214125Z
LAST-MODIFIED:20240820T214125Z
UID:9957-1724491800-1724495400@navarrebeach.com
SUMMARY:Turtle Talk at the Navarre Beach Camping Resort
DESCRIPTION:Join volunteers from the Navarre Beach Sea Turtle Conservation Center for a morning of sea turtle love! Come learn about the species of sea turtles found in our local gulf waters\, meet one of our NBSTCC residents\, and learn how you can be a sea turtle hero! Please check in at the Navarre Beach Camping Resort office for the clubhouse and parking location
URL:https://navarrebeach.com/event/turtle-talk-at-the-navarre-beach-camping-resort/
LOCATION:Navarre Beach Camping Resort\, 9201 Navarre Pkwy\, Navarre\, FL\, 32566\, United States
ATTACH;FMTTYPE=image/jpeg:https://navarrebeach.com/wp-content/uploads/2024/08/456123224_900939432065788_5610983329431164062_n-e1724190079843.jpg
END:VEVENT
BEGIN:VEVENT
DTSTART;TZID=UTC:20240817T100000
DTEND;TZID=UTC:20240817T140000
DTSTAMP:20260422T170616
CREATED:20240813T215355Z
LAST-MODIFIED:20240815T201913Z
UID:9721-1723888800-1723903200@navarrebeach.com
SUMMARY:Navarre Farmers' Market Combs of Honey
DESCRIPTION:Join the Navarre Farmers’ Market\, LLC/Combs of Honey community this Saturday for a beautiful look into the diverse produce Navarre residents offer! Explore diverse local and fresh produce from dairy products\, mushrooms\, several baked goods\, and unique hand-crafted artisanal products.
URL:https://navarrebeach.com/event/navarre-farmers-market-combs-of-honey/
LOCATION:Navarre Farmers’ Market\, LLC\, SR S87 & Segura Corner\, Navarre\, FL\, 32566\, United States
ATTACH;FMTTYPE=image/png:https://navarrebeach.com/wp-content/uploads/2024/08/shutterstock_2454205907.png
END:VEVENT
BEGIN:VEVENT
DTSTART;TZID=UTC:20240824T160000
DTEND;TZID=UTC:20240825T000000
DTSTAMP:20260422T170616
CREATED:20240814T194553Z
LAST-MODIFIED:20240814T194553Z
UID:9739-1724515200-1724544000@navarrebeach.com
SUMMARY:Live Music at Juana’s
DESCRIPTION:If you enjoy live music\, food\, and a beachfront view\, head to Juana’s for a fun night! Shenanigans Unplugged will be performing for audiences from 4 p.m. to 8 p.m.\, followed by the Deck Six Piece Suits until midnight.
URL:https://navarrebeach.com/event/live-music-at-juanas-9/
LOCATION:Juanas Pagodas\, 1451 Navarre Beach Causeway\, Navarre\, FL\, 32566\, United States
ATTACH;FMTTYPE=image/png:https://navarrebeach.com/wp-content/uploads/2024/08/juanas-pagodas-exterior-beach.png
END:VEVENT
BEGIN:VEVENT
DTSTART;TZID=UTC:20240824T180000
DTEND;TZID=UTC:20240824T210000
DTSTAMP:20260422T170616
CREATED:20240813T210208Z
LAST-MODIFIED:20240813T210256Z
UID:9699-1724522400-1724533200@navarrebeach.com
SUMMARY:Ron Adams & Bobby D Show
DESCRIPTION:Enjoy the Ron Adams & Bobby D Show\, a show like no other on the Emerald Coast\, at Stripes Pub & Grill on August 24 from 6 to 9 p.m. There is no cover charge. For more information\, call (850) 939-8400. Located at 1878 Andorra Street in Navarre\, Strips Pub & Grill is a relaxed sports tavern offering American fare and a full bar amid commemorative U.S. military decor.
URL:https://navarrebeach.com/event/ron-adams-bobby-d-show/
LOCATION:Stripes Pub & Grill\, 1878 Andorra St\, Navarre\, FL\, 32566\, United States
ATTACH;FMTTYPE=image/jpeg:https://navarrebeach.com/wp-content/uploads/2024/08/sitemgr_photo_12246-e1723582971180.jpg
END:VEVENT
END:VCALENDAR