
BEGIN:VCALENDAR
VERSION:2.0
PRODID:-//Navarrebeach.com - ECPv6.15.20//NONSGML v1.0//EN
CALSCALE:GREGORIAN
METHOD:PUBLISH
X-ORIGINAL-URL:https://navarrebeach.com
X-WR-CALDESC:Events for Navarrebeach.com
REFRESH-INTERVAL;VALUE=DURATION:PT1H
X-Robots-Tag:noindex
X-PUBLISHED-TTL:PT1H
BEGIN:VTIMEZONE
TZID:UTC
BEGIN:STANDARD
TZOFFSETFROM:+0000
TZOFFSETTO:+0000
TZNAME:UTC
DTSTART:20230101T000000
END:STANDARD
END:VTIMEZONE
BEGIN:VEVENT
DTSTART;TZID=UTC:20240825T070000
DTEND;TZID=UTC:20240825T120000
DTSTAMP:20260422T170615
CREATED:20240821T152631Z
LAST-MODIFIED:20240821T152631Z
UID:9984-1724569200-1724587200@navarrebeach.com
SUMMARY:Garage Sale: Multiple Family Donation Items
DESCRIPTION:Lots of items. Lots of clothes. Come early. We will open at 7:00am. The pile of things have refilled since our last one.
URL:https://navarrebeach.com/event/garage-sale-multiple-family-donation-items/
LOCATION:Community of Christ Holley – Navarre\, 2111 Presidio St\, Navarre\, FL\, 32566\, United States
ATTACH;FMTTYPE=image/png:https://navarrebeach.com/wp-content/uploads/2024/08/Untitled-1-3.png
END:VEVENT
BEGIN:VEVENT
DTSTART;TZID=UTC:20240825T103000
DTEND;TZID=UTC:20240825T130000
DTSTAMP:20260422T170615
CREATED:20240823T203408Z
LAST-MODIFIED:20240823T203408Z
UID:10101-1724581800-1724590800@navarrebeach.com
SUMMARY:Sunday Brunch and Board
DESCRIPTION:Brunch and boards at Juana’s on Sunday at 10:30 a.m.! It’s a lot of fun; attendees usually eat and enjoy mimosa buckets\, then paddleboard and hang out on the beach.
URL:https://navarrebeach.com/event/sunday-brunch-and-board/
LOCATION:Juanas Pagodas\, 1451 Navarre Beach Causeway\, Navarre\, FL\, 32566\, United States
ATTACH;FMTTYPE=image/jpeg:https://navarrebeach.com/wp-content/uploads/2024/08/455198107_8243361442369034_8579859525263571485_n-e1724445234136.jpg
END:VEVENT
BEGIN:VEVENT
DTSTART;TZID=UTC:20240825T120000
DTEND;TZID=UTC:20240825T170000
DTSTAMP:20260422T170615
CREATED:20240820T213040Z
LAST-MODIFIED:20240820T213040Z
UID:9951-1724587200-1724605200@navarrebeach.com
SUMMARY:Wine Tasting - Exploring French Wines
DESCRIPTION:Sarah Hurley from Touton Wines will be the host as you taste some delicious French wines from around the country. Call or text 850-684-3999 to make reservations! Just $20 per person with an opportunity after the tasting to buy these wines at a discounted price
URL:https://navarrebeach.com/event/wine-tasting-exploring-french-wines/
LOCATION:The Vine Wine Bar\, Bistro & Shoppe\, 8211 Navarre Pkwy\, Navarre\, FL\, 32566\, United States
ATTACH;FMTTYPE=image/jpeg:https://navarrebeach.com/wp-content/uploads/2024/08/454317017_1024240929709689_5917614740730158117_n-e1724189404994.jpg
END:VEVENT
BEGIN:VEVENT
DTSTART;TZID=UTC:20240825T143000
DTEND;TZID=UTC:20240825T193000
DTSTAMP:20260422T170615
CREATED:20240820T214809Z
LAST-MODIFIED:20240820T214809Z
UID:9969-1724596200-1724614200@navarrebeach.com
SUMMARY:Table 42 Cigar Club with Cigar Factory Travelling Lounge
DESCRIPTION:Smokin’ and Jokin’ is what it is all about. Bring a stick\, grab a beer\, and enjoy lively conversation on the front south lawn. Kris from Cigar Factory Rolling Lounge will be on site from 2:30-7:30 pm. Check out their smokes!
URL:https://navarrebeach.com/event/table-42-cigar-club-with-cigar-factory-travelling-lounge/
LOCATION:St. Michael’s Brewing Company\, 2199 FL-87\, Navarre\, FL\, 32566\, United States
ATTACH;FMTTYPE=image/jpeg:https://navarrebeach.com/wp-content/uploads/2024/08/430029039_914566337207239_6700914912899207172_n-e1724190471435.jpg
END:VEVENT
BEGIN:VEVENT
DTSTART;TZID=UTC:20240825T150000
DTEND;TZID=UTC:20240825T190000
DTSTAMP:20260422T170615
CREATED:20240814T194650Z
LAST-MODIFIED:20240814T194650Z
UID:9741-1724598000-1724612400@navarrebeach.com
SUMMARY:Live Music at Juana's
DESCRIPTION:If you enjoy live music\, food\, and a beachfront view\, head to Juana’s for a fun night! Musician Stevie Hall will be performing for audiences.
URL:https://navarrebeach.com/event/live-music-at-juanas-10/
LOCATION:Juanas Pagodas\, 1451 Navarre Beach Causeway\, Navarre\, FL\, 32566\, United States
ATTACH;FMTTYPE=image/png:https://navarrebeach.com/wp-content/uploads/2024/08/juanas-pagodas-exterior-beach.png
END:VEVENT
END:VCALENDAR