
BEGIN:VCALENDAR
VERSION:2.0
PRODID:-//Navarrebeach.com - ECPv6.15.20//NONSGML v1.0//EN
CALSCALE:GREGORIAN
METHOD:PUBLISH
X-WR-CALNAME:Navarrebeach.com
X-ORIGINAL-URL:https://navarrebeach.com
X-WR-CALDESC:Events for Navarrebeach.com
REFRESH-INTERVAL;VALUE=DURATION:PT1H
X-Robots-Tag:noindex
X-PUBLISHED-TTL:PT1H
BEGIN:VTIMEZONE
TZID:UTC
BEGIN:STANDARD
TZOFFSETFROM:+0000
TZOFFSETTO:+0000
TZNAME:UTC
DTSTART:20230101T000000
END:STANDARD
END:VTIMEZONE
BEGIN:VEVENT
DTSTART;TZID=UTC:20240827T090000
DTEND;TZID=UTC:20240827T220000
DTSTAMP:20260422T170605
CREATED:20240821T213224Z
LAST-MODIFIED:20240821T213224Z
UID:10025-1724749200-1724796000@navarrebeach.com
SUMMARY:NBSTCC Sea Turtle Rescue Team Coffee & Conversation
DESCRIPTION:Hey there\, sea turtle lovers! Join NBSTCC at Espresso Lane on Navarre Beach for a morning of delicious coffee and fascinating conversations with the amazing NBSTCC Sea Turtle Rescue Team. You’ll get to learn all about the incredible work they do to protect and rescue these beautiful creatures. Espresso Lane has an amazing variety of coffees and beverages available for purchase. We can’t wait to see you there!
URL:https://navarrebeach.com/event/nbstcc-sea-turtle-rescue-team-coffee-conversation/
LOCATION:Espresso Lane\, 8649 Gulf Blvd\, Navarre\, FL\, 32566\, United States
ATTACH;FMTTYPE=image/jpeg:https://navarrebeach.com/wp-content/uploads/2024/08/456240911_900924648733933_6052907570732865573_n-e1724275938100.jpg
END:VEVENT
BEGIN:VEVENT
DTSTART;TZID=UTC:20240820T170000
DTEND;TZID=UTC:20240820T200000
DTSTAMP:20260422T170605
CREATED:20240815T210857Z
LAST-MODIFIED:20240909T205007Z
UID:9852-1724173200-1724184000@navarrebeach.com
SUMMARY:Music Bingo Tuesday Nights
DESCRIPTION:Join us Tuesday nights at Andy D’s on Navarre Beach 5-8 PM for SoundCheck Music Bingo! FREE to Play\, FREE to win!!!! Always a full house so come early! Enjoy Navarre Beach’s best Happy Hour 4-6 PM with 1/2 Price Domestic Bottles and Drafts and $3 Well Drinks and House Wine! Food Specials – 10% OFF for Locals\, 15% OFF for Military/Veterans & First Responders!\n\nWe’ll be doing 4 rounds of music bingo\, so if you like Music and you like Bingo\, then you’re in luck! The fun starts at 5:00 pm\, so bring some friends and make a night of it! Test your song title knowledge of the best music of the 60’s\, 70’s\, 80’s\, 90’s and today!!!\n\nPrizes for ALL winners!
URL:https://navarrebeach.com/event/music-bingo-tuesday-nights/
LOCATION:Andy D’s Beachside Restaurant & Deck Bar\, 8649 Gulf Blvd\, Navarre\, 32566
ATTACH;FMTTYPE=image/jpeg:https://navarrebeach.com/wp-content/uploads/2024/08/430196979_347676781596663_6661000585627206549_n-e1723756036224.jpg
END:VEVENT
BEGIN:VEVENT
DTSTART;TZID=UTC:20240827T180000
DTEND;TZID=UTC:20240827T210000
DTSTAMP:20260422T170605
CREATED:20240820T215230Z
LAST-MODIFIED:20240820T215230Z
UID:9977-1724781600-1724792400@navarrebeach.com
SUMMARY:Copper Grille Beer Pairing Event
DESCRIPTION:Enjoy our last Tuesday of summer hours with a flight of beers and a five-course meal from Cooper Grille.
URL:https://navarrebeach.com/event/copper-grille-beer-pairing-event/
LOCATION:St. Michael’s Brewing Company\, 2199 FL-87\, Navarre\, FL\, 32566\, United States
ATTACH;FMTTYPE=image/jpeg:https://navarrebeach.com/wp-content/uploads/2024/08/449448908_999929348670937_8172782061091913470_n-e1724190733796.jpg
END:VEVENT
END:VCALENDAR