
BEGIN:VCALENDAR
VERSION:2.0
PRODID:-//Navarrebeach.com - ECPv6.15.20//NONSGML v1.0//EN
CALSCALE:GREGORIAN
METHOD:PUBLISH
X-WR-CALNAME:Navarrebeach.com
X-ORIGINAL-URL:https://navarrebeach.com
X-WR-CALDESC:Events for Navarrebeach.com
REFRESH-INTERVAL;VALUE=DURATION:PT1H
X-Robots-Tag:noindex
X-PUBLISHED-TTL:PT1H
BEGIN:VTIMEZONE
TZID:UTC
BEGIN:STANDARD
TZOFFSETFROM:+0000
TZOFFSETTO:+0000
TZNAME:UTC
DTSTART:20230101T000000
END:STANDARD
END:VTIMEZONE
BEGIN:VEVENT
DTSTART;TZID=UTC:20240822T173000
DTEND;TZID=UTC:20240822T203000
DTSTAMP:20260422T183724
CREATED:20240820T215049Z
LAST-MODIFIED:20240820T215049Z
UID:9973-1724347800-1724358600@navarrebeach.com
SUMMARY:The Silkbirds Live at Andy D's
DESCRIPTION:Enjoy all the songs you would love to listen to from this duo.
URL:https://navarrebeach.com/event/the-silkbirds-live-at-andy-ds/
LOCATION:Andy D’s Beachside Restaurant & Deck Bar\, 8649 Gulf Blvd\, Navarre\, 32566
ATTACH;FMTTYPE=image/jpeg:https://navarrebeach.com/wp-content/uploads/2024/08/434756658_367912889573052_5482203951700212086_n-e1724190608463.jpg
END:VEVENT
BEGIN:VEVENT
DTSTART;TZID=UTC:20240829T180000
DTEND;TZID=UTC:20240829T220000
DTSTAMP:20260422T183724
CREATED:20240826T211727Z
LAST-MODIFIED:20240826T211727Z
UID:10150-1724954400-1724968800@navarrebeach.com
SUMMARY:Jams in the Sand featuring Hi-Tide
DESCRIPTION:NO COVER! Nashville singer/songwriter Jason McPhail formerly lived on the Emerald Coast. Bring your beach chairs or blankets and enjoy the good vibes! Windjammers on the Pier restaurant & bar\, the pier gift shop and Sandbar downstairs bar will be open. No outside food or drinks. Only $1 to stroll the longest pier on the Gulf of Mexico and enjoy spectacular sunsets.
URL:https://navarrebeach.com/event/jams-in-the-sand-featuring-hi-tide/
LOCATION:Navarre Beach Pier\, 8579 Gulf Blvd\, Navarre\, FL\, 32566\, United States
ATTACH;FMTTYPE=image/jpeg:https://navarrebeach.com/wp-content/uploads/2024/08/434484038_429468772953082_9092272819474766292_n-e1724707036235.jpg
END:VEVENT
BEGIN:VEVENT
DTSTART;TZID=UTC:20240829T190000
DTEND;TZID=UTC:20240829T230000
DTSTAMP:20260422T183724
CREATED:20240814T194903Z
LAST-MODIFIED:20240814T194903Z
UID:9746-1724958000-1724972400@navarrebeach.com
SUMMARY:Live Music at Juana's
DESCRIPTION:If you enjoy live music\, food\, and a beachfront view\, head to Juana’s for a fun night! Musician Jeff Ivanoff will be performing for audiences.
URL:https://navarrebeach.com/event/live-music-at-juanas-12/
LOCATION:Juanas Pagodas\, 1451 Navarre Beach Causeway\, Navarre\, FL\, 32566\, United States
ATTACH;FMTTYPE=image/png:https://navarrebeach.com/wp-content/uploads/2024/08/juanas-pagodas-exterior-beach.png
END:VEVENT
END:VCALENDAR