
BEGIN:VCALENDAR
VERSION:2.0
PRODID:-//Navarrebeach.com - ECPv6.15.20//NONSGML v1.0//EN
CALSCALE:GREGORIAN
METHOD:PUBLISH
X-WR-CALNAME:Navarrebeach.com
X-ORIGINAL-URL:https://navarrebeach.com
X-WR-CALDESC:Events for Navarrebeach.com
REFRESH-INTERVAL;VALUE=DURATION:PT1H
X-Robots-Tag:noindex
X-PUBLISHED-TTL:PT1H
BEGIN:VTIMEZONE
TZID:UTC
BEGIN:STANDARD
TZOFFSETFROM:+0000
TZOFFSETTO:+0000
TZNAME:UTC
DTSTART:20230101T000000
END:STANDARD
END:VTIMEZONE
BEGIN:VEVENT
DTSTART;TZID=UTC:20240831T083000
DTEND;TZID=UTC:20240831T093000
DTSTAMP:20260422T183721
CREATED:20240829T203508Z
LAST-MODIFIED:20240829T203508Z
UID:10288-1725093000-1725096600@navarrebeach.com
SUMMARY:Beach Yoga
DESCRIPTION:This gentle beach yoga class is a great place to take it slow and experience all the benefits of yoga on the beach. This gentle beach yoga class is excellent for anyone wanting to enjoy nature\, do yoga with the sounds of the waves\, and breathe in the salty\, fresh air.
URL:https://navarrebeach.com/event/beach-yoga-2/
LOCATION:Navarre Beach Pier\, 8579 Gulf Blvd\, Navarre\, FL\, 32566\, United States
ATTACH;FMTTYPE=image/jpeg:https://navarrebeach.com/wp-content/uploads/2024/08/half_size_1696252056234_offering_image.jpg
END:VEVENT
BEGIN:VEVENT
DTSTART;TZID=UTC:20240831T083000
DTEND;TZID=UTC:20240831T100000
DTSTAMP:20260422T183721
CREATED:20240821T215320Z
LAST-MODIFIED:20240821T215320Z
UID:10042-1725093000-1725098400@navarrebeach.com
SUMMARY:NBSTCC Shark School
DESCRIPTION:Explore local Gulf Coast sharks\, shark biology\, and shark conservation at NBSTCC’s Shark School!\n\nSharks are commonly misunderstood and often feared. Like sea turtles\, they face many threats from human activities. Shark School aims to show these apex predators in a different light by exploring their vital role in maintaining healthy oceans.
URL:https://navarrebeach.com/event/nbstcc-shark-school/
LOCATION:Navarre Beach Sea Turtle Conservation Center\, 8740 Gulf Blvd\, Navarre\, FL\, 32566\, United States
ATTACH;FMTTYPE=image/jpeg:https://navarrebeach.com/wp-content/uploads/2024/08/453758428_888811399945258_5971581966885756551_n.jpg
END:VEVENT
BEGIN:VEVENT
DTSTART;TZID=UTC:20240831T100000
DTEND;TZID=UTC:20240831T120000
DTSTAMP:20260422T183721
CREATED:20240820T210750Z
LAST-MODIFIED:20240820T210750Z
UID:9922-1725098400-1725105600@navarrebeach.com
SUMMARY:Elsa's Filipino Kitchen Grand Opening
DESCRIPTION:The Grand opening of Elsa’s Filipino Kitchen at 10 AM. The special will be to buy two Lumpia orders and get one free. From 11 AM – 12 PM
URL:https://navarrebeach.com/event/elsas-filipino-kitchen-grand-opening/
LOCATION:Elsa’s Filipino Kitchen\, 1922 Highway 87\, Navarre\, FL\, 32566\, United States
ATTACH;FMTTYPE=image/jpeg:https://navarrebeach.com/wp-content/uploads/2024/08/454494589_122129554946305939_8897808012328317864_n-e1724188062194.jpg
END:VEVENT
BEGIN:VEVENT
DTSTART;TZID=UTC:20240817T100000
DTEND;TZID=UTC:20240817T140000
DTSTAMP:20260422T183721
CREATED:20240813T215355Z
LAST-MODIFIED:20240815T201913Z
UID:9721-1723888800-1723903200@navarrebeach.com
SUMMARY:Navarre Farmers' Market Combs of Honey
DESCRIPTION:Join the Navarre Farmers’ Market\, LLC/Combs of Honey community this Saturday for a beautiful look into the diverse produce Navarre residents offer! Explore diverse local and fresh produce from dairy products\, mushrooms\, several baked goods\, and unique hand-crafted artisanal products.
URL:https://navarrebeach.com/event/navarre-farmers-market-combs-of-honey/
LOCATION:Navarre Farmers’ Market\, LLC\, SR S87 & Segura Corner\, Navarre\, FL\, 32566\, United States
ATTACH;FMTTYPE=image/png:https://navarrebeach.com/wp-content/uploads/2024/08/shutterstock_2454205907.png
END:VEVENT
BEGIN:VEVENT
DTSTART;TZID=UTC:20240831T160000
DTEND;TZID=UTC:20240831T180000
DTSTAMP:20260422T183721
CREATED:20240827T213909Z
LAST-MODIFIED:20240827T213909Z
UID:10208-1725120000-1725127200@navarrebeach.com
SUMMARY:Andy's Birthday Party
DESCRIPTION:Join Andy D’s as they celebrate the birthdays of several staff members\, including their leader\, Andy D. They have a special Saturday Happy Hour from 4 to 6 PM\, and they will have a cake around 5:30 PM and sing happy birthday for the staff.\n\nColby Swift plays on the deck from 1-5 PM and SheAndTheIts Band from 6-10 PM. It will be a great Labor Day weekend on Saturday at Andy D’s on Navarre Beach!
URL:https://navarrebeach.com/event/andys-birthday-party/
LOCATION:Andy D’s Beachside Restaurant & Deck Bar\, 8649 Gulf Blvd\, Navarre\, 32566
ATTACH;FMTTYPE=image/jpeg:https://navarrebeach.com/wp-content/uploads/2024/08/457018387_459911813706492_7275497586193065622_n.jpg
END:VEVENT
BEGIN:VEVENT
DTSTART;TZID=UTC:20240831T160000
DTEND;TZID=UTC:20240831T200000
DTSTAMP:20260422T183721
CREATED:20240821T154143Z
LAST-MODIFIED:20240821T154143Z
UID:10004-1725120000-1725134400@navarrebeach.com
SUMMARY:Outdoor Market at Pik-itz/Evening on the Lawn
DESCRIPTION:Join Pik-itz for a very special Fifth Saturday Market! The market opens at 4 pm\, and you won’t want to miss it. All of your favorite vendors will be there\, offering their unique products. Don’t forget to bring a blanket or lawn chairs to relax and enjoy the music. Evenings are beautiful on the Lawn at Pik-itz. It’s a safe space for little ones to play\, and fur babies are welcome too!
URL:https://navarrebeach.com/event/outdoor-market-at-pik-itz-evening-on-the-lawn/
LOCATION:Pik-itz Art & Antiques\, 1922 Highway 87\, Navarre\, FL\, 32566\, United States
ATTACH;FMTTYPE=image/jpeg:https://navarrebeach.com/wp-content/uploads/2024/08/455146146_1224934048486151_1956430184694803766_n-e1724254894169.jpg
END:VEVENT
BEGIN:VEVENT
DTSTART;TZID=UTC:20240831T160000
DTEND;TZID=UTC:20240831T200000
DTSTAMP:20260422T183721
CREATED:20240822T194606Z
LAST-MODIFIED:20240822T194606Z
UID:10050-1725120000-1725134400@navarrebeach.com
SUMMARY:Lime-A-Palooza
DESCRIPTION:Lime-a-palooza is a celebration of all things Key Lime!\n\nYour favorite Key Lime Pie Ice Cream\, paired with a perfectly zesty Key Lime Cupcake by Mellissa from Sugar Dough Handmade Treats or a scrumptious Key Lime Tartlet prepared with love from an original family recipe by newcomer Angel from Let’s Lime.\n\n\nGIVEAWAY\, Enter the drawing to win:\n\n42 oz Yeti Rambler in the newest KEY LIME color\, engraved with our logo\nA full-size Lime Pie from Let’s Lime\nA gift certificate from Sugar Dough Handmade Treats.
URL:https://navarrebeach.com/event/lime-a-palooza/
LOCATION:Pik-itz Art & Antiques\, 1922 Highway 87\, Navarre\, FL\, 32566\, United States
ATTACH;FMTTYPE=image/jpeg:https://navarrebeach.com/wp-content/uploads/2024/08/454381012_508977124994183_8793054329517212197_n.jpg
ORGANIZER;CN="Beachside Bubble Waffle Co.":MAILTO:Beachsidebubblewaffleco@gmail.com
END:VEVENT
BEGIN:VEVENT
DTSTART;TZID=UTC:20240831T160000
DTEND;TZID=UTC:20240831T200000
DTSTAMP:20260422T183721
CREATED:20240826T210658Z
LAST-MODIFIED:20240826T210658Z
UID:10144-1725120000-1725134400@navarrebeach.com
SUMMARY:Smoked Pork Butts
DESCRIPTION:Join the American Legion for some delicious BBQ. All proceeds from the event will go to the working sons of the American legion and their programs!
URL:https://navarrebeach.com/event/smoked-pork-butts/
LOCATION:American Legion Post 382\, 1850 Luneta St\, Navarre\, FL\, 32566\, United States
ATTACH;FMTTYPE=image/jpeg:https://navarrebeach.com/wp-content/uploads/2024/08/455922558_10231926925226518_5286025761373511152_n-e1724706357739.jpg
END:VEVENT
BEGIN:VEVENT
DTSTART;TZID=UTC:20240831T160000
DTEND;TZID=UTC:20240901T000000
DTSTAMP:20260422T183721
CREATED:20240814T195136Z
LAST-MODIFIED:20240814T195136Z
UID:9750-1725120000-1725148800@navarrebeach.com
SUMMARY:Live Music at Juana’s
DESCRIPTION:If you enjoy live music\, food\, and a beachfront view\, head to Juana’s for a fun night! About to Sweat will perform for audiences from 4 p.m. to 8 p.m.\, followed by the Deck Thin Ice until midnight.
URL:https://navarrebeach.com/event/live-music-at-juanas-14/
LOCATION:Juanas Pagodas\, 1451 Navarre Beach Causeway\, Navarre\, FL\, 32566\, United States
ATTACH;FMTTYPE=image/png:https://navarrebeach.com/wp-content/uploads/2024/08/juanas-pagodas-exterior-beach.png
END:VEVENT
BEGIN:VEVENT
DTSTART;TZID=UTC:20240831T180000
DTEND;TZID=UTC:20240831T220000
DTSTAMP:20260422T183721
CREATED:20240826T212459Z
LAST-MODIFIED:20240826T212459Z
UID:10153-1725127200-1725141600@navarrebeach.com
SUMMARY:SheAndThelts Band
DESCRIPTION:SheAndTheIts Band on the deck stage at Andy D’s on Navarre Beach playing rock hits from the 70’s\, 80’s and 90’s!
URL:https://navarrebeach.com/event/sheandthelts-band/
LOCATION:Andy D’s Beachside Restaurant & Deck Bar\, 8649 Gulf Blvd\, Navarre\, 32566
ATTACH;FMTTYPE=image/jpeg:https://navarrebeach.com/wp-content/uploads/2024/08/421274937_321991687498506_7677681047182043318_n-e1724707491935.jpg
END:VEVENT
END:VCALENDAR