
BEGIN:VCALENDAR
VERSION:2.0
PRODID:-//Navarrebeach.com - ECPv6.15.20//NONSGML v1.0//EN
CALSCALE:GREGORIAN
METHOD:PUBLISH
X-WR-CALNAME:Navarrebeach.com
X-ORIGINAL-URL:https://navarrebeach.com
X-WR-CALDESC:Events for Navarrebeach.com
REFRESH-INTERVAL;VALUE=DURATION:PT1H
X-Robots-Tag:noindex
X-PUBLISHED-TTL:PT1H
BEGIN:VTIMEZONE
TZID:UTC
BEGIN:STANDARD
TZOFFSETFROM:+0000
TZOFFSETTO:+0000
TZNAME:UTC
DTSTART:20230101T000000
END:STANDARD
END:VTIMEZONE
BEGIN:VEVENT
DTSTART;TZID=UTC:20240906T110000
DTEND;TZID=UTC:20240908T160000
DTSTAMP:20260422T140946
CREATED:20240813T211512Z
LAST-MODIFIED:20240813T211512Z
UID:9711-1725620400-1725811200@navarrebeach.com
SUMMARY:34th Annual Juana Good Time Regatta
DESCRIPTION:The Juana Good Time Regatta is designed for both experienced and novice racers\, with the main emphasis being a “Good Time.” It is open to all sizes of multihull sailboats\, from beach cats and trimarans to cruisers. The Regatta will be held over three days\, Sept. 6\, 7 and 8\, and includes parties\, food and live music! The event starts with The Wish for Wind Party (packet pick up) on Sept. 6 from 6–8 pm. The sailboat races are Sat. and Sun. from 11 until 3 or 4\, depending upon the wind! For more info\, visit juanaspagodas.com/RegattaNews.htm or call 850-939-1092.
URL:https://navarrebeach.com/event/34th-annual-juana-good-time-regatta/
LOCATION:Juanas Pagodas\, 1451 Navarre Beach Causeway\, Navarre\, FL\, 32566\, United States
ATTACH;FMTTYPE=image/jpeg:https://navarrebeach.com/wp-content/uploads/2024/08/DSC_8337-scaled-fea24335-e1723583691233.jpg
END:VEVENT
BEGIN:VEVENT
DTSTART;TZID=UTC:20240907T090000
DTEND;TZID=UTC:20240907T130000
DTSTAMP:20260422T140946
CREATED:20240904T192055Z
LAST-MODIFIED:20240904T192733Z
UID:10318-1725699600-1725714000@navarrebeach.com
SUMMARY:Treasure Your Health\, Finances & Wellness Community Resource Fair
DESCRIPTION:Welcome one\, welcome all to the Navarre Chamber’s Annual Treasure Your Health\, Finances & Wellness Community Resource Fair on Saturday\, September 7th from 9 am to 1 pm at Navarre High School! \nThis free event is open to the public and promises a treasure trove of giveaways\, door prizes\, and the chance to win a spectacular Grand Prize!\n\nConnect face-to-face with experts in education\, health\, finance\, and family-focused businesses and organizations.\n\n\nAvail yourself of free health screenings\, get financial advice from the pros\, and discover ways to save\, invest\, and plan for a brighter future.\n\nShowcase your services and be a part of enhancing the health\, wellness\, and well-being of the Navarre Community.
URL:https://navarrebeach.com/event/treasure-your-health-finances-wellness-community-resource-fair/
LOCATION:Navarre High School\, 8600 High School Blvd\, Navarre\, FL\, 32566\, United States
ATTACH;FMTTYPE=image/jpeg:https://navarrebeach.com/wp-content/uploads/2024/09/456189428_906421054846346_5759884464355195723_n.jpg
ORGANIZER;CN="Navarre Chamber":MAILTO:chanda.ryan@navarrechamber.com
END:VEVENT
BEGIN:VEVENT
DTSTART;TZID=UTC:20240907T090000
DTEND;TZID=UTC:20240907T140000
DTSTAMP:20260422T140946
CREATED:20240904T190819Z
LAST-MODIFIED:20240904T192651Z
UID:10309-1725699600-1725717600@navarrebeach.com
SUMMARY:Hwy 87 Market at Sand Dollar Plaza
DESCRIPTION:Highway 87 Market is an outdoor market\, held the 1st and 3rd Saturday of each month\, across multiple venues on Highway 87 in Navarre. In Sand Dollar Plaza market vendors will set up at the back of the plaza. In addition\, the merchants of Sand Dollar Plaza will be featuring various products and specials\, as they do each week for Sand Dollar Saturday.
URL:https://navarrebeach.com/event/hwy-87-market-at-sand-dollar-plaza/
LOCATION:Sand Dollar Plaza\, 1900 Highway 87\, Navarre\, FL\, 32566\, United States
ATTACH;FMTTYPE=image/jpeg:https://navarrebeach.com/wp-content/uploads/2024/09/245809550_4737455279618335_3685230664561647587_n-e1725476895222.jpg
ORGANIZER;CN="Hwy 87 Market & Sand Dollar Saturday":MAILTO:SandDollarSaturday@gmail.com
END:VEVENT
BEGIN:VEVENT
DTSTART;TZID=UTC:20240907T100000
DTEND;TZID=UTC:20240907T150000
DTSTAMP:20260422T140946
CREATED:20240904T211722Z
LAST-MODIFIED:20240904T211722Z
UID:10416-1725703200-1725721200@navarrebeach.com
SUMMARY:Beachfront Weekend Brunch
DESCRIPTION:Join Beach House Social every Saturday and Sunday from 10 AM to 3 PM for the ultimate beachfront brunch experience at Beach House Social! Indulge in $15 bottomless mimosas as you savor their mouthwatering menu of brunch favorites\, including our famous Cinnamon Roll Skillet\, decadent Turtle French Toast\, savory Pulled Pork Honey Biscuit\, classic Shrimp & Grits\, and so much more.\n\nWhether you’re catching up with friends\, enjoying a family outing\, or simply soaking up the ocean views\, their Weekend Brunch is the perfect way to start your day. Don’t miss out on this delicious beachfront tradition!
URL:https://navarrebeach.com/event/beachfront-weekend-brunch/
LOCATION:Beach House Social\, 8375 Gulf Blvd\, Navarre Beach\, FL\, 32566\, United States
ATTACH;FMTTYPE=image/jpeg:https://navarrebeach.com/wp-content/uploads/2024/09/457223765_1036346411826814_8167559716006578700_n.jpg
END:VEVENT
BEGIN:VEVENT
DTSTART;TZID=UTC:20240907T110000
DTEND;TZID=UTC:20240907T130000
DTSTAMP:20260422T140946
CREATED:20240904T195840Z
LAST-MODIFIED:20240904T195840Z
UID:10373-1725706800-1725714000@navarrebeach.com
SUMMARY:Celebration of Life for Tommy Cox
DESCRIPTION:Please join the Navarre community and celebrate the life of the man\, the myth\, the legend\, Tommy. Food and snoballs will be provided.\n\nIf you are interested in providing food\, please coordinate with Jan at 850-393-8287.\n\nThe podium will be open to share your favorite stories about Tommy.
URL:https://navarrebeach.com/event/celebration-of-life-for-tommy-cox/
LOCATION:Tommy’s Snoballs\, 8603 Navarre Pkwy\, Navarre\, FL\, 32566\, United States
ATTACH;FMTTYPE=image/jpeg:https://navarrebeach.com/wp-content/uploads/2024/09/photo0jpg-1-e1725479913573.jpg
END:VEVENT
BEGIN:VEVENT
DTSTART;TZID=UTC:20240907T120000
DTEND;TZID=UTC:20240907T170000
DTSTAMP:20260422T140946
CREATED:20240906T170415Z
LAST-MODIFIED:20240906T170415Z
UID:10509-1725710400-1725728400@navarrebeach.com
SUMMARY:50hr Aerial Yoga Teacher Training
DESCRIPTION:Full training details are located on our website. www.navarrebeachyoga.com\n\nPlease reach out with any questions. 850-396-1138\n\nLearn In-Person with owners Richard and Kasey\, and gain access to over 25+ years of knowledge combined.\n\nRise into new realms of possibility in your body and mind through the practice of aerial yoga in a healing environment that will nourish your soul. This is the PERFECT training for anyone who wants to deepen their practice and/or learn how to teach Aerial Yoga! Open to anyone\, including existing yoga teachers and students who are interested in teaching Aerial Yoga or who wish to deepen their practice\, without the desire to teach.
URL:https://navarrebeach.com/event/50hr-aerial-yoga-teacher-training/
LOCATION:Navarre Beach Yoga Studio\, 2276 FL-87\, Navarre\, FL\, 32566\, United States
ATTACH;FMTTYPE=image/jpeg:https://navarrebeach.com/wp-content/uploads/2024/09/432338974_1130029437974288_5441677407584635760_n.jpg
END:VEVENT
BEGIN:VEVENT
DTSTART;TZID=UTC:20240907T140000
DTEND;TZID=UTC:20240907T160000
DTSTAMP:20260422T140946
CREATED:20240820T211541Z
LAST-MODIFIED:20240820T211541Z
UID:9933-1725717600-1725724800@navarrebeach.com
SUMMARY:Family Fun Day
DESCRIPTION:Visit the Navarre Library on the 1st Saturday of the month for family-friendly games\, puzzles\, and more.
URL:https://navarrebeach.com/event/family-fun-day/
LOCATION:The Navarre Library\, 8484 James M. Harvell Rd\, Navarre\, FL\, 32566\, United States
ATTACH;FMTTYPE=image/jpeg:https://navarrebeach.com/wp-content/uploads/2024/08/412255385_752859796867891_628770149920646974_n-e1724188534727.jpg
END:VEVENT
BEGIN:VEVENT
DTSTART;TZID=UTC:20240907T160000
DTEND;TZID=UTC:20240907T193000
DTSTAMP:20260422T140946
CREATED:20240904T214713Z
LAST-MODIFIED:20240904T214713Z
UID:10456-1725724800-1725737400@navarrebeach.com
SUMMARY:Crystal Clear Copy's 3rd Annual Endless Pawsabilities Fundraiser
DESCRIPTION:Benefiting: Save Our Cats and Kittens (SOCKS) \nWhen: September 7th\, 4PM – 7:30 PM \nWhere: St. Michael’s Brewing Company\, 2199 FL-87\, Navarre\, FL
URL:https://navarrebeach.com/event/crystal-clear-copys-3rd-annual-endless-pawsabilities-fundraiser/
LOCATION:St. Michael’s Brewing Company\, 2199 FL-87\, Navarre\, FL\, 32566\, United States
ATTACH;FMTTYPE=image/jpeg:https://navarrebeach.com/wp-content/uploads/2024/09/454353674_1023632736300598_3751452310639252579_n.jpg
END:VEVENT
BEGIN:VEVENT
DTSTART;TZID=UTC:20240907T160000
DTEND;TZID=UTC:20240908T000000
DTSTAMP:20260422T140946
CREATED:20240904T193457Z
LAST-MODIFIED:20240904T193457Z
UID:10334-1725724800-1725753600@navarrebeach.com
SUMMARY:Live Music at Juana's
DESCRIPTION:If you enjoy live music\, food\, and a beachfront view\, head to Juana’s for a fun night! Drop Dead Dangerous\, Stevie Hall\, and Beach Stage Horse Shoe Kitty will be performing for audiences enjoying all the Pagodas have to offer!
URL:https://navarrebeach.com/event/live-music-at-juanas-18/
LOCATION:Juanas Pagodas\, 1451 Navarre Beach Causeway\, Navarre\, FL\, 32566\, United States
ATTACH;FMTTYPE=image/png:https://navarrebeach.com/wp-content/uploads/2024/08/juanas-pagodas-exterior-beach.png
END:VEVENT
END:VCALENDAR