
BEGIN:VCALENDAR
VERSION:2.0
PRODID:-//Navarrebeach.com - ECPv6.15.20//NONSGML v1.0//EN
CALSCALE:GREGORIAN
METHOD:PUBLISH
X-WR-CALNAME:Navarrebeach.com
X-ORIGINAL-URL:https://navarrebeach.com
X-WR-CALDESC:Events for Navarrebeach.com
REFRESH-INTERVAL;VALUE=DURATION:PT1H
X-Robots-Tag:noindex
X-PUBLISHED-TTL:PT1H
BEGIN:VTIMEZONE
TZID:UTC
BEGIN:STANDARD
TZOFFSETFROM:+0000
TZOFFSETTO:+0000
TZNAME:UTC
DTSTART:20230101T000000
END:STANDARD
END:VTIMEZONE
BEGIN:VEVENT
DTSTART;TZID=UTC:20240906T110000
DTEND;TZID=UTC:20240908T160000
DTSTAMP:20260422T170556
CREATED:20240813T211512Z
LAST-MODIFIED:20240813T211512Z
UID:9711-1725620400-1725811200@navarrebeach.com
SUMMARY:34th Annual Juana Good Time Regatta
DESCRIPTION:The Juana Good Time Regatta is designed for both experienced and novice racers\, with the main emphasis being a “Good Time.” It is open to all sizes of multihull sailboats\, from beach cats and trimarans to cruisers. The Regatta will be held over three days\, Sept. 6\, 7 and 8\, and includes parties\, food and live music! The event starts with The Wish for Wind Party (packet pick up) on Sept. 6 from 6–8 pm. The sailboat races are Sat. and Sun. from 11 until 3 or 4\, depending upon the wind! For more info\, visit juanaspagodas.com/RegattaNews.htm or call 850-939-1092.
URL:https://navarrebeach.com/event/34th-annual-juana-good-time-regatta/
LOCATION:Juanas Pagodas\, 1451 Navarre Beach Causeway\, Navarre\, FL\, 32566\, United States
ATTACH;FMTTYPE=image/jpeg:https://navarrebeach.com/wp-content/uploads/2024/08/DSC_8337-scaled-fea24335-e1723583691233.jpg
END:VEVENT
BEGIN:VEVENT
DTSTART;TZID=UTC:20240908T020000
DTEND;TZID=UTC:20240908T160000
DTSTAMP:20260422T170556
CREATED:20240904T192557Z
LAST-MODIFIED:20240904T192557Z
UID:10324-1725760800-1725811200@navarrebeach.com
SUMMARY:In My Girl Scout Era
DESCRIPTION:Calling all K-5th grade girls and parents! An unforgettable event where you can learn about Girl Scouts and channel your inner Taylor Swift
URL:https://navarrebeach.com/event/in-my-girl-scout-era/
LOCATION:Culver’s\, 8792 Navarre Pkwy\, Navarre\, FL\, 32566\, United States
ATTACH;FMTTYPE=image/jpeg:https://navarrebeach.com/wp-content/uploads/2024/09/https___cdn.evbuc_.com_images_829079019_1398207284083_1_original.jpg
END:VEVENT
BEGIN:VEVENT
DTSTART;TZID=UTC:20240908T100000
DTEND;TZID=UTC:20240908T150000
DTSTAMP:20260422T170556
CREATED:20240904T211817Z
LAST-MODIFIED:20240904T211817Z
UID:10420-1725789600-1725807600@navarrebeach.com
SUMMARY:Beachfront Weekend Brunch
DESCRIPTION:Join Beach House Social every Saturday and Sunday from 10 AM to 3 PM for the ultimate beachfront brunch experience at Beach House Social! Indulge in $15 bottomless mimosas as you savor their mouthwatering menu of brunch favorites\, including our famous Cinnamon Roll Skillet\, decadent Turtle French Toast\, savory Pulled Pork Honey Biscuit\, classic Shrimp & Grits\, and so much more.\n\nWhether you’re catching up with friends\, enjoying a family outing\, or simply soaking up the ocean views\, their Weekend Brunch is the perfect way to start your day. Don’t miss out on this delicious beachfront tradition!
URL:https://navarrebeach.com/event/beachfront-weekend-brunch-2/
LOCATION:Beach House Social\, 8375 Gulf Blvd\, Navarre Beach\, FL\, 32566\, United States
ATTACH;FMTTYPE=image/jpeg:https://navarrebeach.com/wp-content/uploads/2024/09/457223765_1036346411826814_8167559716006578700_n.jpg
END:VEVENT
BEGIN:VEVENT
DTSTART;TZID=UTC:20240908T110000
DTEND;TZID=UTC:20240908T150000
DTSTAMP:20260422T170556
CREATED:20240820T212123Z
LAST-MODIFIED:20240820T212123Z
UID:9941-1725793200-1725807600@navarrebeach.com
SUMMARY:Robert Wayne Live at Andy D's
DESCRIPTION:Excited to welcome local country artist\, Robert Wayne\, to the Andy D’s stage!
URL:https://navarrebeach.com/event/robert-wayne-live-at-andy-ds/
LOCATION:Andy D’s Beachside Restaurant & Deck Bar\, 8649 Gulf Blvd\, Navarre\, 32566
ATTACH;FMTTYPE=image/jpeg:https://navarrebeach.com/wp-content/uploads/2024/08/452153155_435017549529252_6882350605882654944_n-e1724188877193.jpg
END:VEVENT
BEGIN:VEVENT
DTSTART;TZID=UTC:20240908T110000
DTEND;TZID=UTC:20240908T210000
DTSTAMP:20260422T170556
CREATED:20240904T193700Z
LAST-MODIFIED:20240904T193700Z
UID:10337-1725793200-1725829200@navarrebeach.com
SUMMARY:Live Music at Juana's
DESCRIPTION:If you enjoy live music\, food\, and a beachfront view\, head to Juana’s for a fun night! Stevie Hall and Drop Dead Dangerous will be performing for audiences enjoying all the Pagodas have to offer!
URL:https://navarrebeach.com/event/live-music-at-juanas-19/
LOCATION:Juanas Pagodas\, 1451 Navarre Beach Causeway\, Navarre\, FL\, 32566\, United States
ATTACH;FMTTYPE=image/png:https://navarrebeach.com/wp-content/uploads/2024/08/juanas-pagodas-exterior-beach.png
END:VEVENT
BEGIN:VEVENT
DTSTART;TZID=UTC:20240908T133000
DTEND;TZID=UTC:20240908T160000
DTSTAMP:20260422T170556
CREATED:20240906T195656Z
LAST-MODIFIED:20240906T195656Z
UID:10576-1725802200-1725811200@navarrebeach.com
SUMMARY:FBU National Championship - Northwest Florida Tryouts
DESCRIPTION:The FBU National Championship is a post-season tournament for young athletes\, where All-Star teams from each grade level will represent our region. Don’t miss out on the chance to compete in the single largest event for young athletes. Tryouts will be held on Sunday\, September 8th\, followed by a tournament from 2:00 PM – 4:00 PM. Tryout fee is $30 (includes FBU tryout jersey).
URL:https://navarrebeach.com/event/fbu-national-championship-northwest-florida-tryouts/
LOCATION:Navarre Youth Sports Association\, 8840 High School Blvd\, Navarre\, FL\, 32566\, United States
ATTACH;FMTTYPE=image/jpeg:https://navarrebeach.com/wp-content/uploads/2024/09/456609802_915364207284681_3948118633947697543_n-e1725652612288.jpg
END:VEVENT
BEGIN:VEVENT
DTSTART;TZID=UTC:20240908T160000
DTEND;TZID=UTC:20240908T190000
DTSTAMP:20260422T170556
CREATED:20240906T191000Z
LAST-MODIFIED:20240906T191000Z
UID:10534-1725811200-1725822000@navarrebeach.com
SUMMARY:Sunday Funday Blues and Dirt Road Country
DESCRIPTION:Otto Agricola will be playing blues and dirt road country.
URL:https://navarrebeach.com/event/sunday-funday-blues-and-dirt-road-country/
LOCATION:Where Y’at Seafood Market & Restaurant\, 4233A FL-87\, Navarre\, FL\, 32566\, United States
ATTACH;FMTTYPE=image/jpeg:https://navarrebeach.com/wp-content/uploads/2024/09/458303479_512669788170307_4154415391384845939_n.jpg
END:VEVENT
BEGIN:VEVENT
DTSTART;TZID=UTC:20240908T173000
DTEND;TZID=UTC:20240908T190000
DTSTAMP:20260422T170556
CREATED:20240826T204813Z
LAST-MODIFIED:20240826T204813Z
UID:10131-1725816600-1725822000@navarrebeach.com
SUMMARY:Team Trivia at St. Michael's Brewing Company
DESCRIPTION:Join your community on the first Sunday of every month at St. Michael’s Brewing CO for TEAM TRIVIA! Come on out and show us your smarts to win fabulous prizes! The fun starts at 5:30 p.m.\, so bring some friends and make a night of it!
URL:https://navarrebeach.com/event/team-trivia-at-st-michaels-brewing-company-2/
LOCATION:St. Michael’s Brewing Company\, 2199 FL-87\, Navarre\, FL\, 32566\, United States
ATTACH;FMTTYPE=image/jpeg:https://navarrebeach.com/wp-content/uploads/2024/08/454036099_430654853310736_7621195287771073200_n.jpg
ORGANIZER;CN="Team Trivia of Pensacola":MAILTO:teamtriviapensacola@gmail.com
END:VEVENT
END:VCALENDAR