
BEGIN:VCALENDAR
VERSION:2.0
PRODID:-//Navarrebeach.com - ECPv6.15.20//NONSGML v1.0//EN
CALSCALE:GREGORIAN
METHOD:PUBLISH
X-WR-CALNAME:Navarrebeach.com
X-ORIGINAL-URL:https://navarrebeach.com
X-WR-CALDESC:Events for Navarrebeach.com
REFRESH-INTERVAL;VALUE=DURATION:PT1H
X-Robots-Tag:noindex
X-PUBLISHED-TTL:PT1H
BEGIN:VTIMEZONE
TZID:UTC
BEGIN:STANDARD
TZOFFSETFROM:+0000
TZOFFSETTO:+0000
TZNAME:UTC
DTSTART:20230101T000000
END:STANDARD
END:VTIMEZONE
BEGIN:VEVENT
DTSTART;TZID=UTC:20240910T090000
DTEND;TZID=UTC:20240913T173000
DTSTAMP:20260423T010225
CREATED:20240906T165523Z
LAST-MODIFIED:20240909T204909Z
UID:10506-1725958800-1726248600@navarrebeach.com
SUMMARY:Grand Opening
DESCRIPTION:GRAND OPENING 10-13 September\n\nTons of sensory bins\, balloon arch\, music and party giveaway (Details below)!! Paying visitors (children) receive a free drink & snack during Grand Opening!\n\n\n$12/first child$9 siblings\n\nLap infants or older children/adults not playing in play space are free. We ask that you limit older children/adults to 1 for our grand opening so we don’t get overcrowded.\n\nPARTY GIVEAWAY DETAILSBook a party during grand opening week and you will be entered for a drawing to have the rest of your party (Basic Party Package) complimentary. $50 deposit required.
URL:https://navarrebeach.com/event/grand-opening/
LOCATION:Go Play & Party\, 5680 Gulf Breeze Pkwy Suite D-11\, Gulf Breeze\, FL\, 32563\, United States
ATTACH;FMTTYPE=image/jpeg:https://navarrebeach.com/wp-content/uploads/2024/09/458292461_122146012982269440_7537262693552089097_n-e1725641698792.jpg
END:VEVENT
BEGIN:VEVENT
DTSTART;TZID=UTC:20240820T170000
DTEND;TZID=UTC:20240820T200000
DTSTAMP:20260423T010225
CREATED:20240815T210857Z
LAST-MODIFIED:20240909T205007Z
UID:9852-1724173200-1724184000@navarrebeach.com
SUMMARY:Music Bingo Tuesday Nights
DESCRIPTION:Join us Tuesday nights at Andy D’s on Navarre Beach 5-8 PM for SoundCheck Music Bingo! FREE to Play\, FREE to win!!!! Always a full house so come early! Enjoy Navarre Beach’s best Happy Hour 4-6 PM with 1/2 Price Domestic Bottles and Drafts and $3 Well Drinks and House Wine! Food Specials – 10% OFF for Locals\, 15% OFF for Military/Veterans & First Responders!\n\nWe’ll be doing 4 rounds of music bingo\, so if you like Music and you like Bingo\, then you’re in luck! The fun starts at 5:00 pm\, so bring some friends and make a night of it! Test your song title knowledge of the best music of the 60’s\, 70’s\, 80’s\, 90’s and today!!!\n\nPrizes for ALL winners!
URL:https://navarrebeach.com/event/music-bingo-tuesday-nights/
LOCATION:Andy D’s Beachside Restaurant & Deck Bar\, 8649 Gulf Blvd\, Navarre\, 32566
ATTACH;FMTTYPE=image/jpeg:https://navarrebeach.com/wp-content/uploads/2024/08/430196979_347676781596663_6661000585627206549_n-e1723756036224.jpg
END:VEVENT
BEGIN:VEVENT
DTSTART;TZID=UTC:20240910T170000
DTEND;TZID=UTC:20240910T210000
DTSTAMP:20260423T010225
CREATED:20240905T141612Z
LAST-MODIFIED:20240909T205038Z
UID:10477-1725987600-1726002000@navarrebeach.com
SUMMARY:Firehouse Subs Night
DESCRIPTION:Enjoy a delicious meal and support our school at the same time! When you dine at Firehouse Subs between 5:00 PM and 9:00 PM on Tuesday\, September 10th\, 15% of your order will be donated to the Holley-Navarre Middle School PTSA. Just mention “Holley-Navarre Middle School” when you place your order.
URL:https://navarrebeach.com/event/firehouse-subs-night/
LOCATION:Firehouse Subs Navarre\, 1894 Andorra St Unit C3\, Navarre\, FL\, 32566\, United States
ATTACH;FMTTYPE=image/jpeg:https://navarrebeach.com/wp-content/uploads/2024/09/457226309_1045516477363246_5070666724422135212_n-e1725545768722.jpg
END:VEVENT
END:VCALENDAR