
BEGIN:VCALENDAR
VERSION:2.0
PRODID:-//Navarrebeach.com - ECPv6.15.20//NONSGML v1.0//EN
CALSCALE:GREGORIAN
METHOD:PUBLISH
X-WR-CALNAME:Navarrebeach.com
X-ORIGINAL-URL:https://navarrebeach.com
X-WR-CALDESC:Events for Navarrebeach.com
REFRESH-INTERVAL;VALUE=DURATION:PT1H
X-Robots-Tag:noindex
X-PUBLISHED-TTL:PT1H
BEGIN:VTIMEZONE
TZID:UTC
BEGIN:STANDARD
TZOFFSETFROM:+0000
TZOFFSETTO:+0000
TZNAME:UTC
DTSTART:20230101T000000
END:STANDARD
END:VTIMEZONE
BEGIN:VEVENT
DTSTART;TZID=UTC:20240823T070000
DTEND;TZID=UTC:20240823T230000
DTSTAMP:20260423T010140
CREATED:20240823T201138Z
LAST-MODIFIED:20240823T201138Z
UID:10093-1724396400-1724454000@navarrebeach.com
SUMMARY:Karaoke with DJ Hi-Def
DESCRIPTION:Fun-filled karaoke in the expanded bar at Windjammers on the Pier!
URL:https://navarrebeach.com/event/karaoke-with-dj-hi-def/
LOCATION:Windjammers on the Pier\, 8579 Gulf Blvd\, Navarre\, FL\, 32566\, United States
ATTACH;FMTTYPE=image/png:https://navarrebeach.com/wp-content/uploads/2024/08/shutterstock_2045516012-Converted-01-e1724443884205.png
END:VEVENT
BEGIN:VEVENT
DTSTART;TZID=UTC:20240920T080000
DTEND;TZID=UTC:20240920T170000
DTSTAMP:20260423T010140
CREATED:20240920T190025Z
LAST-MODIFIED:20240920T190025Z
UID:11045-1726819200-1726851600@navarrebeach.com
SUMMARY:2024 Homecoming Walk Out Festivities
DESCRIPTION:Walkout festivities will be announced at a later date!\n\nMake sure you’ve secured your MUM with your Coach!
URL:https://navarrebeach.com/event/2024-homecoming-walk-out-festivities/
LOCATION:Navarre Youth Sports Association\, 8840 High School Blvd\, Navarre\, FL\, 32566\, United States
ATTACH;FMTTYPE=image/jpeg:https://navarrebeach.com/wp-content/uploads/2024/09/458740711_1031499442104505_6487016218757954687_n.jpg
END:VEVENT
BEGIN:VEVENT
DTSTART;TZID=UTC:20240914T083000
DTEND;TZID=UTC:20240914T100000
DTSTAMP:20260423T010140
CREATED:20240905T210128Z
LAST-MODIFIED:20240905T210128Z
UID:10499-1726302600-1726308000@navarrebeach.com
SUMMARY:Painting Tortoise Tracks
DESCRIPTION:The Navarre Beach Sea Turtle Conservation Center presents its newest and sure-to-be most exciting encounter: Painting Tortoise Tracks with Safari the African Spurred Tortoise! This 90-minute long experience takes place behind the scenes where participants in each painting session will be invited into the center for a private guided tour led by one of our Animal Care Team Members. At the end of your tour\, you and Safari will paint a beautiful masterpiece in the most unique and creative way possible by using his favorite snacks to entice him across the canvas and spread three colors of your choosing. This experience is one-of-a-kind\, which makes it an exciting form of enrichment for both Safari and the participants. Check out the video below to see what is in store for you. Register today so you can have your very own original Safari Painting!
URL:https://navarrebeach.com/event/painting-tortoise-tracks/
LOCATION:Navarre Beach Sea Turtle Conservation Center\, 8740 Gulf Blvd\, Navarre\, FL\, 32566\, United States
ATTACH;FMTTYPE=image/jpeg:https://navarrebeach.com/wp-content/uploads/2024/09/458707137_912591294233935_8431337909506767666_n-1-e1725570076190.jpg
END:VEVENT
BEGIN:VEVENT
DTSTART;TZID=UTC:20240920T090000
DTEND;TZID=UTC:20240920T170000
DTSTAMP:20260423T010140
CREATED:20240830T140708Z
LAST-MODIFIED:20240830T140708Z
UID:10291-1726822800-1726851600@navarrebeach.com
SUMMARY:Homeschool Day
DESCRIPTION:Join the Gulf Breeze Zoo for a day of learning a discovery specifically for homeschool students. \nOn Friday\, September 20\, homeschool families can experience a full day of special education programming at the Gulf Breeze Zoo where the classroom will come to life with interactive programs in an exciting learning environment.
URL:https://navarrebeach.com/event/homeschool-day/
LOCATION:Gulf Breeze Zoo\, 5701 Gulf Breeze Pkwy\, Gulf Breeze\, FL\, 32563\, United States
ATTACH;FMTTYPE=image/jpeg:https://navarrebeach.com/wp-content/uploads/2024/08/1709502959-GBZ_2024_Fall-HSD_EventGraphic_1000x550.jpg
END:VEVENT
BEGIN:VEVENT
DTSTART;TZID=UTC:20240920T110000
DTEND;TZID=UTC:20240920T140000
DTSTAMP:20260423T010140
CREATED:20240830T195156Z
LAST-MODIFIED:20240830T195156Z
UID:10298-1726830000-1726840800@navarrebeach.com
SUMMARY:Fish Fry
DESCRIPTION:Fresh fried fish\, mac & cheese\, hush puppies\,  dessert\, coleslaw\, and soda. Please come on out and help support the Senior Center. It’s good old-fashioned fish fry fun. Play games and let the center do the cooking for you. They will sell until food runs out!
URL:https://navarrebeach.com/event/fish-fry/
LOCATION:Holley-Navarre Seniors Association\, 8476 Gordon Goodin Lane\, Navarre\, FL\, 32566\, United States
ATTACH;FMTTYPE=image/jpeg:https://navarrebeach.com/wp-content/uploads/2024/08/shutterstock_2399821733-scaled-e1725047442336.jpg
END:VEVENT
BEGIN:VEVENT
DTSTART;TZID=UTC:20240920T110000
DTEND;TZID=UTC:20240920T170000
DTSTAMP:20260423T010140
CREATED:20240823T210735Z
LAST-MODIFIED:20240823T210735Z
UID:10111-1726830000-1726851600@navarrebeach.com
SUMMARY:Fish Fry-Annual Event
DESCRIPTION:Get your tickets at the center in advance. Cost $13.00 includes Fried fish\, slaw\, macaroni and cheese\, hushpuppies\, soda\, and ice cream.
URL:https://navarrebeach.com/event/fish-fry-annual-event/
LOCATION:Holley-Navarre Seniors Association\, 8476 Gordon Goodin Lane\, Navarre\, FL\, 32566\, United States
ATTACH;FMTTYPE=image/jpeg:https://navarrebeach.com/wp-content/uploads/2024/08/455602419_523106760290830_2931662323343183140_n.jpg
END:VEVENT
BEGIN:VEVENT
DTSTART;TZID=UTC:20240920T160000
DTEND;TZID=UTC:20240921T000000
DTSTAMP:20260423T010140
CREATED:20240904T194639Z
LAST-MODIFIED:20240904T194639Z
UID:10353-1726848000-1726876800@navarrebeach.com
SUMMARY:Live Music at Juana's
DESCRIPTION:If you enjoy live music\, food\, and a beachfront view\, head to Juana’s for a fun night! Jeff Ivanoff and Thin Ice will perform for audiences who enjoy all the Pagodas have to offer!
URL:https://navarrebeach.com/event/live-music-at-juanas-27/
LOCATION:Juanas Pagodas\, 1451 Navarre Beach Causeway\, Navarre\, FL\, 32566\, United States
ATTACH;FMTTYPE=image/png:https://navarrebeach.com/wp-content/uploads/2024/08/juanas-pagodas-exterior-beach.png
END:VEVENT
BEGIN:VEVENT
DTSTART;TZID=UTC:20240816T170000
DTEND;TZID=UTC:20240816T190000
DTSTAMP:20260423T010140
CREATED:20240813T210847Z
LAST-MODIFIED:20240815T211744Z
UID:9707-1723827600-1723834800@navarrebeach.com
SUMMARY:Navarre Beach Cruise In at Andy D’s
DESCRIPTION:Cruise into Andy D’s on Navarre Beach every month this summer on the 3rd Friday\, 5–7 pm. Bring your classic car\, bike\, or jeep\, or just come out and enjoy the rides; we have live music on Andy D’s Deck Stage and extended Happy Hour drink specials from 4–7 pm. Contact TJ Goulet for more information: tjgoulet@andyds.com\, 850-776-8355
URL:https://navarrebeach.com/event/navarre-beach-cruise-in-at-andy-ds/
LOCATION:Andy D’s Beachside Restaurant & Deck Bar\, 8649 Gulf Blvd\, Navarre\, 32566
ATTACH;FMTTYPE=image/jpeg:https://navarrebeach.com/wp-content/uploads/2024/08/Cruise-In-e1723583393288.jpg
END:VEVENT
BEGIN:VEVENT
DTSTART;TZID=UTC:20240913T173000
DTEND;TZID=UTC:20240913T213000
DTSTAMP:20260423T010140
CREATED:20240904T215527Z
LAST-MODIFIED:20240904T215527Z
UID:10464-1726248600-1726263000@navarrebeach.com
SUMMARY:Duhe and Daboys Live
DESCRIPTION:Duhe & Daboys are a 5-piece group that brings a mix of rock and jazz and lots of fun.
URL:https://navarrebeach.com/event/duhe-and-daboys-live/
LOCATION:Andy D’s Beachside Restaurant & Deck Bar\, 8649 Gulf Blvd\, Navarre\, 32566
ATTACH;FMTTYPE=image/jpeg:https://navarrebeach.com/wp-content/uploads/2024/09/451830961_434005982963742_6490923211089149244_n-e1725486922770.jpg
END:VEVENT
END:VCALENDAR