
BEGIN:VCALENDAR
VERSION:2.0
PRODID:-//Navarrebeach.com - ECPv6.15.20//NONSGML v1.0//EN
CALSCALE:GREGORIAN
METHOD:PUBLISH
X-WR-CALNAME:Navarrebeach.com
X-ORIGINAL-URL:https://navarrebeach.com
X-WR-CALDESC:Events for Navarrebeach.com
REFRESH-INTERVAL;VALUE=DURATION:PT1H
X-Robots-Tag:noindex
X-PUBLISHED-TTL:PT1H
BEGIN:VTIMEZONE
TZID:UTC
BEGIN:STANDARD
TZOFFSETFROM:+0000
TZOFFSETTO:+0000
TZNAME:UTC
DTSTART:20230101T000000
END:STANDARD
END:VTIMEZONE
BEGIN:VEVENT
DTSTART;TZID=UTC:20240921T080000
DTEND;TZID=UTC:20240921T100000
DTSTAMP:20260423T010140
CREATED:20240906T213202Z
LAST-MODIFIED:20240906T213202Z
UID:10598-1726905600-1726912800@navarrebeach.com
SUMMARY:International Coastal Clean-up Trash Bash
DESCRIPTION:The NBSTCC has partnered with the National Oceanic and Atmospheric Administration and Loggerhead Marine Life Center on a marine debris cleanup initiative. \nThe Trash Bash was the idea of one of our volunteers and originally began as a local beach cleanup.  It has expanded into a global effort to collect data on marine debris and its effect on marine life\, specifically sea turtles. \nThis is a Citizen Science Program that allows volunteers from all walks of life to participate and take an active role in the war against marine debris. \nVolunteers collect trash from different areas along the 4.5 miles of Navarre Beach and record data that is forwarded to state and federal agencies.
URL:https://navarrebeach.com/event/international-coastal-clean-up-trash-bash/
LOCATION:Navarre Beach Sea Turtle Conservation Center\, 8740 Gulf Blvd\, Navarre\, FL\, 32566\, United States
ATTACH;FMTTYPE=image/jpeg:https://navarrebeach.com/wp-content/uploads/2024/09/458086208_911258337700564_3264901316947463267_n-e1725658314619.jpg
END:VEVENT
BEGIN:VEVENT
DTSTART;TZID=UTC:20240907T090000
DTEND;TZID=UTC:20240907T140000
DTSTAMP:20260423T010140
CREATED:20240904T190819Z
LAST-MODIFIED:20240904T192651Z
UID:10309-1725699600-1725717600@navarrebeach.com
SUMMARY:Hwy 87 Market at Sand Dollar Plaza
DESCRIPTION:Highway 87 Market is an outdoor market\, held the 1st and 3rd Saturday of each month\, across multiple venues on Highway 87 in Navarre. In Sand Dollar Plaza market vendors will set up at the back of the plaza. In addition\, the merchants of Sand Dollar Plaza will be featuring various products and specials\, as they do each week for Sand Dollar Saturday.
URL:https://navarrebeach.com/event/hwy-87-market-at-sand-dollar-plaza/
LOCATION:Sand Dollar Plaza\, 1900 Highway 87\, Navarre\, FL\, 32566\, United States
ATTACH;FMTTYPE=image/jpeg:https://navarrebeach.com/wp-content/uploads/2024/09/245809550_4737455279618335_3685230664561647587_n-e1725476895222.jpg
ORGANIZER;CN="Hwy 87 Market & Sand Dollar Saturday":MAILTO:SandDollarSaturday@gmail.com
END:VEVENT
BEGIN:VEVENT
DTSTART;TZID=UTC:20240921T090000
DTEND;TZID=UTC:20240921T140000
DTSTAMP:20260423T010141
CREATED:20240925T200553Z
LAST-MODIFIED:20240925T200553Z
UID:11123-1726909200-1726927200@navarrebeach.com
SUMMARY:Outdoor Market at Pik-itz
DESCRIPTION:Have you heard the news? The Highway 87 Outdoor Market at Pik-itz is now open EVERY Saturday. Come out and get your produce\, baked goods and gifts.
URL:https://navarrebeach.com/event/outdoor-market-at-pik-itz/
LOCATION:Pik-itz Art & Antiques\, 1922 Highway 87\, Navarre\, FL\, 32566\, United States
ATTACH;FMTTYPE=image/jpeg:https://navarrebeach.com/wp-content/uploads/2024/09/458197344_1240070946972461_1019733293365955796_n.jpg
END:VEVENT
BEGIN:VEVENT
DTSTART;TZID=UTC:20240907T100000
DTEND;TZID=UTC:20240907T150000
DTSTAMP:20260423T010141
CREATED:20240904T211722Z
LAST-MODIFIED:20240904T211722Z
UID:10416-1725703200-1725721200@navarrebeach.com
SUMMARY:Beachfront Weekend Brunch
DESCRIPTION:Join Beach House Social every Saturday and Sunday from 10 AM to 3 PM for the ultimate beachfront brunch experience at Beach House Social! Indulge in $15 bottomless mimosas as you savor their mouthwatering menu of brunch favorites\, including our famous Cinnamon Roll Skillet\, decadent Turtle French Toast\, savory Pulled Pork Honey Biscuit\, classic Shrimp & Grits\, and so much more.\n\nWhether you’re catching up with friends\, enjoying a family outing\, or simply soaking up the ocean views\, their Weekend Brunch is the perfect way to start your day. Don’t miss out on this delicious beachfront tradition!
URL:https://navarrebeach.com/event/beachfront-weekend-brunch/
LOCATION:Beach House Social\, 8375 Gulf Blvd\, Navarre Beach\, FL\, 32566\, United States
ATTACH;FMTTYPE=image/jpeg:https://navarrebeach.com/wp-content/uploads/2024/09/457223765_1036346411826814_8167559716006578700_n.jpg
END:VEVENT
BEGIN:VEVENT
DTSTART;TZID=UTC:20240921T110000
DTEND;TZID=UTC:20240921T110000
DTSTAMP:20260423T010141
CREATED:20240904T214145Z
LAST-MODIFIED:20240904T214145Z
UID:10449-1726916400-1726916400@navarrebeach.com
SUMMARY:The Little Black Dress Project
DESCRIPTION:An 8-week program designed to help women feel and look amazing\, including a success manual\, recipe manual\, weekly meal guides\, nutrition swap guide\, measurement worksheet\, goal-setting worksheet\, portion control guides\, and unlimited classes at the Iron Lady 98 location\, with a beginning and end weigh-in and measurement party\, and a special offer of two additional weeks of UNLIMITED workouts included in the cost.
URL:https://navarrebeach.com/event/the-little-black-dress-project/
LOCATION:Iron Lady Fitness\, 8177 East Bay Blvd\, Navarre\, FL\, 32566\, United States
ATTACH;FMTTYPE=image/jpeg:https://navarrebeach.com/wp-content/uploads/2024/09/455250405_1020766290055423_6612155064631046789_n.jpg
END:VEVENT
BEGIN:VEVENT
DTSTART;TZID=UTC:20240921T110000
DTEND;TZID=UTC:20240921T110000
DTSTAMP:20260423T010141
CREATED:20240906T171951Z
LAST-MODIFIED:20240906T171951Z
UID:10522-1726916400-1726916400@navarrebeach.com
SUMMARY:Adoption Event
DESCRIPTION:Join Road Dogg Rescue for an adoption event at the eatery in Gulf breeze. Located off Highway 98 on Woodlawn Way\, this family-friendly (and dog-friendly) food truck park features up to seven of the finest\, independently-owned food trucks along the Gulf Coast
URL:https://navarrebeach.com/event/adoption-event/
LOCATION:The Eatery\, 1713 Woodlawn Way\, Gulf Breeze\, FL\, 32563\, United States
ATTACH;FMTTYPE=image/png:https://navarrebeach.com/wp-content/uploads/2024/09/Untitled-1.png
END:VEVENT
BEGIN:VEVENT
DTSTART;TZID=UTC:20240921T160000
DTEND;TZID=UTC:20240922T000000
DTSTAMP:20260423T010141
CREATED:20240904T194747Z
LAST-MODIFIED:20240904T194747Z
UID:10355-1726934400-1726963200@navarrebeach.com
SUMMARY:Live Music at Juana's
DESCRIPTION:If you enjoy live music\, food\, and a beachfront view\, head to Juana’s for a fun night! Rick Wilson and Thin Ice will perform for audiences who enjoy all the Pagodas have to offer!
URL:https://navarrebeach.com/event/live-music-at-juanas-28/
LOCATION:Juanas Pagodas\, 1451 Navarre Beach Causeway\, Navarre\, FL\, 32566\, United States
ATTACH;FMTTYPE=image/png:https://navarrebeach.com/wp-content/uploads/2024/08/juanas-pagodas-exterior-beach.png
END:VEVENT
END:VCALENDAR