
BEGIN:VCALENDAR
VERSION:2.0
PRODID:-//Navarrebeach.com - ECPv6.15.20//NONSGML v1.0//EN
CALSCALE:GREGORIAN
METHOD:PUBLISH
X-ORIGINAL-URL:https://navarrebeach.com
X-WR-CALDESC:Events for Navarrebeach.com
REFRESH-INTERVAL;VALUE=DURATION:PT1H
X-Robots-Tag:noindex
X-PUBLISHED-TTL:PT1H
BEGIN:VTIMEZONE
TZID:UTC
BEGIN:STANDARD
TZOFFSETFROM:+0000
TZOFFSETTO:+0000
TZNAME:UTC
DTSTART:20230101T000000
END:STANDARD
END:VTIMEZONE
BEGIN:VEVENT
DTSTART;TZID=UTC:20240925T110000
DTEND;TZID=UTC:20240929T230000
DTSTAMP:20260423T035854
CREATED:20240904T210051Z
LAST-MODIFIED:20240904T210051Z
UID:10400-1727262000-1727650800@navarrebeach.com
SUMMARY:Five Days of Oktoberfest
DESCRIPTION:Ye Olde Brothers Brewery and Relax in Navarre Beach are having five days of Oktoberfest beginning on 9/25/24 through 9/29/24. They have 6-German Lagers and 2-German Ales on tap for $5.00 a Pint. They have shape your own Pretzels\, as well as 51/2″pre-shaped. Also\, we will have 1/4 lb German bratwurst sausages in a Philly Bun. NO ENTRY FEE
URL:https://navarrebeach.com/event/five-days-of-oktoberfest/
LOCATION:Ye Olde Brothers Brewery\, 4458 Highway 87\, Navarre\, FL\, 32566\, United States
ATTACH;FMTTYPE=image/jpeg:https://navarrebeach.com/wp-content/uploads/2024/09/456374504_940233401454779_5876290744416889806_n.jpg
END:VEVENT
BEGIN:VEVENT
DTSTART;TZID=UTC:20240823T070000
DTEND;TZID=UTC:20240823T230000
DTSTAMP:20260423T035854
CREATED:20240823T201138Z
LAST-MODIFIED:20240823T201138Z
UID:10093-1724396400-1724454000@navarrebeach.com
SUMMARY:Karaoke with DJ Hi-Def
DESCRIPTION:Fun-filled karaoke in the expanded bar at Windjammers on the Pier!
URL:https://navarrebeach.com/event/karaoke-with-dj-hi-def/
LOCATION:Windjammers on the Pier\, 8579 Gulf Blvd\, Navarre\, FL\, 32566\, United States
ATTACH;FMTTYPE=image/png:https://navarrebeach.com/wp-content/uploads/2024/08/shutterstock_2045516012-Converted-01-e1724443884205.png
END:VEVENT
BEGIN:VEVENT
DTSTART;TZID=UTC:20240927T160000
DTEND;TZID=UTC:20240928T000000
DTSTAMP:20260423T035854
CREATED:20240904T195141Z
LAST-MODIFIED:20240904T195141Z
UID:10363-1727452800-1727481600@navarrebeach.com
SUMMARY:Live Music at Juana's
DESCRIPTION:If you enjoy live music\, food\, and a beachfront view\, head to Juana’s for a fun night! Jeff Ivanoff and Dad Bod will perform for audiences who want to see all the Pagodas have to offer!
URL:https://navarrebeach.com/event/live-music-at-juanas-32/
LOCATION:Juanas Pagodas\, 1451 Navarre Beach Causeway\, Navarre\, FL\, 32566\, United States
ATTACH;FMTTYPE=image/png:https://navarrebeach.com/wp-content/uploads/2024/08/juanas-pagodas-exterior-beach.png
END:VEVENT
BEGIN:VEVENT
DTSTART;TZID=UTC:20240906T180000
DTEND;TZID=UTC:20240906T220000
DTSTAMP:20260423T035854
CREATED:20240904T212859Z
LAST-MODIFIED:20240904T212859Z
UID:10426-1725645600-1725660000@navarrebeach.com
SUMMARY:Tribe Zion Lie a Andy D's
DESCRIPTION:Andy D’s is super excited to have Tribe Zion playing the deck stage again. Their blend of Reggae\, Hip-hop & Rock with a lil funk\, blues & soul on the side is always a good time.
URL:https://navarrebeach.com/event/tribe-zion-lie-a-andy-ds/
LOCATION:Andy D’s Beachside Restaurant & Deck Bar\, 8649 Gulf Blvd\, Navarre\, 32566
ATTACH;FMTTYPE=image/jpeg:https://navarrebeach.com/wp-content/uploads/2024/09/421265650_321990874165254_191360190298222607_n-e1725485311300.jpg
END:VEVENT
END:VCALENDAR