
BEGIN:VCALENDAR
VERSION:2.0
PRODID:-//Navarrebeach.com - ECPv6.15.20//NONSGML v1.0//EN
CALSCALE:GREGORIAN
METHOD:PUBLISH
X-WR-CALNAME:Navarrebeach.com
X-ORIGINAL-URL:https://navarrebeach.com
X-WR-CALDESC:Events for Navarrebeach.com
REFRESH-INTERVAL;VALUE=DURATION:PT1H
X-Robots-Tag:noindex
X-PUBLISHED-TTL:PT1H
BEGIN:VTIMEZONE
TZID:UTC
BEGIN:STANDARD
TZOFFSETFROM:+0000
TZOFFSETTO:+0000
TZNAME:UTC
DTSTART:20230101T000000
END:STANDARD
END:VTIMEZONE
BEGIN:VEVENT
DTSTART;TZID=UTC:20240823T070000
DTEND;TZID=UTC:20240823T230000
DTSTAMP:20260422T232334
CREATED:20240823T201138Z
LAST-MODIFIED:20240823T201138Z
UID:10093-1724396400-1724454000@navarrebeach.com
SUMMARY:Karaoke with DJ Hi-Def
DESCRIPTION:Fun-filled karaoke in the expanded bar at Windjammers on the Pier!
URL:https://navarrebeach.com/event/karaoke-with-dj-hi-def/
LOCATION:Windjammers on the Pier\, 8579 Gulf Blvd\, Navarre\, FL\, 32566\, United States
ATTACH;FMTTYPE=image/png:https://navarrebeach.com/wp-content/uploads/2024/08/shutterstock_2045516012-Converted-01-e1724443884205.png
END:VEVENT
BEGIN:VEVENT
DTSTART;TZID=UTC:20241011T153000
DTEND;TZID=UTC:20241011T163000
DTSTAMP:20260422T232335
CREATED:20240920T191032Z
LAST-MODIFIED:20240920T191032Z
UID:11054-1728660600-1728664200@navarrebeach.com
SUMMARY:Local Tooth Fairy Book Reading & Experience
DESCRIPTION:The local author who wrote\, The Bristle Whistle\, is coming to Go Play & Party for a Tooth Fairy Experience.\n\nShe’ll come in character as a tooth fairy and read the beautifully crafted interactive story about how children who lose their teeth let their fairies know.\n\nThis is an interactive experience. Children will be allowed to ask questions\, take pictures and do some crafting with the tooth fairy. Children are encouraged to dress like fairies/princesses for the visit.\n\nThis experience is covered with regular admission. Members are free.
URL:https://navarrebeach.com/event/local-tooth-fairy-book-reading-experience/
LOCATION:Go Play & Party\, 5680 Gulf Breeze Pkwy Suite D-11\, Gulf Breeze\, FL\, 32563\, United States
ATTACH;FMTTYPE=image/jpeg:https://navarrebeach.com/wp-content/uploads/2024/09/460840003_122149451828269440_8258689148038321638_n.jpg
END:VEVENT
BEGIN:VEVENT
DTSTART;TZID=UTC:20241011T160000
DTEND;TZID=UTC:20241012T000000
DTSTAMP:20260422T232335
CREATED:20241008T200057Z
LAST-MODIFIED:20241008T200057Z
UID:11211-1728662400-1728691200@navarrebeach.com
SUMMARY:Live Music at Juana's
DESCRIPTION:If you enjoy live music\, food\, and a beachfront view\, head to Juana’s for a fun night! Stevie Hall and Thin Ice will perform for audiences who want to enjoy all the Pagodas have to offer!
URL:https://navarrebeach.com/event/live-music-at-juanas-39/
LOCATION:Juanas Pagodas\, 1451 Navarre Beach Causeway\, Navarre\, FL\, 32566\, United States
ATTACH;FMTTYPE=image/png:https://navarrebeach.com/wp-content/uploads/2024/08/juanas-pagodas-exterior-beach.png
END:VEVENT
BEGIN:VEVENT
DTSTART;TZID=UTC:20240816T170000
DTEND;TZID=UTC:20240816T190000
DTSTAMP:20260422T232335
CREATED:20240813T210847Z
LAST-MODIFIED:20240815T211744Z
UID:9707-1723827600-1723834800@navarrebeach.com
SUMMARY:Navarre Beach Cruise In at Andy D’s
DESCRIPTION:Cruise into Andy D’s on Navarre Beach every month this summer on the 3rd Friday\, 5–7 pm. Bring your classic car\, bike\, or jeep\, or just come out and enjoy the rides; we have live music on Andy D’s Deck Stage and extended Happy Hour drink specials from 4–7 pm. Contact TJ Goulet for more information: tjgoulet@andyds.com\, 850-776-8355
URL:https://navarrebeach.com/event/navarre-beach-cruise-in-at-andy-ds/
LOCATION:Andy D’s Beachside Restaurant & Deck Bar\, 8649 Gulf Blvd\, Navarre\, 32566
ATTACH;FMTTYPE=image/jpeg:https://navarrebeach.com/wp-content/uploads/2024/08/Cruise-In-e1723583393288.jpg
END:VEVENT
BEGIN:VEVENT
DTSTART;TZID=UTC:20241011T180000
DTEND;TZID=UTC:20241011T180000
DTSTAMP:20260422T232335
CREATED:20241002T190533Z
LAST-MODIFIED:20241002T190533Z
UID:11178-1728669600-1728669600@navarrebeach.com
SUMMARY:Josh Davis Live at Stripes Pub and Grille
DESCRIPTION:Josh Davis is a National Touring Musician\, nominated for the prestigious Josie Music Awards Artist of the Year . He is a combat disabled veteran and rising country star who will be playing Outlaw and Classic Country Music. His music is streaming on Spotify\, Apple\, Amazon and everywhere else. Check out Josh’s popular songs\, “Outlaw Queen” and “Heartbeat.”
URL:https://navarrebeach.com/event/josh-davis-live-at-stripes-pub-and-grille/
LOCATION:Stripes Pub & Grill\, 1878 Andorra St\, Navarre\, FL\, 32566\, United States
ATTACH;FMTTYPE=image/jpeg:https://navarrebeach.com/wp-content/uploads/2024/10/441290550_461046416448869_8570124419148751551_n.jpg
END:VEVENT
BEGIN:VEVENT
DTSTART;TZID=UTC:20241011T190000
DTEND;TZID=UTC:20241011T203000
DTSTAMP:20260422T232335
CREATED:20241002T191407Z
LAST-MODIFIED:20241002T191407Z
UID:11190-1728673200-1728678600@navarrebeach.com
SUMMARY:WOMEN ONLY Self Defense Class
DESCRIPTION:Open to ALL females 12 years and older!! $10 per female. Precision Martial Arts of Navarre will be here to teach us some self defense moves in a comfortable setting and have some fun!!
URL:https://navarrebeach.com/event/women-only-self-defense-class/
LOCATION:Coastal Fitness\, 6057 Gulf Breeze Pkwy\, Gulf Breeze\, FL\, 32563\, United States
ATTACH;FMTTYPE=image/jpeg:https://navarrebeach.com/wp-content/uploads/2024/10/461263692_1041466264647622_5474715113354197313_n.jpg
END:VEVENT
BEGIN:VEVENT
DTSTART;TZID=UTC:20241011T190000
DTEND;TZID=UTC:20241011T220000
DTSTAMP:20260422T232335
CREATED:20240904T205144Z
LAST-MODIFIED:20240904T205144Z
UID:10388-1728673200-1728684000@navarrebeach.com
SUMMARY:Fear Forest 2024
DESCRIPTION:Face your Fears at this haunted charity event where you will find something for all ages.
URL:https://navarrebeach.com/event/fear-forest-2024/
LOCATION:Fear Forest of Navarre\, 2111 Presidio St.\, Navarre\, FL\, 32566\, United States
ATTACH;FMTTYPE=image/jpeg:https://navarrebeach.com/wp-content/uploads/2024/09/456897248_468884749458450_2519341426028551286_n-e1725483099392.jpg
END:VEVENT
BEGIN:VEVENT
DTSTART;TZID=UTC:20241011T233000
DTEND;TZID=UTC:20241011T233000
DTSTAMP:20260422T232335
CREATED:20240924T202810Z
LAST-MODIFIED:20240924T202810Z
UID:11106-1728689400-1728689400@navarrebeach.com
SUMMARY:25th Annual Optimist Club Golf Tournament
DESCRIPTION:This is the Gulf Breeze Optimist Club second fundraiser. There are several ways to participate.1. Buy a T-sign with your company or family logo on it.2. Play in the tournament3. Play in the tournament and sponsor a T-sign4. Play in the tournament and purchase 2 T-signs. or5. Be a hold sponsor. details at our web site. https://www.gulfbreezeoptimistclub.org/copy-of-golf…\n\nRegistration starts at 11:00am\, Opening ceremonies at 12:15\, shotgun start at 1pm.
URL:https://navarrebeach.com/event/25th-annual-optimist-club-golf-tournament/
LOCATION:The Club at Hidden Creek\, 3070 P.G.A Blvd\, Navarre\, FL\, 32566\, United States
ATTACH;FMTTYPE=image/jpeg:https://navarrebeach.com/wp-content/uploads/2024/09/450793153_801541748774325_34997502190975638_n-scaled.jpg
END:VEVENT
END:VCALENDAR