
BEGIN:VCALENDAR
VERSION:2.0
PRODID:-//Navarrebeach.com - ECPv6.15.20//NONSGML v1.0//EN
CALSCALE:GREGORIAN
METHOD:PUBLISH
X-ORIGINAL-URL:https://navarrebeach.com
X-WR-CALDESC:Events for Navarrebeach.com
REFRESH-INTERVAL;VALUE=DURATION:PT1H
X-Robots-Tag:noindex
X-PUBLISHED-TTL:PT1H
BEGIN:VTIMEZONE
TZID:UTC
BEGIN:STANDARD
TZOFFSETFROM:+0000
TZOFFSETTO:+0000
TZNAME:UTC
DTSTART:20230101T000000
END:STANDARD
END:VTIMEZONE
BEGIN:VEVENT
DTSTART;TZID=UTC:20240919T110000
DTEND;TZID=UTC:20240919T112000
DTSTAMP:20260423T010220
CREATED:20240906T200520Z
LAST-MODIFIED:20240906T200520Z
UID:10588-1726743600-1726744800@navarrebeach.com
SUMMARY:Toddler Time
DESCRIPTION:Toddler Time is a program for children ages 18 to 36 months who attend with a caregiver. One child and one adult register together for songs\, stories\, rhymes\, and other fun activities. These interactions will be one-on-one; therefore\, each child must attend with a separate caregiver. You will also be given ideas to use at home which reinforce the theme for the day. This program lasts 20 minutes.\n\nToddler Time requires registration; space is limited. It is not a drop-in program. Registration begins August 19 at your library; visit your library for a registration form.\n\nThe fall session of Toddler Time runs from September 16 – December 6. Speak with a staff member for more information.\n\nThemes:\nSeptember 19 – PumpkinsSeptember 26 – Feathered FriendsOctober 3 – BedtimeOctober 10 – Fast and SlowOctober 17 – FoodOctober 24 – CatsOctober 31 – Animal Guessing GamesNovember 7 – FallNovember 14 – Nursery RhymesNovember 21 – BoatsNovember 28 – NO TODDLER TIME – ThanksgivingDecember 5 – Monkeys
URL:https://navarrebeach.com/event/toddler-time/
LOCATION:The Navarre Library\, 8484 James M. Harvell Rd\, Navarre\, FL\, 32566\, United States
ATTACH;FMTTYPE=image/jpeg:https://navarrebeach.com/wp-content/uploads/2024/09/455616295_901551101998759_3828521961904255748_n.jpg
END:VEVENT
BEGIN:VEVENT
DTSTART;TZID=UTC:20240815T160000
DTEND;TZID=UTC:20240815T170000
DTSTAMP:20260423T010220
CREATED:20240815T211414Z
LAST-MODIFIED:20240815T211414Z
UID:9859-1723737600-1723741200@navarrebeach.com
SUMMARY:STEAMaker
DESCRIPTION:Tweens and teens ages 10-17 interested in robotics\, coding\, and other tech are invited to join our STEAMaker tech club. Beginners through expert level welcome! Sign-up is required.
URL:https://navarrebeach.com/event/steamaker/
LOCATION:The Navarre Library\, 8484 James M. Harvell Rd\, Navarre\, FL\, 32566\, United States
ATTACH;FMTTYPE=image/jpeg:https://navarrebeach.com/wp-content/uploads/2024/08/412717629_752943953526142_8348299021745026276_n-e1723756443641.jpg
END:VEVENT
BEGIN:VEVENT
DTSTART;TZID=UTC:20240905T180000
DTEND;TZID=UTC:20240905T180000
DTSTAMP:20260423T010220
CREATED:20240904T200828Z
LAST-MODIFIED:20240904T200828Z
UID:10378-1725559200-1725559200@navarrebeach.com
SUMMARY:TRIVIA at The Grey Taproom
DESCRIPTION:Get ready for a brain-teasing good time! Join The Taproom every Thursday at 6 pm for Trivia Night! Gather your team\, show off your knowledge\, and compete for fantastic prizes. It’s the ultimate test of wits and loads of fun – see you there!
URL:https://navarrebeach.com/event/trivia-at-the-grey-taproom-2/
LOCATION:The Grey Taproom\, 7622 Navarre Pkwy\, Navarre\, FL\, 32566\, United States
ATTACH;FMTTYPE=image/png:https://navarrebeach.com/wp-content/uploads/2024/08/Untitled-2-e1723668569766.png
END:VEVENT
BEGIN:VEVENT
DTSTART;TZID=UTC:20241017T180000
DTEND;TZID=UTC:20241017T200000
DTSTAMP:20260423T010220
CREATED:20240904T213100Z
LAST-MODIFIED:20240904T213100Z
UID:10430-1729188000-1729195200@navarrebeach.com
SUMMARY:Plant Swap
DESCRIPTION:Join St. Michael’s for a plant swap in the beer garden.\n\nBring in a plant or propagation of your favorite plant to swap with your new green thumb friends. Be sure to include care instruction with your plants.\n\nMaster Gardener\, Sarah Hurd\, from the University of Florida Institute of Food and Agricultural Sciences will be joining us for loads of gardening knowledge.
URL:https://navarrebeach.com/event/plant-swap/
LOCATION:St. Michael’s Brewing Company\, 2199 FL-87\, Navarre\, FL\, 32566\, United States
ATTACH;FMTTYPE=image/jpeg:https://navarrebeach.com/wp-content/uploads/2024/09/457548239_1038964621434076_7666908578249593549_n-e1725485452869.jpg
END:VEVENT
END:VCALENDAR