
BEGIN:VCALENDAR
VERSION:2.0
PRODID:-//Navarrebeach.com - ECPv6.15.20//NONSGML v1.0//EN
CALSCALE:GREGORIAN
METHOD:PUBLISH
X-ORIGINAL-URL:https://navarrebeach.com
X-WR-CALDESC:Events for Navarrebeach.com
REFRESH-INTERVAL;VALUE=DURATION:PT1H
X-Robots-Tag:noindex
X-PUBLISHED-TTL:PT1H
BEGIN:VTIMEZONE
TZID:UTC
BEGIN:STANDARD
TZOFFSETFROM:+0000
TZOFFSETTO:+0000
TZNAME:UTC
DTSTART:20230101T000000
END:STANDARD
END:VTIMEZONE
BEGIN:VEVENT
DTSTART;TZID=UTC:20241031T080000
DTEND;TZID=UTC:20241031T080000
DTSTAMP:20260422T170612
CREATED:20241002T190151Z
LAST-MODIFIED:20241002T190151Z
UID:11172-1730361600-1730361600@navarrebeach.com
SUMMARY:WNP Character Dress Up Day!
DESCRIPTION:It’s time for WNP’s annual Character Dress Up Day! Students may wear school-appropriate costumes with PE shoes! Masks and weapons will not be allowed.
URL:https://navarrebeach.com/event/wnp-character-dress-up-day/
LOCATION:West Navarre Primary School\, 1955 Lowe Rd.\, Navarre\, FL\, 32566\, United States
ATTACH;FMTTYPE=image/jpeg:https://navarrebeach.com/wp-content/uploads/2024/10/461563182_1080475684077719_5262014067677699802_n.jpg
END:VEVENT
BEGIN:VEVENT
DTSTART;TZID=UTC:20240919T110000
DTEND;TZID=UTC:20240919T112000
DTSTAMP:20260422T170612
CREATED:20240906T200520Z
LAST-MODIFIED:20240906T200520Z
UID:10588-1726743600-1726744800@navarrebeach.com
SUMMARY:Toddler Time
DESCRIPTION:Toddler Time is a program for children ages 18 to 36 months who attend with a caregiver. One child and one adult register together for songs\, stories\, rhymes\, and other fun activities. These interactions will be one-on-one; therefore\, each child must attend with a separate caregiver. You will also be given ideas to use at home which reinforce the theme for the day. This program lasts 20 minutes.\n\nToddler Time requires registration; space is limited. It is not a drop-in program. Registration begins August 19 at your library; visit your library for a registration form.\n\nThe fall session of Toddler Time runs from September 16 – December 6. Speak with a staff member for more information.\n\nThemes:\nSeptember 19 – PumpkinsSeptember 26 – Feathered FriendsOctober 3 – BedtimeOctober 10 – Fast and SlowOctober 17 – FoodOctober 24 – CatsOctober 31 – Animal Guessing GamesNovember 7 – FallNovember 14 – Nursery RhymesNovember 21 – BoatsNovember 28 – NO TODDLER TIME – ThanksgivingDecember 5 – Monkeys
URL:https://navarrebeach.com/event/toddler-time/
LOCATION:The Navarre Library\, 8484 James M. Harvell Rd\, Navarre\, FL\, 32566\, United States
ATTACH;FMTTYPE=image/jpeg:https://navarrebeach.com/wp-content/uploads/2024/09/455616295_901551101998759_3828521961904255748_n.jpg
END:VEVENT
BEGIN:VEVENT
DTSTART;TZID=UTC:20241031T160000
DTEND;TZID=UTC:20241031T160000
DTSTAMP:20260422T170612
CREATED:20241023T212615Z
LAST-MODIFIED:20241023T212615Z
UID:11290-1730390400-1730390400@navarrebeach.com
SUMMARY:1st Annual Halloween Bash at the Grillehouse
DESCRIPTION:Join Us for a Spooktacular Night at The Grillehouse (Outside Bar) on October 31st for our 1st Annual Halloween Bash! Enjoy Live Music\, Delicious Food & Drinks\, Bounce House/Inflatables\, Candy\, Prizes\, and Costume Contests for Adults\, Children\, AND Pets!\n\nKids wearing a costume eat FREE with the purchase of an adult entree.\n\nDon’t miss out on this fun-filled event! Mark your calendars and get ready to celebrate Halloween in style.
URL:https://navarrebeach.com/event/1st-annual-halloween-bash-at-the-grillehouse/
LOCATION:The Grillehouse Steak & Seafood Navarre\, 8491 Navarre Parkway\, Navarre\, FL\, 32566\, United States
ATTACH;FMTTYPE=image/jpeg:https://navarrebeach.com/wp-content/uploads/2024/10/463405426_527917086645258_5057378480405386129_n.jpg
END:VEVENT
BEGIN:VEVENT
DTSTART;TZID=UTC:20241030T193000
DTEND;TZID=UTC:20241030T213000
DTSTAMP:20260422T170612
CREATED:20241010T153726Z
LAST-MODIFIED:20241010T153726Z
UID:11219-1730316600-1730323800@navarrebeach.com
SUMMARY:Castle Haunt
DESCRIPTION:On October 30th & 31st from 7:30pm-9:30pm\, join us for our 2nd annual complimentary Halloween experience like no other! Castle Haunt is presented by first responders\, teachers & retired military personnel. \nPrepare to be thrilled & terrified as you explore 7 scare rooms\, encounter over 15 live characters as well as several life-sized animatronics & eerie music to keep you on edge. This is the perfect opportunity to embrace the spirit of Halloween & create unforgettable memories with your family & friends. Don’t worry about going home empty handed\, there will be plenty of candy & treats for everyone. \nPlease note that children 10 & under must be accompanied by an adult for their safety & enjoyment.
URL:https://navarrebeach.com/event/castle-haunt/
LOCATION:Castle Haunt\, 2770 Rosemont Dr\, Navarre\, FL\, 32566-3103\, United States
ATTACH;FMTTYPE=image/jpeg:https://navarrebeach.com/wp-content/uploads/2024/10/461354145_122102854376542903_8948123592334530046_n.jpg
END:VEVENT
END:VCALENDAR