
BEGIN:VCALENDAR
VERSION:2.0
PRODID:-//Navarrebeach.com - ECPv6.15.20//NONSGML v1.0//EN
CALSCALE:GREGORIAN
METHOD:PUBLISH
X-WR-CALNAME:Navarrebeach.com
X-ORIGINAL-URL:https://navarrebeach.com
X-WR-CALDESC:Events for Navarrebeach.com
REFRESH-INTERVAL;VALUE=DURATION:PT1H
X-Robots-Tag:noindex
X-PUBLISHED-TTL:PT1H
BEGIN:VTIMEZONE
TZID:UTC
BEGIN:STANDARD
TZOFFSETFROM:+0000
TZOFFSETTO:+0000
TZNAME:UTC
DTSTART:20230101T000000
END:STANDARD
END:VTIMEZONE
BEGIN:VEVENT
DTSTART;TZID=UTC:20241107T090000
DTEND;TZID=UTC:20241108T110000
DTSTAMP:20260422T170607
CREATED:20241114T211721Z
LAST-MODIFIED:20241114T211721Z
UID:11378-1730970000-1731063600@navarrebeach.com
SUMMARY:Breakfast with Santa at Navarre UMC
DESCRIPTION:Feast on Bacon and pancakes and get your picture taken with the big man himself.
URL:https://navarrebeach.com/event/breakfast-with-santa-at-navarre-umc/
LOCATION:Navarre United Methodist Church\, 9474 Navarre Pkwy\, Navarre\, FL\, 32566\, United States
ATTACH;FMTTYPE=image/jpeg:https://navarrebeach.com/wp-content/uploads/2024/11/466099377_978137827682696_5069143251388550747_n.jpg
END:VEVENT
BEGIN:VEVENT
DTSTART;TZID=UTC:20241108T160000
DTEND;TZID=UTC:20241108T170000
DTSTAMP:20260422T170607
CREATED:20241104T205157Z
LAST-MODIFIED:20241104T205157Z
UID:11354-1731081600-1731085200@navarrebeach.com
SUMMARY:Santa on the Beach by the Navarre Pier
DESCRIPTION:Walk beside Windjammers on left side of the pier and we will be there by the water. Santa and Katt Mac Photographer will be waiting for you. Please have ready your email address\, phone number\, and form of payment. Cash\, Zelle\, or Venmo. There will be a sign up sheet available. \n5 edited pics with Santa for $60.00 No appt necessary \nWalk ups anytime between 4- 5 \nGet your pics early for your family and friends!
URL:https://navarrebeach.com/event/santa-on-the-beach-by-the-navarre-pier/
LOCATION:Navarre Beach Pier\, 8579 Gulf Blvd\, Navarre\, FL\, 32566\, United States
ATTACH;FMTTYPE=image/jpeg:https://navarrebeach.com/wp-content/uploads/2024/11/465139289_554239363963670_2924412762789903063_n.jpg
END:VEVENT
END:VCALENDAR