
BEGIN:VCALENDAR
VERSION:2.0
PRODID:-//Navarrebeach.com - ECPv6.15.20//NONSGML v1.0//EN
CALSCALE:GREGORIAN
METHOD:PUBLISH
X-WR-CALNAME:Navarrebeach.com
X-ORIGINAL-URL:https://navarrebeach.com
X-WR-CALDESC:Events for Navarrebeach.com
REFRESH-INTERVAL;VALUE=DURATION:PT1H
X-Robots-Tag:noindex
X-PUBLISHED-TTL:PT1H
BEGIN:VTIMEZONE
TZID:UTC
BEGIN:STANDARD
TZOFFSETFROM:+0000
TZOFFSETTO:+0000
TZNAME:UTC
DTSTART:20230101T000000
END:STANDARD
END:VTIMEZONE
BEGIN:VEVENT
DTSTART;TZID=UTC:20241122T080000
DTEND;TZID=UTC:20241123T150000
DTSTAMP:20260422T170601
CREATED:20240924T202306Z
LAST-MODIFIED:20241022T215330Z
UID:11095-1732262400-1732374000@navarrebeach.com
SUMMARY:Gulf Coast Friends Craft Fair
DESCRIPTION:Gulf Coast Friends annual Craft Fair is scheduled just in time for Christmas shopping! This event is free and open to the public. All profits will support Gulf Coast Friends and local charities! \nIt will feature unique vendors\, handmade items\, wreaths\, Christmas gifts\, holiday decorations\, pillows\, purses\, jewelry\, and turned wood bowls.  They will also have a bake sale\, vintage items area\, and a food truck. \nGet a quick start on your holiday shopping and decorating!  Any questions\, please contact Barbara Koncan at 850 450-7978.
URL:https://navarrebeach.com/event/gulf-coast-friends-craft-fair/
LOCATION:St. Sylvester Catholic Church\, 6464 Gulf Breeze Pkwy\, Gulf Breeze\, FL\, 32563\, United States
ATTACH;FMTTYPE=image/jpeg:https://navarrebeach.com/wp-content/uploads/2024/09/449696706_8280502451959950_6626133668086708820_n.jpg
END:VEVENT
BEGIN:VEVENT
DTSTART;TZID=UTC:20240907T090000
DTEND;TZID=UTC:20240907T140000
DTSTAMP:20260422T170601
CREATED:20240904T190819Z
LAST-MODIFIED:20240904T192651Z
UID:10309-1725699600-1725717600@navarrebeach.com
SUMMARY:Hwy 87 Market at Sand Dollar Plaza
DESCRIPTION:Highway 87 Market is an outdoor market\, held the 1st and 3rd Saturday of each month\, across multiple venues on Highway 87 in Navarre. In Sand Dollar Plaza market vendors will set up at the back of the plaza. In addition\, the merchants of Sand Dollar Plaza will be featuring various products and specials\, as they do each week for Sand Dollar Saturday.
URL:https://navarrebeach.com/event/hwy-87-market-at-sand-dollar-plaza/
LOCATION:Sand Dollar Plaza\, 1900 Highway 87\, Navarre\, FL\, 32566\, United States
ATTACH;FMTTYPE=image/jpeg:https://navarrebeach.com/wp-content/uploads/2024/09/245809550_4737455279618335_3685230664561647587_n-e1725476895222.jpg
ORGANIZER;CN="Hwy 87 Market & Sand Dollar Saturday":MAILTO:SandDollarSaturday@gmail.com
END:VEVENT
BEGIN:VEVENT
DTSTART;TZID=UTC:20240907T100000
DTEND;TZID=UTC:20240907T150000
DTSTAMP:20260422T170601
CREATED:20240904T211722Z
LAST-MODIFIED:20240904T211722Z
UID:10416-1725703200-1725721200@navarrebeach.com
SUMMARY:Beachfront Weekend Brunch
DESCRIPTION:Join Beach House Social every Saturday and Sunday from 10 AM to 3 PM for the ultimate beachfront brunch experience at Beach House Social! Indulge in $15 bottomless mimosas as you savor their mouthwatering menu of brunch favorites\, including our famous Cinnamon Roll Skillet\, decadent Turtle French Toast\, savory Pulled Pork Honey Biscuit\, classic Shrimp & Grits\, and so much more.\n\nWhether you’re catching up with friends\, enjoying a family outing\, or simply soaking up the ocean views\, their Weekend Brunch is the perfect way to start your day. Don’t miss out on this delicious beachfront tradition!
URL:https://navarrebeach.com/event/beachfront-weekend-brunch/
LOCATION:Beach House Social\, 8375 Gulf Blvd\, Navarre Beach\, FL\, 32566\, United States
ATTACH;FMTTYPE=image/jpeg:https://navarrebeach.com/wp-content/uploads/2024/09/457223765_1036346411826814_8167559716006578700_n.jpg
END:VEVENT
END:VCALENDAR