
BEGIN:VCALENDAR
VERSION:2.0
PRODID:-//Navarrebeach.com - ECPv6.15.20//NONSGML v1.0//EN
CALSCALE:GREGORIAN
METHOD:PUBLISH
X-WR-CALNAME:Navarrebeach.com
X-ORIGINAL-URL:https://navarrebeach.com
X-WR-CALDESC:Events for Navarrebeach.com
REFRESH-INTERVAL;VALUE=DURATION:PT1H
X-Robots-Tag:noindex
X-PUBLISHED-TTL:PT1H
BEGIN:VTIMEZONE
TZID:UTC
BEGIN:STANDARD
TZOFFSETFROM:+0000
TZOFFSETTO:+0000
TZNAME:UTC
DTSTART:20230101T000000
END:STANDARD
END:VTIMEZONE
BEGIN:VEVENT
DTSTART;TZID=UTC:20240908T100000
DTEND;TZID=UTC:20240908T150000
DTSTAMP:20260422T170602
CREATED:20240904T211817Z
LAST-MODIFIED:20240904T211817Z
UID:10420-1725789600-1725807600@navarrebeach.com
SUMMARY:Beachfront Weekend Brunch
DESCRIPTION:Join Beach House Social every Saturday and Sunday from 10 AM to 3 PM for the ultimate beachfront brunch experience at Beach House Social! Indulge in $15 bottomless mimosas as you savor their mouthwatering menu of brunch favorites\, including our famous Cinnamon Roll Skillet\, decadent Turtle French Toast\, savory Pulled Pork Honey Biscuit\, classic Shrimp & Grits\, and so much more.\n\nWhether you’re catching up with friends\, enjoying a family outing\, or simply soaking up the ocean views\, their Weekend Brunch is the perfect way to start your day. Don’t miss out on this delicious beachfront tradition!
URL:https://navarrebeach.com/event/beachfront-weekend-brunch-2/
LOCATION:Beach House Social\, 8375 Gulf Blvd\, Navarre Beach\, FL\, 32566\, United States
ATTACH;FMTTYPE=image/jpeg:https://navarrebeach.com/wp-content/uploads/2024/09/457223765_1036346411826814_8167559716006578700_n.jpg
END:VEVENT
BEGIN:VEVENT
DTSTART;TZID=UTC:20240825T143000
DTEND;TZID=UTC:20240825T193000
DTSTAMP:20260422T170602
CREATED:20240820T214809Z
LAST-MODIFIED:20240820T214809Z
UID:9969-1724596200-1724614200@navarrebeach.com
SUMMARY:Table 42 Cigar Club with Cigar Factory Travelling Lounge
DESCRIPTION:Smokin’ and Jokin’ is what it is all about. Bring a stick\, grab a beer\, and enjoy lively conversation on the front south lawn. Kris from Cigar Factory Rolling Lounge will be on site from 2:30-7:30 pm. Check out their smokes!
URL:https://navarrebeach.com/event/table-42-cigar-club-with-cigar-factory-travelling-lounge/
LOCATION:St. Michael’s Brewing Company\, 2199 FL-87\, Navarre\, FL\, 32566\, United States
ATTACH;FMTTYPE=image/jpeg:https://navarrebeach.com/wp-content/uploads/2024/08/430029039_914566337207239_6700914912899207172_n-e1724190471435.jpg
END:VEVENT
END:VCALENDAR