
BEGIN:VCALENDAR
VERSION:2.0
PRODID:-//Navarrebeach.com - ECPv6.15.20//NONSGML v1.0//EN
CALSCALE:GREGORIAN
METHOD:PUBLISH
X-WR-CALNAME:Navarrebeach.com
X-ORIGINAL-URL:https://navarrebeach.com
X-WR-CALDESC:Events for Navarrebeach.com
REFRESH-INTERVAL;VALUE=DURATION:PT1H
X-Robots-Tag:noindex
X-PUBLISHED-TTL:PT1H
BEGIN:VTIMEZONE
TZID:UTC
BEGIN:STANDARD
TZOFFSETFROM:+0000
TZOFFSETTO:+0000
TZNAME:UTC
DTSTART:20230101T000000
END:STANDARD
END:VTIMEZONE
BEGIN:VEVENT
DTSTART;TZID=UTC:20241129T090000
DTEND;TZID=UTC:20241129T150000
DTSTAMP:20260422T140949
CREATED:20241023T215335Z
LAST-MODIFIED:20241023T215335Z
UID:11305-1732870800-1732892400@navarrebeach.com
SUMMARY:St. Paul UMC Car Show
DESCRIPTION:Come to St. Paul United Methodist Church for an exciting Car Show on Black Friday\, November 29\, 2024\, from 9 AM to 3 PM! Whether you’re a classic car lover\, into the latest models\, or just looking for a fun way to spend the day\, we’ve got something for everyone. Sign up to showcase your vehicle or stop by to enjoy all the amazing cars on display. They will also be hosting Meat Candy BBQ\, so come on out for great food and fun!\n\nGeneral Admission (not showing a car): $10 for parking paid onsite | Cash or Card\n\nShow Fee: $15/entry until Nov. 9th\, $20/entry thereafter
URL:https://navarrebeach.com/event/st-paul-umc-car-show/
LOCATION:St. Paul United Methodist Church\, 4901 Gulf Breeze Pkwy\, Gulf Breeze\, FL\, 32563-9286\, United States
ATTACH;FMTTYPE=image/jpeg:https://navarrebeach.com/wp-content/uploads/2024/10/464094706_953064943531421_7089902718830629436_n.jpg
END:VEVENT
BEGIN:VEVENT
DTSTART;TZID=UTC:20241129T090000
DTEND;TZID=UTC:20241129T160000
DTSTAMP:20260422T140949
CREATED:20241122T170224Z
LAST-MODIFIED:20241122T170224Z
UID:11387-1732870800-1732896000@navarrebeach.com
SUMMARY:Toys For Tots Toy Drive
DESCRIPTION:Grab your crew! On Black Friday everyone gets 50% off Zoo admission with an acceptable Toys for Tots donation from each guest!\n\nThe 50% off discount is available to all daytime single use ticket options available including military\, senior\, adventure pass and group rates with donation to Toys for Tots charity drive. (Purchase of new annual memberships are not valid for 50% off rate.)\n\n*One toy donation per discounted admission ticket. Donations must be new\, unwrapped\, toys at least $10 in value to be accepted by United States Marine Corps Reserve Toys for Tots program. Acceptable toy donations will also be available for purchase in the Zoo gift shop.\n\n**All donations collected go directly to United States Marine Corps Reserve\, Toys for Tots program and stay within Santa Rosa and Escambia counties\, ensuring every child has a Christmas within the impact area.
URL:https://navarrebeach.com/event/toys-for-tots-toy-drive/
LOCATION:Gulf Breeze Zoo\, 5701 Gulf Breeze Pkwy\, Gulf Breeze\, FL\, 32563\, United States
ATTACH;FMTTYPE=image/jpeg:https://navarrebeach.com/wp-content/uploads/2024/11/467400630_967604692077371_240364488629776878_n.jpg
END:VEVENT
END:VCALENDAR