
BEGIN:VCALENDAR
VERSION:2.0
PRODID:-//Navarrebeach.com - ECPv6.15.20//NONSGML v1.0//EN
CALSCALE:GREGORIAN
METHOD:PUBLISH
X-ORIGINAL-URL:https://navarrebeach.com
X-WR-CALDESC:Events for Navarrebeach.com
REFRESH-INTERVAL;VALUE=DURATION:PT1H
X-Robots-Tag:noindex
X-PUBLISHED-TTL:PT1H
BEGIN:VTIMEZONE
TZID:UTC
BEGIN:STANDARD
TZOFFSETFROM:+0000
TZOFFSETTO:+0000
TZNAME:UTC
DTSTART:20230101T000000
END:STANDARD
END:VTIMEZONE
BEGIN:VEVENT
DTSTART;TZID=UTC:20241130T080000
DTEND;TZID=UTC:20241130T100000
DTSTAMP:20260422T140925
CREATED:20241028T194219Z
LAST-MODIFIED:20241028T194219Z
UID:11310-1732953600-1732960800@navarrebeach.com
SUMMARY:Trash Bash
DESCRIPTION:The NBSTCC has partnered with the National Oceanic and Atmospheric Administration and Loggerhead Marine Life Center on a marine debris cleanup initiative. \nThe Trash Bash was the idea of one of our volunteers and originally began as a local beach cleanup.  It has expanded into a global effort to collect data on marine debris and its effect on marine life\, specifically sea turtles. \nThis is a Citizen Science Program that allows volunteers from all walks of life to participate and take an active role in the war against marine debris. \nVolunteers collect trash from different areas along the 4.5 miles of Navarre Beach and record data that is forwarded to state and federal agencies. \nThe Trash Bash is held the last Saturday of each month.
URL:https://navarrebeach.com/event/trash-bash-2/
LOCATION:Sand Crab Pavilion\, 8689 Gulf Blvd\, Navarre\, FL\, 32566\, United States
ATTACH;FMTTYPE=image/jpeg:https://navarrebeach.com/wp-content/uploads/2024/09/421500700_766678752158524_5026177720777541824_n-1.jpg
END:VEVENT
BEGIN:VEVENT
DTSTART;TZID=UTC:20240907T090000
DTEND;TZID=UTC:20240907T140000
DTSTAMP:20260422T140925
CREATED:20240904T190819Z
LAST-MODIFIED:20240904T192651Z
UID:10309-1725699600-1725717600@navarrebeach.com
SUMMARY:Hwy 87 Market at Sand Dollar Plaza
DESCRIPTION:Highway 87 Market is an outdoor market\, held the 1st and 3rd Saturday of each month\, across multiple venues on Highway 87 in Navarre. In Sand Dollar Plaza market vendors will set up at the back of the plaza. In addition\, the merchants of Sand Dollar Plaza will be featuring various products and specials\, as they do each week for Sand Dollar Saturday.
URL:https://navarrebeach.com/event/hwy-87-market-at-sand-dollar-plaza/
LOCATION:Sand Dollar Plaza\, 1900 Highway 87\, Navarre\, FL\, 32566\, United States
ATTACH;FMTTYPE=image/jpeg:https://navarrebeach.com/wp-content/uploads/2024/09/245809550_4737455279618335_3685230664561647587_n-e1725476895222.jpg
ORGANIZER;CN="Hwy 87 Market & Sand Dollar Saturday":MAILTO:SandDollarSaturday@gmail.com
END:VEVENT
BEGIN:VEVENT
DTSTART;TZID=UTC:20240907T100000
DTEND;TZID=UTC:20240907T150000
DTSTAMP:20260422T140925
CREATED:20240904T211722Z
LAST-MODIFIED:20240904T211722Z
UID:10416-1725703200-1725721200@navarrebeach.com
SUMMARY:Beachfront Weekend Brunch
DESCRIPTION:Join Beach House Social every Saturday and Sunday from 10 AM to 3 PM for the ultimate beachfront brunch experience at Beach House Social! Indulge in $15 bottomless mimosas as you savor their mouthwatering menu of brunch favorites\, including our famous Cinnamon Roll Skillet\, decadent Turtle French Toast\, savory Pulled Pork Honey Biscuit\, classic Shrimp & Grits\, and so much more.\n\nWhether you’re catching up with friends\, enjoying a family outing\, or simply soaking up the ocean views\, their Weekend Brunch is the perfect way to start your day. Don’t miss out on this delicious beachfront tradition!
URL:https://navarrebeach.com/event/beachfront-weekend-brunch/
LOCATION:Beach House Social\, 8375 Gulf Blvd\, Navarre Beach\, FL\, 32566\, United States
ATTACH;FMTTYPE=image/jpeg:https://navarrebeach.com/wp-content/uploads/2024/09/457223765_1036346411826814_8167559716006578700_n.jpg
END:VEVENT
BEGIN:VEVENT
DTSTART;TZID=UTC:20241130T120000
DTEND;TZID=UTC:20241130T170000
DTSTAMP:20260422T140925
CREATED:20241114T212318Z
LAST-MODIFIED:20241114T212318Z
UID:11381-1732968000-1732986000@navarrebeach.com
SUMMARY:Fifth Saturday Elf Market
DESCRIPTION:In keeping with the tradition of doing something different on Fifth Saturdays\, Pik-itz is offering a very special holiday-themed market.\n\nJoin them from noon to 5 pm for the very first Elf Market. Expect caroling\, shopping\, and surprises galore. Pik-itz is busy brainstorming fun ideas\, so if you have suggestions\, let them know. There may even be “snow” at this Market!
URL:https://navarrebeach.com/event/fifth-saturday-elf-market/
LOCATION:Pik-itz Art & Antiques\, 1922 Highway 87\, Navarre\, FL\, 32566\, United States
ATTACH;FMTTYPE=image/jpeg:https://navarrebeach.com/wp-content/uploads/2024/11/shutterstock_1872956866-1.jpg
END:VEVENT
BEGIN:VEVENT
DTSTART;TZID=UTC:20241130T123000
DTEND;TZID=UTC:20241130T163000
DTSTAMP:20260422T140925
CREATED:20241104T204750Z
LAST-MODIFIED:20241104T204750Z
UID:11351-1732969800-1732984200@navarrebeach.com
SUMMARY:Navarre Beach Farmers & Makers Market
DESCRIPTION:Join Windjammers on the Pier Restaurant & Bar for their Navarre Beach Farmers & Makers Market\, taking place Saturday\, November 30th from 12:30pm until 4:30 pm!\n\nThis fun-filled island market will feature artisans and vendors\, plus a festive atmosphere with live music!\n\nThis completely free event is open to the public.\n\nParking will be free with restrooms conveniently located next to the vendor area.\n\nFrom handcrafted jewelry\, gifts\, accessories & decor to homemade jams & other tasty treats\, this event will surely become a family favorite on Navarre Beach.\n\nIn addition to new items on the menu at Windjammers on the Pier\, there will be the Navarre Beach Pizza Truck\, a fast-dining option located at ground level near the entrance.\n\nThe market is seeking artists\, farmers\, and others for this spectacular event on Navarre Beach. There will be NO CHARGE to local vendors.\n\nTo register or for more vendor information\, email nbmakersmarket@gmail.com.\n\nParticipation is limited to the first 100 vendors who register by Friday\, November 29th at 3PM. Since this will be a rain-or-shine event\, vendors are asked to bring tents and tables.
URL:https://navarrebeach.com/event/navarre-beach-farmers-makers-market-2/
LOCATION:Navarre Beach Pier\, 8579 Gulf Blvd\, Navarre\, FL\, 32566\, United States
ATTACH;FMTTYPE=image/jpeg:https://navarrebeach.com/wp-content/uploads/2024/11/464907309_563179412915350_4935379922546666917_n.jpg
END:VEVENT
END:VCALENDAR