
BEGIN:VCALENDAR
VERSION:2.0
PRODID:-//Navarrebeach.com - ECPv6.15.20//NONSGML v1.0//EN
CALSCALE:GREGORIAN
METHOD:PUBLISH
X-WR-CALNAME:Navarrebeach.com
X-ORIGINAL-URL:https://navarrebeach.com
X-WR-CALDESC:Events for Navarrebeach.com
REFRESH-INTERVAL;VALUE=DURATION:PT1H
X-Robots-Tag:noindex
X-PUBLISHED-TTL:PT1H
BEGIN:VTIMEZONE
TZID:UTC
BEGIN:STANDARD
TZOFFSETFROM:+0000
TZOFFSETTO:+0000
TZNAME:UTC
DTSTART:20230101T000000
END:STANDARD
END:VTIMEZONE
BEGIN:VEVENT
DTSTART;TZID=UTC:20240919T110000
DTEND;TZID=UTC:20240919T112000
DTSTAMP:20260422T183718
CREATED:20240906T200520Z
LAST-MODIFIED:20240906T200520Z
UID:10588-1726743600-1726744800@navarrebeach.com
SUMMARY:Toddler Time
DESCRIPTION:Toddler Time is a program for children ages 18 to 36 months who attend with a caregiver. One child and one adult register together for songs\, stories\, rhymes\, and other fun activities. These interactions will be one-on-one; therefore\, each child must attend with a separate caregiver. You will also be given ideas to use at home which reinforce the theme for the day. This program lasts 20 minutes.\n\nToddler Time requires registration; space is limited. It is not a drop-in program. Registration begins August 19 at your library; visit your library for a registration form.\n\nThe fall session of Toddler Time runs from September 16 – December 6. Speak with a staff member for more information.\n\nThemes:\nSeptember 19 – PumpkinsSeptember 26 – Feathered FriendsOctober 3 – BedtimeOctober 10 – Fast and SlowOctober 17 – FoodOctober 24 – CatsOctober 31 – Animal Guessing GamesNovember 7 – FallNovember 14 – Nursery RhymesNovember 21 – BoatsNovember 28 – NO TODDLER TIME – ThanksgivingDecember 5 – Monkeys
URL:https://navarrebeach.com/event/toddler-time/
LOCATION:The Navarre Library\, 8484 James M. Harvell Rd\, Navarre\, FL\, 32566\, United States
ATTACH;FMTTYPE=image/jpeg:https://navarrebeach.com/wp-content/uploads/2024/09/455616295_901551101998759_3828521961904255748_n.jpg
END:VEVENT
BEGIN:VEVENT
DTSTART;TZID=UTC:20240905T160000
DTEND;TZID=UTC:20240905T180000
DTSTAMP:20260422T183718
CREATED:20240820T211942Z
LAST-MODIFIED:20240820T211942Z
UID:9937-1725552000-1725559200@navarrebeach.com
SUMMARY:labARTorty
DESCRIPTION:Visit the Navarre Library on the first Thursday from 4-6 p.m. each month for an open art studio. Design your project or make a special project which changes each month. The Friends of the Navarre Library provides all art materials. This is a drop-in program and is open to all ages; an adult must accompany children under 10
URL:https://navarrebeach.com/event/labartorty/
LOCATION:The Navarre Library\, 8484 James M. Harvell Rd\, Navarre\, FL\, 32566\, United States
ATTACH;FMTTYPE=image/jpeg:https://navarrebeach.com/wp-content/uploads/2024/08/411312765_752856036868267_3295947969976007002_n-e1724188722932.jpg
END:VEVENT
BEGIN:VEVENT
DTSTART;TZID=UTC:20241205T180000
DTEND;TZID=UTC:20241205T200000
DTSTAMP:20260422T183719
CREATED:20241104T210619Z
LAST-MODIFIED:20241104T210619Z
UID:11363-1733421600-1733428800@navarrebeach.com
SUMMARY:Painting with Emily- Christmas Themed
DESCRIPTION:An evening of painting fun at the amazing St. Michael’s Brewing Company in Navarre\, Florida! You can choose between 2 Christmas-themed designs.\n\nLimited Seating: 20 Participants\n\nThursday\, December 5th: Gnome or Festive Tree\n\nThis is a paint-and-sip-style event that will last approximately two hours. Emily\, the instructor\, will lead you step by step to create a painting on canvas! No prior painting experience is necessary.\n\nThe cost includes one drink ticket.\n\nClass begins at 6:00\n\nThis is a limited seating event\, so be sure to reserve your spot early.\n\nSign up here: https://www.thetravelingpainter.org/…/x48a0uqra3gh1extm…\n\nRETURN POLICY for ALL Paint Classes :NO REFUNDS. A ticket credit will be given for individuals canceling with at least 24 hours’ notice. “No shows” with no notification will not be issued a ticket credit. Please leave a voice message for Emily Day if calling after hours (850-974-4710)\n\nPlease be on time for all paint events\, GUESTS ARRIVING LATE MAY LOSE THEIR SPOT AND NO REFUNDS WILL BE GIVEN. If you are running late for a class\, please contact Emily Day at 850-974-4710 or 3mday623@gmail.com.
URL:https://navarrebeach.com/event/painting-with-emily-christmas-themed/
LOCATION:St. Michael’s Brewing Company\, 2199 FL-87\, Navarre\, FL\, 32566\, United States
ATTACH;FMTTYPE=image/jpeg:https://navarrebeach.com/wp-content/uploads/2024/11/464352301_1082078170456054_7412721197538792733_n.jpg
END:VEVENT
END:VCALENDAR