
BEGIN:VCALENDAR
VERSION:2.0
PRODID:-//Navarrebeach.com - ECPv6.15.20//NONSGML v1.0//EN
CALSCALE:GREGORIAN
METHOD:PUBLISH
X-ORIGINAL-URL:https://navarrebeach.com
X-WR-CALDESC:Events for Navarrebeach.com
REFRESH-INTERVAL;VALUE=DURATION:PT1H
X-Robots-Tag:noindex
X-PUBLISHED-TTL:PT1H
BEGIN:VTIMEZONE
TZID:UTC
BEGIN:STANDARD
TZOFFSETFROM:+0000
TZOFFSETTO:+0000
TZNAME:UTC
DTSTART:20230101T000000
END:STANDARD
END:VTIMEZONE
BEGIN:VEVENT
DTSTART;TZID=UTC:20241207T080000
DTEND;TZID=UTC:20241207T090000
DTSTAMP:20260422T140924
CREATED:20240815T193415Z
LAST-MODIFIED:20240815T193415Z
UID:9790-1733558400-1733562000@navarrebeach.com
SUMMARY:Navarre Jingle Bell Run
DESCRIPTION:The Navarre Jingle Bell Run is a non-competitive\, family-friendly event in Navarre\, Florida. The Navarre Chamber Foundation organizes the run to help people get into the holiday spirit. The first 200 registrants will receive long-sleeve t-shirts made for the event. Race packets can be picked up on Friday from 3 to 6 p.m. at the Fire Station or on Race Day from 7:00 to 8:00 a.m. at the Fire Station. Participants will receive a jingle bell and are encouraged to dress up for the season. Sign yourself\, your family\, and your kids up for this huge community event supporting local development! 
URL:https://navarrebeach.com/event/navarre-jingle-bell-run/
LOCATION:Holley-Navarre Fire District – Station 45\, 8618 Esplanade St E\, Navarre\, FL\, 32566\, United States
ATTACH;FMTTYPE=image/png:https://navarrebeach.com/wp-content/uploads/2024/08/Untitled-1.png
END:VEVENT
BEGIN:VEVENT
DTSTART;TZID=UTC:20240907T090000
DTEND;TZID=UTC:20240907T140000
DTSTAMP:20260422T140924
CREATED:20240904T190819Z
LAST-MODIFIED:20240904T192651Z
UID:10309-1725699600-1725717600@navarrebeach.com
SUMMARY:Hwy 87 Market at Sand Dollar Plaza
DESCRIPTION:Highway 87 Market is an outdoor market\, held the 1st and 3rd Saturday of each month\, across multiple venues on Highway 87 in Navarre. In Sand Dollar Plaza market vendors will set up at the back of the plaza. In addition\, the merchants of Sand Dollar Plaza will be featuring various products and specials\, as they do each week for Sand Dollar Saturday.
URL:https://navarrebeach.com/event/hwy-87-market-at-sand-dollar-plaza/
LOCATION:Sand Dollar Plaza\, 1900 Highway 87\, Navarre\, FL\, 32566\, United States
ATTACH;FMTTYPE=image/jpeg:https://navarrebeach.com/wp-content/uploads/2024/09/245809550_4737455279618335_3685230664561647587_n-e1725476895222.jpg
ORGANIZER;CN="Hwy 87 Market & Sand Dollar Saturday":MAILTO:SandDollarSaturday@gmail.com
END:VEVENT
BEGIN:VEVENT
DTSTART;TZID=UTC:20241207T090000
DTEND;TZID=UTC:20241207T140000
DTSTAMP:20260422T140924
CREATED:20241125T162912Z
LAST-MODIFIED:20241125T162912Z
UID:11406-1733562000-1733580000@navarrebeach.com
SUMMARY:Jolly Holiday Market
DESCRIPTION:Inside holiday market with over 100+ vendors filled inside the entire Community Center.
URL:https://navarrebeach.com/event/jolly-holiday-market/
LOCATION:City of Gulf Breeze Parks & Recreation\, 800 Shoreline Dr.\, Gulf Breeze\, FL\, 32561\, United States
ATTACH;FMTTYPE=image/jpeg:https://navarrebeach.com/wp-content/uploads/2024/11/463073762_1066644498804678_6473569727586835469_n.jpg
END:VEVENT
BEGIN:VEVENT
DTSTART;TZID=UTC:20241207T090000
DTEND;TZID=UTC:20241208T110000
DTSTAMP:20260422T140924
CREATED:20241122T170856Z
LAST-MODIFIED:20241122T170856Z
UID:11395-1733562000-1733655600@navarrebeach.com
SUMMARY:Breakfast with Santa at Navarre UMC
DESCRIPTION:Feast on Bacon and pancakes and get your picture taken with the big man himself.
URL:https://navarrebeach.com/event/breakfast-with-santa-at-navarre-umc-2/
LOCATION:Navarre United Methodist Church\, 9474 Navarre Pkwy\, Navarre\, FL\, 32566\, United States
ATTACH;FMTTYPE=image/jpeg:https://navarrebeach.com/wp-content/uploads/2024/11/466099377_978137827682696_5069143251388550747_n-1.jpg
END:VEVENT
BEGIN:VEVENT
DTSTART;TZID=UTC:20241207T100000
DTEND;TZID=UTC:20241207T160000
DTSTAMP:20260422T140924
CREATED:20241114T211607Z
LAST-MODIFIED:20241114T211607Z
UID:11375-1733565600-1733587200@navarrebeach.com
SUMMARY:Merry Market at 30th Annual Christmas in the Park
DESCRIPTION:Ho\, ho\, ho! It’s that time of year again\, and the Navarre Chamber couldn’t be more excited to invite you to Christmas in the Park and Navarre’s Community Christmas Parade. \nKicking off at 10 AM\, the fantastic Merry Market is your go-to spot for all things festive! With a dazzling array of local artisans showcasing their creative gifts\, delicious treats\, and one-of-a-kind holiday finds\, you’re sure to discover something special for everyone on your list.\n\nAnd guess what?\n\nIt’s FREE to attend!\n\nPicture yourself strolling through the market\, surrounded by the stunning views of the Santa Rosa Sound—it’s the perfect holiday backdrop!\n\nBut wait\, there’s more! Christmas in the Park is packed with fun activities for the whole family. Indulge your sweet tooth at Mrs. Claus’ Bakery with complimentary treats\, unleash your creativity in our kids’ craft area\, and capture those precious memories with pictures alongside Santa & Mrs. Claus!\n\nPlus\, enjoy character appearances after the parade\, live music\, and spectacular performances that will keep you entertained all day long!\n\nMark your calendars\, gather your friends and family\, and get ready to celebrate the season together!\n\nFor all the juicy details and event schedules\, check out:\nhttps://business.navarrechamber.com/…/30th-annual…
URL:https://navarrebeach.com/event/merry-market-at-30th-annual-christmas-in-the-park/
LOCATION:Navarre Park\, 8513 Navarre Pkwy\, Navarre\, FL\, 32566\, United States
ATTACH;FMTTYPE=image/jpeg:https://navarrebeach.com/wp-content/uploads/2024/11/464499523_955666829921768_799139992717878969_n.jpg
ORGANIZER;CN="Navarre Chamber":MAILTO:chanda.ryan@navarrechamber.com
END:VEVENT
BEGIN:VEVENT
DTSTART;TZID=UTC:20240907T140000
DTEND;TZID=UTC:20240907T160000
DTSTAMP:20260422T140924
CREATED:20240820T211541Z
LAST-MODIFIED:20240820T211541Z
UID:9933-1725717600-1725724800@navarrebeach.com
SUMMARY:Family Fun Day
DESCRIPTION:Visit the Navarre Library on the 1st Saturday of the month for family-friendly games\, puzzles\, and more.
URL:https://navarrebeach.com/event/family-fun-day/
LOCATION:The Navarre Library\, 8484 James M. Harvell Rd\, Navarre\, FL\, 32566\, United States
ATTACH;FMTTYPE=image/jpeg:https://navarrebeach.com/wp-content/uploads/2024/08/412255385_752859796867891_628770149920646974_n-e1724188534727.jpg
END:VEVENT
BEGIN:VEVENT
DTSTART;TZID=UTC:20241207T180000
DTEND;TZID=UTC:20241207T210000
DTSTAMP:20260422T140924
CREATED:20240828T194716Z
LAST-MODIFIED:20240828T194727Z
UID:10275-1733594400-1733605200@navarrebeach.com
SUMMARY:Sea Turtle Soiree Elevate 2024
DESCRIPTION:Step into a world of glitz\, glamour\, and giving back! Look no further than this upcoming charity fundraiser event that promises to be an unforgettable evening of elegance and philanthropy. Get ready to dress to the nines and make a difference in style at the most anticipated soiree of the year. Enjoy a stress-free experience from the moment you pull up to the venue. Let The Club at Hidden Creek take care of the parking with complimentary valet\, so you can focus on enjoying the festivities! \nOnce you step inside you will be able to mingle with fellow philanthropists and friends and enjoy a variety of cocktail options provided by the full cash bar available. You’ll also get to indulge in a delicious selection of tapas plates catered by Where Y’at Seafood Market\, that will tantalize your taste buds and keep you energized for the night ahead. If you’re interested in finding out more information about what will be served\, the menu is listed down below. Capture the memories of your special night with a fantastic photo booth experience! Say cheese and strike a pose with your loved ones to create lasting memories that you can cherish forever. \nBut the best part of the night is knowing that you’re making a difference\, remember that the heart of this event lies in supporting a noble cause. All proceeds from the event will go towards the Navarre Beach Sea Turtle Conservation Center and be invested directly in our mission\, “Giving Sea Turtles More Tomorrow’s Through Conservation\, Education\, and Research.
URL:https://navarrebeach.com/event/sea-turtle-soiree-elevate-2024/
LOCATION:The Club at Hidden Creek\, 3070 P.G.A Blvd\, Navarre\, FL\, 32566\, United States
ATTACH;FMTTYPE=image/jpeg:https://navarrebeach.com/wp-content/uploads/2024/08/457206969_906249101534821_8968778414607547081_n.jpg
END:VEVENT
END:VCALENDAR