
BEGIN:VCALENDAR
VERSION:2.0
PRODID:-//Navarrebeach.com - ECPv6.15.20//NONSGML v1.0//EN
CALSCALE:GREGORIAN
METHOD:PUBLISH
X-WR-CALNAME:Navarrebeach.com
X-ORIGINAL-URL:https://navarrebeach.com
X-WR-CALDESC:Events for Navarrebeach.com
REFRESH-INTERVAL;VALUE=DURATION:PT1H
X-Robots-Tag:noindex
X-PUBLISHED-TTL:PT1H
BEGIN:VTIMEZONE
TZID:UTC
BEGIN:STANDARD
TZOFFSETFROM:+0000
TZOFFSETTO:+0000
TZNAME:UTC
DTSTART:20230101T000000
END:STANDARD
END:VTIMEZONE
BEGIN:VEVENT
DTSTART;TZID=UTC:20240907T090000
DTEND;TZID=UTC:20240907T140000
DTSTAMP:20260422T140946
CREATED:20240904T190819Z
LAST-MODIFIED:20240904T192651Z
UID:10309-1725699600-1725717600@navarrebeach.com
SUMMARY:Hwy 87 Market at Sand Dollar Plaza
DESCRIPTION:Highway 87 Market is an outdoor market\, held the 1st and 3rd Saturday of each month\, across multiple venues on Highway 87 in Navarre. In Sand Dollar Plaza market vendors will set up at the back of the plaza. In addition\, the merchants of Sand Dollar Plaza will be featuring various products and specials\, as they do each week for Sand Dollar Saturday.
URL:https://navarrebeach.com/event/hwy-87-market-at-sand-dollar-plaza/
LOCATION:Sand Dollar Plaza\, 1900 Highway 87\, Navarre\, FL\, 32566\, United States
ATTACH;FMTTYPE=image/jpeg:https://navarrebeach.com/wp-content/uploads/2024/09/245809550_4737455279618335_3685230664561647587_n-e1725476895222.jpg
ORGANIZER;CN="Hwy 87 Market & Sand Dollar Saturday":MAILTO:SandDollarSaturday@gmail.com
END:VEVENT
BEGIN:VEVENT
DTSTART;TZID=UTC:20241214T100000
DTEND;TZID=UTC:20241214T160000
DTSTAMP:20260422T140946
CREATED:20241213T174633Z
LAST-MODIFIED:20241213T174633Z
UID:11423-1734170400-1734192000@navarrebeach.com
SUMMARY:Christmas ZOObilee 2024
DESCRIPTION:The 6th Annual Christmas ZOObilee at the Gulf Breeze Zoo is December 7\, 8\, 14 and 15.\n\nChristmas ZOObilee includes a gingerbread bounce house\, live music and entertainment and a Candy Cane Market full of gifts\, sights\, smells and tastes of the season\, including unique gifts from local artists and delicious holiday treats.\n\nFun for the entire family\, Christmas ZOObilee wouldn’t be complete without a visit from the jolly man in a red suit. Weekends with Santa is the perfect opportunity to hand-deliver last-minute Christmas letters while snapping a treasured photo with Saint Nick in his sleigh. The Grinch will be in attendance also for photos.\n\nWith all event activities included with regular daytime admission\, Christmas ZOObilee is this seasons can’t miss holiday event.\n\nPLEASE NOTE: The Gulf Breeze Zoo will not be open in the evenings this holiday season.\n\nSpecial Zoo Hours: The Zoo is open from 10 a.m. to 4 p.m. with the last admission at 3 p.m. during Christmas Zoobilee.\n\nTickets: Zoo members must purchase tickets to attend this event. The cost is $10 per member.\n\n2024 ZOObilee EventsSanta and Friends :: 10:30a to 3:30pSanta\, his Elf\, and even The Grinch are coming to the Zoo\, and you do not want to miss it! Enjoy taking beautiful family photos with Santa in the sleigh and meet some extraordinary animal friends. Santa will accept those last-minute Christmas letters and special requests from your little ones. The Grinch will also be available for fun photos!\n\nLive Music :: 11a to 3pFace Painting by Amy’s Awesome Faces :: 10a to 4pCaricatures by Tim:: 10a to 4p\n\nSaturday\, December 14Chili Cook-Off sponsored by Navarre Rotary Club :: 10a until the chili is gone!A Time To Dance Performance :: 1p
URL:https://navarrebeach.com/event/christmas-zoobilee-2024/
LOCATION:Gulf Breeze Zoo\, 5701 Gulf Breeze Pkwy\, Gulf Breeze\, FL\, 32563\, United States
ATTACH;FMTTYPE=image/jpeg:https://navarrebeach.com/wp-content/uploads/2024/12/468053617_972021941635646_5769234525080411027_n.jpg
END:VEVENT
BEGIN:VEVENT
DTSTART;TZID=UTC:20241213T180000
DTEND;TZID=UTC:20241213T210000
DTSTAMP:20260422T140946
CREATED:20241213T174921Z
LAST-MODIFIED:20241213T174921Z
UID:11427-1734112800-1734123600@navarrebeach.com
SUMMARY:Drive-through LIVE Nativity Scene
DESCRIPTION:Always an awesome experience! Drive-through Live Nativity Scene this Friday and Saturday night at the Church on our street.\nDon’t miss it!
URL:https://navarrebeach.com/event/drive-through-live-nativity-scene/
LOCATION:Navarre First Assembly of God\, 9594 Navarre Parkway\, Navarre\, FL\, 32566\, United States
ATTACH;FMTTYPE=image/jpeg:https://navarrebeach.com/wp-content/uploads/2024/12/SUBMITTED-Nav-First-Assembly-Live-Nativity_MaryandBabyJesus-e6a02cdc.jpg
END:VEVENT
END:VCALENDAR