
BEGIN:VCALENDAR
VERSION:2.0
PRODID:-//Navarrebeach.com - ECPv6.15.20//NONSGML v1.0//EN
CALSCALE:GREGORIAN
METHOD:PUBLISH
X-ORIGINAL-URL:https://navarrebeach.com
X-WR-CALDESC:Events for Navarrebeach.com
REFRESH-INTERVAL;VALUE=DURATION:PT1H
X-Robots-Tag:noindex
X-PUBLISHED-TTL:PT1H
BEGIN:VTIMEZONE
TZID:UTC
BEGIN:STANDARD
TZOFFSETFROM:+0000
TZOFFSETTO:+0000
TZNAME:UTC
DTSTART:20230101T000000
END:STANDARD
END:VTIMEZONE
BEGIN:VEVENT
DTSTART;TZID=UTC:20241224T133000
DTEND;TZID=UTC:20241224T133000
DTSTAMP:20260422T170611
CREATED:20241213T175951Z
LAST-MODIFIED:20241213T175951Z
UID:11438-1735047000-1735047000@navarrebeach.com
SUMMARY:Christmas At Destiny
DESCRIPTION:Be uplifted this holiday season and join Destiny in celebrating the birth of our Savior\, Jesus Christ. They welcome you to be a part of their candlelight service on Christmas Eve as they come together to celebrate the hope that has been given.\n\nServices will be held at all campuses on Tuesday\, December 24th.
URL:https://navarrebeach.com/event/christmas-at-destiny/
LOCATION:Destiny Worship Center – Navarre\, 8860 Mission Drive\, Navarre\, FL\, 32566\, United States
ATTACH;FMTTYPE=image/jpeg:https://navarrebeach.com/wp-content/uploads/2024/12/469491604_538872289117297_1035910617977621658_n.jpg
END:VEVENT
BEGIN:VEVENT
DTSTART;TZID=UTC:20241224T170000
DTEND;TZID=UTC:20241224T170000
DTSTAMP:20260422T170611
CREATED:20241213T180338Z
LAST-MODIFIED:20241213T180338Z
UID:11447-1735059600-1735059600@navarrebeach.com
SUMMARY:Christmas Eve Candlelight Service
DESCRIPTION:Join First Baptist Church Navarre for a Candlelight Christmas Eve service. Join them as they gather together to partake of the Lord’s supper in gratitude and remembrance of Jesus’ sacrifice for us all this blessed Christmas Season.
URL:https://navarrebeach.com/event/christmas-eve-candlelight-service/
LOCATION:First Baptist Church Navarre\, 9302 Navarre Parkway\, Navarre\, FL\, 32566\, United States
ATTACH;FMTTYPE=image/jpeg:https://navarrebeach.com/wp-content/uploads/2024/12/468405143_973847604782226_2175037280916500326_n.jpg
END:VEVENT
END:VCALENDAR