
BEGIN:VCALENDAR
VERSION:2.0
PRODID:-//Navarrebeach.com - ECPv6.15.20//NONSGML v1.0//EN
CALSCALE:GREGORIAN
METHOD:PUBLISH
X-ORIGINAL-URL:https://navarrebeach.com
X-WR-CALDESC:Events for Navarrebeach.com
REFRESH-INTERVAL;VALUE=DURATION:PT1H
X-Robots-Tag:noindex
X-PUBLISHED-TTL:PT1H
BEGIN:VTIMEZONE
TZID:UTC
BEGIN:STANDARD
TZOFFSETFROM:+0000
TZOFFSETTO:+0000
TZNAME:UTC
DTSTART:20240101T000000
END:STANDARD
END:VTIMEZONE
BEGIN:VEVENT
DTSTART;TZID=UTC:20250126T140000
DTEND;TZID=UTC:20250126T140000
DTSTAMP:20260422T124537
CREATED:20250113T174825Z
LAST-MODIFIED:20250113T175123Z
UID:11483-1737900000-1737900000@navarrebeach.com
SUMMARY:January Sip 'N Paint
DESCRIPTION:Sip ‘N Paint Event with host Charrel Sanabria! Paint colorful Beach-Lover Decorative Signs! How fun\, right? Full menu available as well as flights\, Charcuterie Boards\, local beers\, and delicious desserts! Complementary glass of bubbles to get everything started! Gather your friends and get your tickets today!
URL:https://navarrebeach.com/event/january-sip-n-paint/
LOCATION:The Vine Wine Bar\, Bistro & Shoppe\, 8211 Navarre Pkwy\, Navarre\, FL\, 32566\, United States
ATTACH;FMTTYPE=image/jpeg:https://navarrebeach.com/wp-content/uploads/2025/01/471610184_1142524854547962_1043526233018855726_n.jpg
END:VEVENT
END:VCALENDAR