
BEGIN:VCALENDAR
VERSION:2.0
PRODID:-//Navarrebeach.com - ECPv6.15.20//NONSGML v1.0//EN
CALSCALE:GREGORIAN
METHOD:PUBLISH
X-WR-CALNAME:Navarrebeach.com
X-ORIGINAL-URL:https://navarrebeach.com
X-WR-CALDESC:Events for Navarrebeach.com
REFRESH-INTERVAL;VALUE=DURATION:PT1H
X-Robots-Tag:noindex
X-PUBLISHED-TTL:PT1H
BEGIN:VTIMEZONE
TZID:UTC
BEGIN:STANDARD
TZOFFSETFROM:+0000
TZOFFSETTO:+0000
TZNAME:UTC
DTSTART:20240101T000000
END:STANDARD
END:VTIMEZONE
BEGIN:VEVENT
DTSTART;TZID=UTC:20250208T000000
DTEND;TZID=UTC:20250208T130000
DTSTAMP:20260422T110155
CREATED:20250113T180555Z
LAST-MODIFIED:20250207T180356Z
UID:11493-1738972800-1739019600@navarrebeach.com
SUMMARY:The Locals Market at Ye Olde Brothers
DESCRIPTION:Join Ye Olde Brothers Brewery for a pop-up market For The Locals\, By The Locals!\n\nCome shop local amazing vendors and sip your favorite beer or wine.\n\nHourly door raffles – Family Friendly – DJ – Kids activities and much more!Make sure to check out our Facebook page for other local markets!
URL:https://navarrebeach.com/event/the-locals-market-at-ye-olde-brothers/
LOCATION:Ye Olde Brothers Brewery\, 4458 Highway 87\, Navarre\, FL\, 32566\, United States
ATTACH;FMTTYPE=image/jpeg:https://navarrebeach.com/wp-content/uploads/2025/01/470182969_122113551254607471_5796242431272696252_n.jpg
END:VEVENT
END:VCALENDAR