
BEGIN:VCALENDAR
VERSION:2.0
PRODID:-//Navarrebeach.com - ECPv6.15.20//NONSGML v1.0//EN
CALSCALE:GREGORIAN
METHOD:PUBLISH
X-ORIGINAL-URL:https://navarrebeach.com
X-WR-CALDESC:Events for Navarrebeach.com
REFRESH-INTERVAL;VALUE=DURATION:PT1H
X-Robots-Tag:noindex
X-PUBLISHED-TTL:PT1H
BEGIN:VTIMEZONE
TZID:UTC
BEGIN:STANDARD
TZOFFSETFROM:+0000
TZOFFSETTO:+0000
TZNAME:UTC
DTSTART:20240101T000000
END:STANDARD
END:VTIMEZONE
BEGIN:VEVENT
DTSTART;TZID=UTC:20250214T180000
DTEND;TZID=UTC:20250214T180000
DTSTAMP:20260422T110151
CREATED:20250207T200251Z
LAST-MODIFIED:20250207T200251Z
UID:11541-1739556000-1739556000@navarrebeach.com
SUMMARY:Valentine's Day Wine and Dine at The Vine
DESCRIPTION:Bring your special someone and enjoy a four-course meal for two and a fight each for $129 per couple! The meal includes:\n\nChoice of appetizer to share (Cheese plate or Strawberry Brie Crostini)\nVine Salad each\nChoice of 2 entrées (Chicken breast stuffed w/goat cheese\, fig\, and pistachio\, or Brown sugar balsamic glazed pork loin\, or Cheese Manicotti)\nChoice of dessert to share (Chocolate covered Strawberry Crème Brulée\, Trio of Truffles-Tiramisu\, cherry\, red wine)\n\nCall or text 850-684-3999 for reservations!
URL:https://navarrebeach.com/event/valentines-day-wine-and-dine-at-the-vine/
LOCATION:The Vine Wine Bar\, Bistro & Shoppe\, 8211 Navarre Pkwy\, Navarre\, FL\, 32566\, United States
ATTACH;FMTTYPE=image/jpeg:https://navarrebeach.com/wp-content/uploads/2025/02/475792191_1165367365597044_363999010325910283_n.jpg
END:VEVENT
END:VCALENDAR