
BEGIN:VCALENDAR
VERSION:2.0
PRODID:-//Navarrebeach.com - ECPv6.15.20//NONSGML v1.0//EN
CALSCALE:GREGORIAN
METHOD:PUBLISH
X-ORIGINAL-URL:https://navarrebeach.com
X-WR-CALDESC:Events for Navarrebeach.com
REFRESH-INTERVAL;VALUE=DURATION:PT1H
X-Robots-Tag:noindex
X-PUBLISHED-TTL:PT1H
BEGIN:VTIMEZONE
TZID:UTC
BEGIN:STANDARD
TZOFFSETFROM:+0000
TZOFFSETTO:+0000
TZNAME:UTC
DTSTART:20240101T000000
END:STANDARD
END:VTIMEZONE
BEGIN:VEVENT
DTSTART;TZID=UTC:20250216T140000
DTEND;TZID=UTC:20250216T140000
DTSTAMP:20260422T110151
CREATED:20250207T181327Z
LAST-MODIFIED:20250207T181327Z
UID:11529-1739714400-1739714400@navarrebeach.com
SUMMARY:February Sip 'N Paint Mardi Gras Wreaths
DESCRIPTION:Start the afternoon off with a glass of bubbles and then enjoy some delicious wine\, beer\, and a great food selection as you piece together your very own Mardi Gras wreath to help celebrate the season! Tickets are $40 per person\, with just 30 spots available! Get your tickets today! https://www.ticketleap.events/…/february-sip-n-paint…
URL:https://navarrebeach.com/event/february-sip-n-paint-mardi-gras-wreaths/
LOCATION:The Vine Wine Bar\, Bistro & Shoppe\, 8211 Navarre Pkwy\, Navarre\, FL\, 32566\, United States
ATTACH;FMTTYPE=image/jpeg:https://navarrebeach.com/wp-content/uploads/2025/02/476356143_1169335878533526_3779054600358627855_n.jpg
END:VEVENT
BEGIN:VEVENT
DTSTART;TZID=UTC:20250216T190000
DTEND;TZID=UTC:20250216T190000
DTSTAMP:20260422T110151
CREATED:20250207T202241Z
LAST-MODIFIED:20250207T202241Z
UID:11553-1739732400-1739732400@navarrebeach.com
SUMMARY:Power Bomb Charity Show
DESCRIPTION:POWER BOMB Charity stage show benefiting Navarre Community Outreach’s Weekend Backpack Food Program. \n$5 Donation with 100% of the door going to feed kids in Navarre.
URL:https://navarrebeach.com/event/power-bomb-charity-show/
LOCATION:Navarre United Methodist Church\, 9474 Navarre Pkwy\, Navarre\, FL\, 32566\, United States
ATTACH;FMTTYPE=image/jpeg:https://navarrebeach.com/wp-content/uploads/2025/02/475239606_122178666692261292_6534071468171108264_n.jpg
END:VEVENT
END:VCALENDAR