
BEGIN:VCALENDAR
VERSION:2.0
PRODID:-//Navarrebeach.com - ECPv6.15.20//NONSGML v1.0//EN
CALSCALE:GREGORIAN
METHOD:PUBLISH
X-WR-CALNAME:Navarrebeach.com
X-ORIGINAL-URL:https://navarrebeach.com
X-WR-CALDESC:Events for Navarrebeach.com
REFRESH-INTERVAL;VALUE=DURATION:PT1H
X-Robots-Tag:noindex
X-PUBLISHED-TTL:PT1H
BEGIN:VTIMEZONE
TZID:UTC
BEGIN:STANDARD
TZOFFSETFROM:+0000
TZOFFSETTO:+0000
TZNAME:UTC
DTSTART:20240101T000000
END:STANDARD
END:VTIMEZONE
BEGIN:VEVENT
DTSTART;TZID=UTC:20250220T180000
DTEND;TZID=UTC:20250220T180000
DTSTAMP:20260422T110155
CREATED:20250207T195527Z
LAST-MODIFIED:20250207T195527Z
UID:11535-1740074400-1740074400@navarrebeach.com
SUMMARY:Archaeology on Tap: "The Maroons Marines: Archaeology at Prospect Bluff"
DESCRIPTION:Join St. Michael’s for their next Archaeology on Tap talk. FPAN’s Mike Thomin will deliver a talk titled “Maroon Marines: Archaeology at Prospect Bluff.”\n\nDuring the War of 1812\, a fort was built by Black British Colonial Marines and Indigenous people along the Apalachicola River. Called “Negro Fort” by American officials\, it eventually became the center of the largest free Black settlement in what is now the United States. This talk highlights the history of this settlement and several artifacts recovered from the site that you can now view as 3D models online.\n\n“Archaeology on Tap” is just like Florida Public Archaeology Network’s long-standing program ArchaeoCafé…just hosted at a local brewery instead of a restaurant!\n\n“Archaeology on Tap” is free and open to the community\, but is recommended for adults. Seating is unreserved. The talk starts at 6:00 pm CT and guests are recommended to arrive by 5:45 pm to place drink orders and claim a seat before the talk begins.
URL:https://navarrebeach.com/event/archaeology-on-tap-the-maroons-marines-archaeology-at-prospect-bluff/
LOCATION:St. Michael’s Brewing Company\, 2199 FL-87\, Navarre\, FL\, 32566\, United States
ATTACH;FMTTYPE=image/jpeg:https://navarrebeach.com/wp-content/uploads/2025/02/473548716_1154506656416908_4022402514358783892_n.jpg
END:VEVENT
END:VCALENDAR