
BEGIN:VCALENDAR
VERSION:2.0
PRODID:-//Navarrebeach.com - ECPv6.15.20//NONSGML v1.0//EN
CALSCALE:GREGORIAN
METHOD:PUBLISH
X-ORIGINAL-URL:https://navarrebeach.com
X-WR-CALDESC:Events for Navarrebeach.com
REFRESH-INTERVAL;VALUE=DURATION:PT1H
X-Robots-Tag:noindex
X-PUBLISHED-TTL:PT1H
BEGIN:VTIMEZONE
TZID:UTC
BEGIN:STANDARD
TZOFFSETFROM:+0000
TZOFFSETTO:+0000
TZNAME:UTC
DTSTART:20240101T000000
END:STANDARD
END:VTIMEZONE
BEGIN:VEVENT
DTSTART;TZID=UTC:20250223T120000
DTEND;TZID=UTC:20250223T130000
DTSTAMP:20260422T110151
CREATED:20250207T181807Z
LAST-MODIFIED:20250207T181807Z
UID:11532-1740312000-1740315600@navarrebeach.com
SUMMARY:Girl Scout Cookie and Beer Pairing
DESCRIPTION:Join St Michael’s for their first-ever Girl Scout cookie and beer pairing. The local Girl Scout troop will be selling cookies after the event.\n\nTickets are limited\, so book quickly.\n\nBuy ticket here – https://shorturl.at/La1o1
URL:https://navarrebeach.com/event/girl-scout-cookie-and-beer-pairing/
LOCATION:St. Michael’s Brewing Company\, 2199 FL-87\, Navarre\, FL\, 32566\, United States
ATTACH;FMTTYPE=image/jpeg:https://navarrebeach.com/wp-content/uploads/2025/02/475182902_1154855836511620_8049808644199380290_n.jpg
END:VEVENT
END:VCALENDAR