
BEGIN:VCALENDAR
VERSION:2.0
PRODID:-//Navarrebeach.com - ECPv6.15.20//NONSGML v1.0//EN
CALSCALE:GREGORIAN
METHOD:PUBLISH
X-ORIGINAL-URL:https://navarrebeach.com
X-WR-CALDESC:Events for Navarrebeach.com
REFRESH-INTERVAL;VALUE=DURATION:PT1H
X-Robots-Tag:noindex
X-PUBLISHED-TTL:PT1H
BEGIN:VTIMEZONE
TZID:UTC
BEGIN:STANDARD
TZOFFSETFROM:+0000
TZOFFSETTO:+0000
TZNAME:UTC
DTSTART:20240101T000000
END:STANDARD
END:VTIMEZONE
BEGIN:VEVENT
DTSTART;TZID=UTC:20250224T000000
DTEND;TZID=UTC:20250302T000000
DTSTAMP:20260422T092434
CREATED:20250205T173512Z
LAST-MODIFIED:20250205T173552Z
UID:11521-1740355200-1740873600@navarrebeach.com
SUMMARY:Foiling Week Pensacola 2025
DESCRIPTION:Pensacola\, Florida will transform into the ultimate playground for foiling enthusiasts\, offering a week-long celebration of cutting-edge technology\, thrilling water sports\, and community engagement and entertainment. \nFoiling Week Pensacola will bring together some of the most innovative racing classes\, including WASZP\, Moth\, A-Class Catamaran\, BirdyFish\, Nacra 15 FCS\, with fast-foiling board classes including the X-15 – for the X-15 North America Cup\, iQ Foil and the Foil Surf Racing League (FSRL)\, representing wingfoiling\, windsurfing and foilsurfing classes. In addition\, the event will see an ‘open class’ sailing division including the Skeeta\, F101\, Flying Phantom\, iFly\, Whisper and UFOs. Whether you’re a seasoned racer or a water sports enthusiast\, this event promises high-speed action and world-class competition. \n\n\n2025 Registrations are now open!\n\n\n\n\nDon’t miss your chance to be part of the action – head to foilingweek.com to sign up and secure your spot today. \nOff-water\, the event will feature a vibrant Race Village at Maritime Park\, where visitors can explore local vendors\, enjoy food and drink\, shop exclusive merchandise\, and enjoy live music. Take part in discussions at the dynamic symposium exploring foiling applications\, meet sailing stars\, try out boards and boats (with experienced instructors on hand)\, and enjoy activities including the Pensacola Mardi Gras festivities.
URL:https://navarrebeach.com/event/foiling-week-pensacola-2025/
LOCATION:FL
ATTACH;FMTTYPE=image/jpeg:https://navarrebeach.com/wp-content/uploads/2025/02/Pages-from-Foiling-Week-Pensacol.jpg
END:VEVENT
END:VCALENDAR