
BEGIN:VCALENDAR
VERSION:2.0
PRODID:-//Navarrebeach.com - ECPv6.15.20//NONSGML v1.0//EN
CALSCALE:GREGORIAN
METHOD:PUBLISH
X-WR-CALNAME:Navarrebeach.com
X-ORIGINAL-URL:https://navarrebeach.com
X-WR-CALDESC:Events for Navarrebeach.com
REFRESH-INTERVAL;VALUE=DURATION:PT1H
X-Robots-Tag:noindex
X-PUBLISHED-TTL:PT1H
BEGIN:VTIMEZONE
TZID:UTC
BEGIN:STANDARD
TZOFFSETFROM:+0000
TZOFFSETTO:+0000
TZNAME:UTC
DTSTART:20240101T000000
END:STANDARD
END:VTIMEZONE
BEGIN:VEVENT
DTSTART;TZID=UTC:20250308T200000
DTEND;TZID=UTC:20250309T003000
DTSTAMP:20260422T092437
CREATED:20250305T210657Z
LAST-MODIFIED:20250305T210657Z
UID:11794-1741464000-1741480200@navarrebeach.com
SUMMARY:Live Music at Juana's
DESCRIPTION:If you enjoy live music\, food\, and a beachfront view\, head to Juana’s for a fun night! The Midlife Crisis Band will perform for audiences who want to enjoy all the Pagodas have to offer!
URL:https://navarrebeach.com/event/live-music-at-juanas-46/
LOCATION:Juanas Pagodas\, 1451 Navarre Beach Causeway\, Navarre\, FL\, 32566\, United States
ATTACH;FMTTYPE=image/png:https://navarrebeach.com/wp-content/uploads/2024/08/juanas-pagodas-exterior-beach.png
END:VEVENT
BEGIN:VEVENT
DTSTART;TZID=UTC:20250309T070000
DTEND;TZID=UTC:20250309T103000
DTSTAMP:20260422T092437
CREATED:20250305T204337Z
LAST-MODIFIED:20250305T204337Z
UID:11780-1741503600-1741516200@navarrebeach.com
SUMMARY:Monthly Breakfast at Holley Navarre Senior Center
DESCRIPTION:Did you know that there is a DELICIOUS way to support your local senior center? Every 2nd Saturday of the month\, we offer a pancake breakfast…\n\nHolley Navarre Senior Center’s breakfast is one of the best kept secrets in Navarre and we hope you’ll give it a try!!! Every dollar earned goes directly to the center and supports our community events.\n\nThey even offer ALL YOU CAN EAT PANCAKES… – WHAT!!!???.(Please bring cash – we are working on going electronic!!)\n\nThey start serving at 7:00am and go all the way to 10:30am for those of you that like to sleep in .\n\nThe best part? You don’t even need to be a member to come to the breakfast\, but once you try it – you’ll want to join\, get on their e-mail list and get reminders when the breakfasts are on!!!\n\nIf you haven’t checked out the local senior center yet\, they’d love to see you!!!
URL:https://navarrebeach.com/event/monthly-breakfast-at-holley-navarre-senior-center/
LOCATION:Holley-Navarre Seniors Association\, 8476 Gordon Goodin Lane\, Navarre\, FL\, 32566\, United States
ATTACH;FMTTYPE=image/jpeg:https://navarrebeach.com/wp-content/uploads/2025/03/480637291_660103826591122_166516323534695306_n.jpg
END:VEVENT
BEGIN:VEVENT
DTSTART;TZID=UTC:20250309T150000
DTEND;TZID=UTC:20250309T190000
DTSTAMP:20260422T092437
CREATED:20250305T210955Z
LAST-MODIFIED:20250305T210955Z
UID:11797-1741532400-1741546800@navarrebeach.com
SUMMARY:Live Music at Juana's
DESCRIPTION:If you enjoy live music\, food\, and a beachfront view\, head to Juana’s for a fun night! She & The Its will perform for audiences who want to enjoy all the Pagodas have to offer!
URL:https://navarrebeach.com/event/live-music-at-juanas-47/
LOCATION:Juanas Pagodas\, 1451 Navarre Beach Causeway\, Navarre\, FL\, 32566\, United States
ATTACH;FMTTYPE=image/jpeg:https://navarrebeach.com/wp-content/uploads/2025/03/20180507_155707.jpg
END:VEVENT
END:VCALENDAR