
BEGIN:VCALENDAR
VERSION:2.0
PRODID:-//Navarrebeach.com - ECPv6.15.20//NONSGML v1.0//EN
CALSCALE:GREGORIAN
METHOD:PUBLISH
X-WR-CALNAME:Navarrebeach.com
X-ORIGINAL-URL:https://navarrebeach.com
X-WR-CALDESC:Events for Navarrebeach.com
REFRESH-INTERVAL;VALUE=DURATION:PT1H
X-Robots-Tag:noindex
X-PUBLISHED-TTL:PT1H
BEGIN:VTIMEZONE
TZID:UTC
BEGIN:STANDARD
TZOFFSETFROM:+0000
TZOFFSETTO:+0000
TZNAME:UTC
DTSTART:20240101T000000
END:STANDARD
END:VTIMEZONE
BEGIN:VEVENT
DTSTART;TZID=UTC:20250312T110000
DTEND;TZID=UTC:20250312T230000
DTSTAMP:20260422T092438
CREATED:20250219T211900Z
LAST-MODIFIED:20250219T211900Z
UID:11630-1741777200-1741820400@navarrebeach.com
SUMMARY:Buffalo “Wild” WINGS Fundraiser Night with Emerald Coast Wildlife Refuge
DESCRIPTION:Join ECWR for a special fundraising night. Any guest who presents their server with a special ECWR/BWW coupon will help ECWR receive 20% of the proceeds. Coupons can be presented digitally or physically and used in dine-in OR takeout orders to help raise funds.
URL:https://navarrebeach.com/event/buffalo-wild-wings-fundraiser-night-with-emerald-coast-wildlife-refuge/
LOCATION:Buffalo Wild Wings Navarre\, 1861 Elevate Ave\, Navarre\, FL\, 32566\, United States
ATTACH;FMTTYPE=image/jpeg:https://navarrebeach.com/wp-content/uploads/2025/02/480190333_1069611991872029_1120966057428114953_n.jpg
END:VEVENT
BEGIN:VEVENT
DTSTART;TZID=UTC:20250312T190000
DTEND;TZID=UTC:20250312T230000
DTSTAMP:20260422T092438
CREATED:20250305T211216Z
LAST-MODIFIED:20250305T211216Z
UID:11800-1741806000-1741820400@navarrebeach.com
SUMMARY:Live Music at Juana's
DESCRIPTION:If you enjoy live music\, food\, and a beachfront view\, head to Juana’s for a fun night! Almost Famous will perform for audiences who want to enjoy all the Pagodas have to offer!
URL:https://navarrebeach.com/event/live-music-at-juanas-48/
LOCATION:Juanas Pagodas\, 1451 Navarre Beach Causeway\, Navarre\, FL\, 32566\, United States
ATTACH;FMTTYPE=image/jpeg:https://navarrebeach.com/wp-content/uploads/2025/03/IMG_3323-scaled.jpg
END:VEVENT
END:VCALENDAR