
BEGIN:VCALENDAR
VERSION:2.0
PRODID:-//Navarrebeach.com - ECPv6.15.20//NONSGML v1.0//EN
CALSCALE:GREGORIAN
METHOD:PUBLISH
X-WR-CALNAME:Navarrebeach.com
X-ORIGINAL-URL:https://navarrebeach.com
X-WR-CALDESC:Events for Navarrebeach.com
REFRESH-INTERVAL;VALUE=DURATION:PT1H
X-Robots-Tag:noindex
X-PUBLISHED-TTL:PT1H
BEGIN:VTIMEZONE
TZID:UTC
BEGIN:STANDARD
TZOFFSETFROM:+0000
TZOFFSETTO:+0000
TZNAME:UTC
DTSTART:20240101T000000
END:STANDARD
END:VTIMEZONE
BEGIN:VEVENT
DTSTART;TZID=UTC:20250318T090000
DTEND;TZID=UTC:20250318T100000
DTSTAMP:20260422T092437
CREATED:20250305T202300Z
LAST-MODIFIED:20250305T202300Z
UID:11762-1742288400-1742292000@navarrebeach.com
SUMMARY:Turtle Talk with the Sea Turtle Rescue Team
DESCRIPTION:Hey there sea turtle lovers!! Grab breakfast and a cup of coffee from Andy D’s Ruby Cafe and join the amazing NBSTCC Sea Turtle Rescue Team for an informative presentation and a Q&A session about the incredible work they do to protect these beautiful ocean animals. \nThere is no pre-registration for this event. Seats are first come\, first served.
URL:https://navarrebeach.com/event/turtle-talk-with-the-sea-turtle-rescue-team/
LOCATION:Andy D’s Beachside Restaurant & Deck Bar\, 8649 Gulf Blvd\, Navarre\, 32566
ATTACH;FMTTYPE=image/jpeg:https://navarrebeach.com/wp-content/uploads/2025/03/481239241_1045586510934412_4920649353819652141_n.jpg
END:VEVENT
END:VCALENDAR