
BEGIN:VCALENDAR
VERSION:2.0
PRODID:-//Navarrebeach.com - ECPv6.15.20//NONSGML v1.0//EN
CALSCALE:GREGORIAN
METHOD:PUBLISH
X-ORIGINAL-URL:https://navarrebeach.com
X-WR-CALDESC:Events for Navarrebeach.com
REFRESH-INTERVAL;VALUE=DURATION:PT1H
X-Robots-Tag:noindex
X-PUBLISHED-TTL:PT1H
BEGIN:VTIMEZONE
TZID:UTC
BEGIN:STANDARD
TZOFFSETFROM:+0000
TZOFFSETTO:+0000
TZNAME:UTC
DTSTART:20240101T000000
END:STANDARD
END:VTIMEZONE
BEGIN:VEVENT
DTSTART;TZID=UTC:20250411T200000
DTEND;TZID=UTC:20250419T000000
DTSTAMP:20260422T075926
CREATED:20250404T200958Z
LAST-MODIFIED:20250404T200958Z
UID:11928-1744401600-1745020800@navarrebeach.com
SUMMARY:Live Music at Juana's
DESCRIPTION:If you enjoy live music\, food\, and a beachfront view\, head to Juana’s for a fun night! Brandon Giles will perform for audiences who want to enjoy all the Pagodas have to offer!
URL:https://navarrebeach.com/event/live-music-at-juanas-70/
LOCATION:Juanas Pagodas\, 1451 Navarre Beach Causeway\, Navarre\, FL\, 32566\, United States
ATTACH;FMTTYPE=image/jpeg:https://navarrebeach.com/wp-content/uploads/2025/04/Brandon-Giles.jpg
END:VEVENT
BEGIN:VEVENT
DTSTART;TZID=UTC:20250412T080000
DTEND;TZID=UTC:20250412T080000
DTSTAMP:20260422T075926
CREATED:20250328T171821Z
LAST-MODIFIED:20250328T171821Z
UID:11889-1744444800-1744444800@navarrebeach.com
SUMMARY:Battle on The Coast 2025
DESCRIPTION:BATTLE ON THE COASThttps://www.coastalfitnesstraining.com/battleonthecoast\n\nThe Gulf Coasts ONLY Women’s Competition.\n\nEarly Bird REGISTRATION\n02/21/25-02/23/25 ONLY $200 PER TEAM\n**After 02/23/25 $300 Per Team**\n\n-2 Person Teams\n-Women ONLY\n– 4 Fitness Workouts\n-Test Every Limit\n-No Boys Allowed
URL:https://navarrebeach.com/event/battle-on-the-coast-2025/
LOCATION:Navarre High School\, 8600 High School Blvd\, Navarre\, FL\, 32566\, United States
ATTACH;FMTTYPE=image/jpeg:https://navarrebeach.com/wp-content/uploads/2025/03/480494079_1154335790027335_3571660649232830078_n.jpg
END:VEVENT
BEGIN:VEVENT
DTSTART;TZID=UTC:20250412T090000
DTEND;TZID=UTC:20250412T140000
DTSTAMP:20260422T075926
CREATED:20250328T171011Z
LAST-MODIFIED:20250328T171124Z
UID:11878-1744448400-1744466400@navarrebeach.com
SUMMARY:Woofstock 2025
DESCRIPTION:Get Ready for the 2nd Annual Woofstock – Presented by Navarre Beach Pet Retreat!\n\nEARLY BIRD DEADLINE FOR VENDORS IS MAR 15\n\nCalling all dog lovers and their furry friends—Woofstock is back and promises to be even bigger and better this year!\n\nLast year\, over 200 dogs and countless humans gathered for a day filled with Peace\, Love\, Music\, and Pups at the Navarre Chamber’s inaugural event.\n\nThis year\, they’re bringing you another paws-itively amazing celebration packed with fun activities\, LIVE entertainment\, and all things dogs and the humans that LOVE them!\n\nHighlights of Woofstock 2024:\n\nVendors brought their “A-game” with treats\, giveaways\, and fantastic prizes.\nThe Santa Rosa County Sheriff’s Office K-9 Unit wowed the crowd with their incredible skills.\nAn atmosphere of fun\, community\, and tail-wagging excitement!\n\n\nThis year\, expect:\n\nLIVE entertainment to keep the good vibes rolling.\nEven more vendors offering treats\, toys\, and services for you and your pup.\nSpecial appearances and demonstrations (yes\, the K-9 Unit will be back!).\nFun activities for the whole family—both two-legged and four-legged!\n\n\nMark your calendars and bring your best furry friend to Woofstock 2025 for a day you won’t forget. Let’s celebrate our love for dogs\, community\, and good times together!
URL:https://navarrebeach.com/event/11878/
LOCATION:Pik-itz Art & Antiques\, 1922 Highway 87\, Navarre\, FL\, 32566\, United States
ATTACH;FMTTYPE=image/jpeg:https://navarrebeach.com/wp-content/uploads/2025/03/486022102_1063892915765825_3301008048021262820_n.jpg
END:VEVENT
BEGIN:VEVENT
DTSTART;TZID=UTC:20250412T100000
DTEND;TZID=UTC:20250412T100000
DTSTAMP:20260422T075926
CREATED:20250328T171527Z
LAST-MODIFIED:20250328T171527Z
UID:11886-1744452000-1744452000@navarrebeach.com
SUMMARY:FBCN Annual Easter Egg Hunt
DESCRIPTION:Families and friends with children ages 3yrs to 5th grade are welcome to join us for our FBCN Annual Easter Egg Hunt! We will have a special Jesus story\, Easter backdrop available for children’s pictures\, crafting bracelets\, drawing with chalk\, along with our egg hunt! Don’t miss out on this FREE family fun event!
URL:https://navarrebeach.com/event/fbcn-annual-easter-egg-hunt/
LOCATION:First Baptist Church Navarre\, 9302 Navarre Parkway\, Navarre\, FL\, 32566\, United States
ATTACH;FMTTYPE=image/jpeg:https://navarrebeach.com/wp-content/uploads/2025/03/481123444_1046295154204137_7698020405389824307_n.jpg
END:VEVENT
BEGIN:VEVENT
DTSTART;TZID=UTC:20250412T110000
DTEND;TZID=UTC:20250412T180000
DTSTAMP:20260422T075926
CREATED:20250305T202950Z
LAST-MODIFIED:20250305T202950Z
UID:11768-1744455600-1744480800@navarrebeach.com
SUMMARY:Spring Navarre Market
DESCRIPTION:Come on out to the Navarre Market Saturday April 12th from 11 – 6 PM at Navarre Park. We will have numerous food trucks\, tent/craft vendors\, live music and a bounce house for the kids. Free admission. The bounce house for kids is $5 and they are issued a wristband to have fun all day bouncing. To register as a vendor visit: https://apexshowsandevents.com/4%2F12-spring-navarre
URL:https://navarrebeach.com/event/spring-navarre-market/
LOCATION:8341 Navarre Parkway\, 8341 Navarre Pkwy\, Navarre\, FL\, 32566\, United States
ATTACH;FMTTYPE=image/jpeg:https://navarrebeach.com/wp-content/uploads/2025/03/469928609_1142580817870642_3724526871267435211_n.jpg
END:VEVENT
BEGIN:VEVENT
DTSTART;TZID=UTC:20250412T130000
DTEND;TZID=UTC:20250412T170000
DTSTAMP:20260422T075926
CREATED:20250328T171330Z
LAST-MODIFIED:20250328T171330Z
UID:11883-1744462800-1744477200@navarrebeach.com
SUMMARY:The Locals Market
DESCRIPTION:Join Ye Olde Brothers Brewery for a pop-up market For The Locals\, By The Locals!\n\nCome shop local amazing vendors and sip your favorite beer or wine.\n\nHourly door raffles – Family Friendly – DJ – Kids activities and much more!\n\nMake sure to check out their Facebook page for other local markets!
URL:https://navarrebeach.com/event/the-locals-market/
LOCATION:Ye Olde Brothers Brewery\, 4458 Highway 87\, Navarre\, FL\, 32566\, United States
ATTACH;FMTTYPE=image/jpeg:https://navarrebeach.com/wp-content/uploads/2025/03/482019065_122127050168607471_7609229436420633513_n.jpg
END:VEVENT
END:VCALENDAR