
BEGIN:VCALENDAR
VERSION:2.0
PRODID:-//Navarrebeach.com - ECPv6.15.20//NONSGML v1.0//EN
CALSCALE:GREGORIAN
METHOD:PUBLISH
X-WR-CALNAME:Navarrebeach.com
X-ORIGINAL-URL:https://navarrebeach.com
X-WR-CALDESC:Events for Navarrebeach.com
REFRESH-INTERVAL;VALUE=DURATION:PT1H
X-Robots-Tag:noindex
X-PUBLISHED-TTL:PT1H
BEGIN:VTIMEZONE
TZID:UTC
BEGIN:STANDARD
TZOFFSETFROM:+0000
TZOFFSETTO:+0000
TZNAME:UTC
DTSTART:20240101T000000
END:STANDARD
END:VTIMEZONE
BEGIN:VEVENT
DTSTART;TZID=UTC:20250419T100000
DTEND;TZID=UTC:20250419T120000
DTSTAMP:20260422T075838
CREATED:20250408T155437Z
LAST-MODIFIED:20250408T155437Z
UID:11936-1745056800-1745064000@navarrebeach.com
SUMMARY:Easter Rock Hunt
DESCRIPTION:
URL:https://navarrebeach.com/event/easter-rock-hunt/
LOCATION:Bunnychick Haven of Navarre\, 8386 Mercado S\, Navarre\, FL\, 32566\, United States
ATTACH;FMTTYPE=image/png:https://navarrebeach.com/wp-content/uploads/2025/04/Easter-Rock-Event.png
END:VEVENT
BEGIN:VEVENT
DTSTART;TZID=UTC:20250419T100000
DTEND;TZID=UTC:20250419T140000
DTSTAMP:20260422T075838
CREATED:20250328T190148Z
LAST-MODIFIED:20250328T190158Z
UID:11897-1745056800-1745071200@navarrebeach.com
SUMMARY:Easter Egg-Stravaganza 2025
DESCRIPTION:Panhandle Palm & Rock and Grow With Us Learning Academy are once again bringing you a FREE community event you won’t want to miss!\n\nWhat’s in store?\n\nEPIC Easter Egg Hunt – Over 12\,000 eggs & even more space! One age group at a time for a better experience!\nBounce Houses & Inflatables – Including a dunk tank\, Velcro wall & more!\nArts & Crafts – Get creative with Easter-themed fun!\nPhotos with the Easter Bunny – Don’t forget your cameras or utilize our photographer!\nPetting Zoo – Meet adorable animals up close!\nRaffle Prizes & Golden Egg Baskets – Will you find the golden egg?\nConcession Stand – Enjoy delicious complimentary treats while you play!\nFOOD TRUCKS! – Grab a bite from some amazing local vendors!\n\n\nThey’ve heard your feedback\, and this year\, they’re making sure there are shorter lines\, more eggs\, and an even better experience for everyone! \n\nRSVP is kindly requested so they can plan accordingly!\n\nWant to be part of the fun? They’re opening volunteer and sponsorship opportunities for the community! If you’d like to donate your time or services\, they’d love your help! As they say\, it takes a village. Contact us at events.info@sihcorp.net or message us directly for more information!\n\nDONATIONS ACCEPTED! They are collecting plastic Easter egg shells & fillers at ANY Grow With Us Learning Academy location or Panhandle Palm & Rock in Navarre\, FL.\n\nTag your friends\, spread the word\, and let’s make this the BEST Easter Eggstravaganza yet!
URL:https://navarrebeach.com/event/easter-egg-stravaganza-2025/
LOCATION:Panhandle Palm & Rock\, 1801 Presidio St\, Navarre\, FL\, 32566\, United States
ATTACH;FMTTYPE=image/jpeg:https://navarrebeach.com/wp-content/uploads/2025/03/480941949_1227199049411024_5136138567999088143_n.jpg
END:VEVENT
BEGIN:VEVENT
DTSTART;TZID=UTC:20250419T120000
DTEND;TZID=UTC:20250419T120000
DTSTAMP:20260422T075838
CREATED:20250328T190828Z
LAST-MODIFIED:20250328T190828Z
UID:11907-1745064000-1745064000@navarrebeach.com
SUMMARY:Gathering house Easter Egg Hunt 2025
DESCRIPTION:Get ready for an unforgettable day of fun and laughter at the Gathering Houses’ Easter Egg Hunt starting at 12:00 p.m. Your little ones will have a blast searching for eggs filled with surprises!\n\nBut wait\, there’s more! Treat your taste buds to hotdogs\, cotton candy\, and snow cones\, ensuring a delightful feast for all. The best part is it’s all free! They will have tons of eggs and bags ready for all the kids!\n\nMark your calendars – this is one event you won’t want to miss! See you there!
URL:https://navarrebeach.com/event/gathering-house-easter-egg-hunt-2025/
LOCATION:Gathering House\, 1955 Lowe Rd\, Navarre\, FL\, 32566\, United States
ATTACH;FMTTYPE=image/jpeg:https://navarrebeach.com/wp-content/uploads/2025/03/484991292_637958928983714_543883067986817538_n.jpg
END:VEVENT
BEGIN:VEVENT
DTSTART;TZID=UTC:20250419T160000
DTEND;TZID=UTC:20250419T200000
DTSTAMP:20260422T075838
CREATED:20250418T163454Z
LAST-MODIFIED:20250418T163454Z
UID:11946-1745078400-1745092800@navarrebeach.com
SUMMARY:Live Music at Juana's
DESCRIPTION:If you enjoy live music\, food\, and a beachfront view\, head to Juana’s for a fun night! Almost Famous will perform for audiences who want to enjoy all the Pagodas have to offer!
URL:https://navarrebeach.com/event/live-music-at-juanas-73/
LOCATION:Juanas Pagodas\, 1451 Navarre Beach Causeway\, Navarre\, FL\, 32566\, United States
ATTACH;FMTTYPE=image/jpeg:https://navarrebeach.com/wp-content/uploads/2025/04/Almost-famous-scaled.jpg
END:VEVENT
BEGIN:VEVENT
DTSTART;TZID=UTC:20250419T200000
DTEND;TZID=UTC:20250420T000000
DTSTAMP:20260422T075838
CREATED:20250418T163832Z
LAST-MODIFIED:20250418T163832Z
UID:11948-1745092800-1745107200@navarrebeach.com
SUMMARY:Live Music at Juana's
DESCRIPTION:If you enjoy live music\, food\, and a beachfront view\, head to Juana’s for a fun night! The Midlife Crisis Band will perform for audiences who want to enjoy all the Pagodas have to offer!
URL:https://navarrebeach.com/event/live-music-at-juanas-74/
LOCATION:Juanas Pagodas\, 1451 Navarre Beach Causeway\, Navarre\, FL\, 32566\, United States
ATTACH;FMTTYPE=image/png:https://navarrebeach.com/wp-content/uploads/2025/04/Midlife-Crisis-Band.png
END:VEVENT
END:VCALENDAR