
BEGIN:VCALENDAR
VERSION:2.0
PRODID:-//Navarrebeach.com - ECPv6.15.20//NONSGML v1.0//EN
CALSCALE:GREGORIAN
METHOD:PUBLISH
X-WR-CALNAME:Navarrebeach.com
X-ORIGINAL-URL:https://navarrebeach.com
X-WR-CALDESC:Events for Navarrebeach.com
REFRESH-INTERVAL;VALUE=DURATION:PT1H
X-Robots-Tag:noindex
X-PUBLISHED-TTL:PT1H
BEGIN:VTIMEZONE
TZID:UTC
BEGIN:STANDARD
TZOFFSETFROM:+0000
TZOFFSETTO:+0000
TZNAME:UTC
DTSTART:20240101T000000
END:STANDARD
END:VTIMEZONE
BEGIN:VEVENT
DTSTART;TZID=UTC:20250420T090000
DTEND;TZID=UTC:20250420T170000
DTSTAMP:20260422T075839
CREATED:20250418T164818Z
LAST-MODIFIED:20250418T164818Z
UID:11966-1745139600-1745168400@navarrebeach.com
SUMMARY:Easter at the Gulf Breeze Zoo
DESCRIPTION:Hop on over to the Gulf Breeze Zoo for an egg-citing time this Easter!\n\nThey will be hosting their annual Easter Egg Hunt and will also have face painting\, a bounce house\, and fun photo opportunities with the Easter Bunny!\n\nPhotos with the Easter Bunny9:30 am to 4:30 pm\n\nEaster Egg Hunt\nAges 0-2 begins promptly at 11:30 amAges 3-6 begins promptly at 12:00 pm / NoonAges 7-12 begins promptly at 12:30 pm\n\n(Please bring your own Easter baskets)\n\nMembers pay only $10!
URL:https://navarrebeach.com/event/easter-at-the-gulf-breeze-zoo/
LOCATION:Gulf Breeze Zoo\, 5701 Gulf Breeze Pkwy\, Gulf Breeze\, FL\, 32563\, United States
ATTACH;FMTTYPE=image/jpeg:https://navarrebeach.com/wp-content/uploads/2025/04/489943045_1075521034619069_7470681720395643916_n.jpg
END:VEVENT
BEGIN:VEVENT
DTSTART;TZID=UTC:20250420T150000
DTEND;TZID=UTC:20250420T190000
DTSTAMP:20260422T075839
CREATED:20250418T163941Z
LAST-MODIFIED:20250418T163941Z
UID:11952-1745161200-1745175600@navarrebeach.com
SUMMARY:Live Music at Juana's
DESCRIPTION:If you enjoy live music\, food\, and a beachfront view\, head to Juana’s for a fun night! The Six Piece Suits will perform for audiences who want to enjoy all the Pagodas have to offer!
URL:https://navarrebeach.com/event/live-music-at-juanas-75/
LOCATION:Juanas Pagodas\, 1451 Navarre Beach Causeway\, Navarre\, FL\, 32566\, United States
ATTACH;FMTTYPE=image/jpeg:https://navarrebeach.com/wp-content/uploads/2025/03/IMG_7860.jpg
END:VEVENT
END:VCALENDAR