
BEGIN:VCALENDAR
VERSION:2.0
PRODID:-//Navarrebeach.com - ECPv6.15.20//NONSGML v1.0//EN
CALSCALE:GREGORIAN
METHOD:PUBLISH
X-WR-CALNAME:Navarrebeach.com
X-ORIGINAL-URL:https://navarrebeach.com
X-WR-CALDESC:Events for Navarrebeach.com
REFRESH-INTERVAL;VALUE=DURATION:PT1H
X-Robots-Tag:noindex
X-PUBLISHED-TTL:PT1H
BEGIN:VTIMEZONE
TZID:UTC
BEGIN:STANDARD
TZOFFSETFROM:+0000
TZOFFSETTO:+0000
TZNAME:UTC
DTSTART:20240101T000000
END:STANDARD
END:VTIMEZONE
BEGIN:VEVENT
DTSTART;TZID=UTC:20250510T120000
DTEND;TZID=UTC:20250510T170000
DTSTAMP:20260422T062831
CREATED:20250509T194252Z
LAST-MODIFIED:20250509T194252Z
UID:11987-1746878400-1746896400@navarrebeach.com
SUMMARY:Ye Olde Brothers Makers Market
DESCRIPTION:A day of celebrating mom! \nShop from local vendors\, enjoy some great food\, DJ\, raffles\, beer & much more!
URL:https://navarrebeach.com/event/ye-olde-brothers-makers-market/
LOCATION:Ye Olde Brothers Brewery\, 4458 Highway 87\, Navarre\, FL\, 32566\, United States
ATTACH;FMTTYPE=image/jpeg:https://navarrebeach.com/wp-content/uploads/2025/05/490136303_122133287900607471_4618603687167601831_n-1.jpg
END:VEVENT
BEGIN:VEVENT
DTSTART;TZID=UTC:20250510T160000
DTEND;TZID=UTC:20250510T200000
DTSTAMP:20260422T062831
CREATED:20250509T200000Z
LAST-MODIFIED:20250509T200000Z
UID:12013-1746892800-1746907200@navarrebeach.com
SUMMARY:Live Music at Juana's
DESCRIPTION:If you enjoy live music\, food\, and a beachfront view\, head to Juana’s for a fun night! The Rowdies will perform for audiences who want to enjoy all the Pagodas have to offer!
URL:https://navarrebeach.com/event/live-music-at-juanas-80/
LOCATION:Juanas Pagodas\, 1451 Navarre Beach Causeway\, Navarre\, FL\, 32566\, United States
ATTACH;FMTTYPE=image/jpeg:https://navarrebeach.com/wp-content/uploads/2025/03/The-Rowdies.jpg
END:VEVENT
BEGIN:VEVENT
DTSTART;TZID=UTC:20250510T200000
DTEND;TZID=UTC:20250511T000000
DTSTAMP:20260422T062831
CREATED:20250509T200157Z
LAST-MODIFIED:20250509T200157Z
UID:12015-1746907200-1746921600@navarrebeach.com
SUMMARY:Live Music at Juana's
DESCRIPTION:If you enjoy live music\, food\, and a beachfront view\, head to Juana’s for a fun night! Brandon Giles will perform for audiences who want to enjoy all the Pagodas have to offer!
URL:https://navarrebeach.com/event/live-music-at-juanas-81/
LOCATION:Juanas Pagodas\, 1451 Navarre Beach Causeway\, Navarre\, FL\, 32566\, United States
ATTACH;FMTTYPE=image/png:https://navarrebeach.com/wp-content/uploads/2025/05/Brandon-Giles.png
END:VEVENT
END:VCALENDAR