
BEGIN:VCALENDAR
VERSION:2.0
PRODID:-//Navarrebeach.com - ECPv6.15.20//NONSGML v1.0//EN
CALSCALE:GREGORIAN
METHOD:PUBLISH
X-WR-CALNAME:Navarrebeach.com
X-ORIGINAL-URL:https://navarrebeach.com
X-WR-CALDESC:Events for Navarrebeach.com
REFRESH-INTERVAL;VALUE=DURATION:PT1H
X-Robots-Tag:noindex
X-PUBLISHED-TTL:PT1H
BEGIN:VTIMEZONE
TZID:UTC
BEGIN:STANDARD
TZOFFSETFROM:+0000
TZOFFSETTO:+0000
TZNAME:UTC
DTSTART:20240101T000000
END:STANDARD
END:VTIMEZONE
BEGIN:VEVENT
DTSTART;TZID=UTC:20250513T090000
DTEND;TZID=UTC:20250513T100000
DTSTAMP:20260422T062858
CREATED:20250509T193520Z
LAST-MODIFIED:20250509T193520Z
UID:11977-1747126800-1747130400@navarrebeach.com
SUMMARY:Turtle Talk with the Sea Turtle Rescue Team
DESCRIPTION:Hey there sea turtle lovers!! Grab breakfast and a cup of coffee from Andy D’s Ruby Cafe and join the amazing NBSTCC Sea Turtle Rescue Team for an informative presentation and a Q&A session about the incredible work they do to protect these beautiful ocean animals. \nThere is no pre-registration for this event. Seats are first come\, first served.
URL:https://navarrebeach.com/event/turtle-talk-with-the-sea-turtle-rescue-team-2/
LOCATION:Andy D’s Beachside Restaurant & Deck Bar\, 8649 Gulf Blvd\, Navarre\, 32566
ATTACH;FMTTYPE=image/jpeg:https://navarrebeach.com/wp-content/uploads/2025/03/481239241_1045586510934412_4920649353819652141_n.jpg
END:VEVENT
BEGIN:VEVENT
DTSTART;TZID=UTC:20250513T130000
DTEND;TZID=UTC:20250513T140000
DTSTAMP:20260422T062858
CREATED:20250509T194724Z
LAST-MODIFIED:20250509T194724Z
UID:11994-1747141200-1747144800@navarrebeach.com
SUMMARY:Homeschool S.T.E.A.M Club (K-5th)
DESCRIPTION:Bring your K-5TH Homeschoolers down to the Navarre Library every Tuesday afternoon for Legos\, Manipulatives/Building\, Coding\, Robotics\, Chess\, STEAM (Science/Technology/Engineering/Art/Math)! \nFree of charge\, BUT please bring one S.T.E.A.M inspired activity/building activity/coding dittos/or chess game to share. It takes a village! \nHere are some ideashttps://www.pinterest.com/babbledabbledo/steam-activities/https://www.pinterest.com/littlebinsforl…/stem-activities/ \nDates: Every Tuesday 1:00-2:00 PM
URL:https://navarrebeach.com/event/homeschool-s-t-e-a-m-club-k-5th/
LOCATION:The Navarre Library\, 8484 James M. Harvell Rd\, Navarre\, FL\, 32566\, United States
ATTACH;FMTTYPE=image/jpeg:https://navarrebeach.com/wp-content/uploads/2025/05/476276820_8974941845950367_3305468008717363323_n.jpg
END:VEVENT
END:VCALENDAR