
BEGIN:VCALENDAR
VERSION:2.0
PRODID:-//Navarrebeach.com - ECPv6.15.20//NONSGML v1.0//EN
CALSCALE:GREGORIAN
METHOD:PUBLISH
X-WR-CALNAME:Navarrebeach.com
X-ORIGINAL-URL:https://navarrebeach.com
X-WR-CALDESC:Events for Navarrebeach.com
REFRESH-INTERVAL;VALUE=DURATION:PT1H
X-Robots-Tag:noindex
X-PUBLISHED-TTL:PT1H
BEGIN:VTIMEZONE
TZID:UTC
BEGIN:STANDARD
TZOFFSETFROM:+0000
TZOFFSETTO:+0000
TZNAME:UTC
DTSTART:20240101T000000
END:STANDARD
END:VTIMEZONE
BEGIN:VEVENT
DTSTART;TZID=UTC:20250514T103000
DTEND;TZID=UTC:20250514T113000
DTSTAMP:20260422T064159
CREATED:20250509T195528Z
LAST-MODIFIED:20250509T195528Z
UID:12003-1747218600-1747222200@navarrebeach.com
SUMMARY:Meet! Play! Learn!
DESCRIPTION:Meet! Play! Learn! is a program where parents of young children can congregate and socialize with other parents while their children play and make friends at age-appropriate activity stations set up around the room. This program is for children ages birth to 5 who have not yet started kindergarten.
URL:https://navarrebeach.com/event/meet-play-learn-2/
LOCATION:The Navarre Library\, 8484 James M. Harvell Rd\, Navarre\, FL\, 32566\, United States
ATTACH;FMTTYPE=image/jpeg:https://navarrebeach.com/wp-content/uploads/2025/05/486120108_1060127506141117_3819423511102716416_n.jpg
END:VEVENT
BEGIN:VEVENT
DTSTART;TZID=UTC:20250514T190000
DTEND;TZID=UTC:20250514T230000
DTSTAMP:20260422T064159
CREATED:20250509T200509Z
LAST-MODIFIED:20250509T200509Z
UID:12021-1747249200-1747263600@navarrebeach.com
SUMMARY:Live Music at Juana's
DESCRIPTION:If you enjoy live music\, food\, and a beachfront view\, head to Juana’s for a fun night! Greg Lyon will perform for audiences who want to enjoy all the Pagodas have to offer!
URL:https://navarrebeach.com/event/live-music-at-juanas-83/
LOCATION:Juanas Pagodas\, 1451 Navarre Beach Causeway\, Navarre\, FL\, 32566\, United States
ATTACH;FMTTYPE=image/jpeg:https://navarrebeach.com/wp-content/uploads/2025/05/Greg-Lyon.jpg
END:VEVENT
END:VCALENDAR