
BEGIN:VCALENDAR
VERSION:2.0
PRODID:-//Navarrebeach.com - ECPv6.15.20//NONSGML v1.0//EN
CALSCALE:GREGORIAN
METHOD:PUBLISH
X-ORIGINAL-URL:https://navarrebeach.com
X-WR-CALDESC:Events for Navarrebeach.com
REFRESH-INTERVAL;VALUE=DURATION:PT1H
X-Robots-Tag:noindex
X-PUBLISHED-TTL:PT1H
BEGIN:VTIMEZONE
TZID:UTC
BEGIN:STANDARD
TZOFFSETFROM:+0000
TZOFFSETTO:+0000
TZNAME:UTC
DTSTART:20240101T000000
END:STANDARD
END:VTIMEZONE
BEGIN:VEVENT
DTSTART;TZID=UTC:20250521T090000
DTEND;TZID=UTC:20250521T130000
DTSTAMP:20260422T062903
CREATED:20250509T195726Z
LAST-MODIFIED:20250509T195726Z
UID:12010-1747818000-1747832400@navarrebeach.com
SUMMARY:Plant Clinic by UF/IFAS Master Gardeners
DESCRIPTION:The Plant Clinic formerly held at the South End Service Center in Midway will be held at the Navarre Library on Wednesdays from 9 a.m. – 1 p.m\, except for the 2nd Wednesday of each month.\n\nPlant clinics provide UF backed and research-based information on all matters related to plants and insects. Issues inhibiting plant growth are diagnosed and strategies are developed to overcome them. Issues may include pathogens\, insect damage\, and environmental factors. In addition\, unknown plants and insects are identified\, and clients are directed to soil testing services.\n\nhttps://sfyl.ifas.ufl.edu/santa-rosa/plant-clinics/
URL:https://navarrebeach.com/event/plant-clinic-by-uf-ifas-master-gardeners/
LOCATION:The Navarre Library\, 8484 James M. Harvell Rd\, Navarre\, FL\, 32566\, United States
ATTACH;FMTTYPE=image/jpeg:https://navarrebeach.com/wp-content/uploads/2025/05/486325479_1060127536141114_6099493344283379937_n.jpg
END:VEVENT
BEGIN:VEVENT
DTSTART;TZID=UTC:20250521T113000
DTEND;TZID=UTC:20250521T113000
DTSTAMP:20260422T062903
CREATED:20250509T194928Z
LAST-MODIFIED:20250509T194928Z
UID:11997-1747827000-1747827000@navarrebeach.com
SUMMARY:Women 2 Women Connecting Floral Arranging Workshop
DESCRIPTION:The Navarre Beach Area Chamber of Commerce is looking forward to a special Women 2 Women Connecting event in May\, with a group flower arranging activity sponsored by Everything Palms Partners\, Laurent Haggett and Grocery Concierge/My Home Watch Concierge\, Gretchen Ludwig!\n\nThe activity sponsors will be providing each registered attendee with an empty vase and an assortment of stems. Experienced floral designer\, and Lauren’s Mom\, Ginger Laughlin will guide the group as we turn basic grocery store blooms into a beautiful custom arrangement! Attendees will leave with their personal creation and tips they can use to create beautiful bouquets for themselves\, family and friends anytime!\n\nThe mission of Women 2 Women Connecting is to provide female business owners\, managers and employees the opportunity to meet\, advise\, support\, mentor\, connect and encourage one another in order to promote the success of their businesses\, as well as providing opportunities for the members and guests to connect and learn more about each other and the community.\n\nThe monthly meetings will be focused on providing relevant programming to professional women\, encourage networking\, and offer a venue to share ideas\, success stories and best practices with other women in the local community.Each month\, to keep it easy\, lunch will be provided at a cost of $15 for Chamber Members and $20 for Guests. RSVP Required.\n\nThe Women 2 Women Connecting will take place on the 3rd Wednesday of each month\, from 11:30 am to 1:00 pm at Hampton Inn by Hilton\, 7710 Navarre Parkway.\n\nAll women in the Navarre area are invited to attend.
URL:https://navarrebeach.com/event/women-2-women-connecting-floral-arranging-workshop/
LOCATION:Hampton Inn & Suites Hotel Navarre\, 7710 Navarre Pkwy\, Navarre\, FL\, 32566\, United States
ATTACH;FMTTYPE=image/jpeg:https://navarrebeach.com/wp-content/uploads/2025/05/493308184_1097350555753394_9121700086361856252_n.jpg
END:VEVENT
END:VCALENDAR