
BEGIN:VCALENDAR
VERSION:2.0
PRODID:-//Navarrebeach.com - ECPv6.15.20//NONSGML v1.0//EN
CALSCALE:GREGORIAN
METHOD:PUBLISH
X-ORIGINAL-URL:https://navarrebeach.com
X-WR-CALDESC:Events for Navarrebeach.com
REFRESH-INTERVAL;VALUE=DURATION:PT1H
X-Robots-Tag:noindex
X-PUBLISHED-TTL:PT1H
BEGIN:VTIMEZONE
TZID:UTC
BEGIN:STANDARD
TZOFFSETFROM:+0000
TZOFFSETTO:+0000
TZNAME:UTC
DTSTART:20240101T000000
END:STANDARD
END:VTIMEZONE
BEGIN:VEVENT
DTSTART;TZID=UTC:20250530T140000
DTEND;TZID=UTC:20250530T150000
DTSTAMP:20260422T062903
CREATED:20250522T162918Z
LAST-MODIFIED:20250522T162918Z
UID:12035-1748613600-1748617200@navarrebeach.com
SUMMARY:Furry Friend Friday
DESCRIPTION:Visit the library on the last Friday of the month to learn about pet safety and adoption. Listen to a story about pets\, learn about the ways the Santa Rosa County animal shelter helps the animals it takes in\, and meet a furry friend from the shelter. Furry Friend Friday will take place at the Navarre Library on the following dates from 2 – 3 p.m:\n\nFebruary 28May 30August 29
URL:https://navarrebeach.com/event/furry-friend-friday-3/
LOCATION:The Navarre Library\, 8484 James M. Harvell Rd\, Navarre\, FL\, 32566\, United States
ATTACH;FMTTYPE=image/jpeg:https://navarrebeach.com/wp-content/uploads/2024/08/c19eae74b90aa3804cc0150733157fde778655e42ed6b6086e731a25a1ecdf80-rimg-w1200-h675-dcf5f0ed-gmir-e1723670569854.jpg
END:VEVENT
END:VCALENDAR