
BEGIN:VCALENDAR
VERSION:2.0
PRODID:-//Navarrebeach.com - ECPv6.15.20//NONSGML v1.0//EN
CALSCALE:GREGORIAN
METHOD:PUBLISH
X-ORIGINAL-URL:https://navarrebeach.com
X-WR-CALDESC:Events for Navarrebeach.com
REFRESH-INTERVAL;VALUE=DURATION:PT1H
X-Robots-Tag:noindex
X-PUBLISHED-TTL:PT1H
BEGIN:VTIMEZONE
TZID:UTC
BEGIN:STANDARD
TZOFFSETFROM:+0000
TZOFFSETTO:+0000
TZNAME:UTC
DTSTART:20240101T000000
END:STANDARD
END:VTIMEZONE
BEGIN:VEVENT
DTSTART;TZID=UTC:20250605T183000
DTEND;TZID=UTC:20250605T193000
DTSTAMP:20260422T062903
CREATED:20250522T163205Z
LAST-MODIFIED:20250522T163205Z
UID:12037-1749148200-1749151800@navarrebeach.com
SUMMARY:Goat Yoga
DESCRIPTION:Come out for a fun hour of yoga with these baby goats. This is a beginner’s class for all ages and experience levels. You goat this. Cost is $33 (+tax/fees)and includes approximately one hour of goat yoga and one beverage. Please arrive 15 minutes prior and bring an old towel or mat for the class
URL:https://navarrebeach.com/event/goat-yoga-2/
LOCATION:St. Michael’s Brewing Company\, 2199 FL-87\, Navarre\, FL\, 32566\, United States
ATTACH;FMTTYPE=image/jpeg:https://navarrebeach.com/wp-content/uploads/2025/05/491689397_592445463847538_5918830780047206112_n.jpg
END:VEVENT
END:VCALENDAR