
BEGIN:VCALENDAR
VERSION:2.0
PRODID:-//Navarrebeach.com - ECPv6.15.20//NONSGML v1.0//EN
CALSCALE:GREGORIAN
METHOD:PUBLISH
X-ORIGINAL-URL:https://navarrebeach.com
X-WR-CALDESC:Events for Navarrebeach.com
REFRESH-INTERVAL;VALUE=DURATION:PT1H
X-Robots-Tag:noindex
X-PUBLISHED-TTL:PT1H
BEGIN:VTIMEZONE
TZID:UTC
BEGIN:STANDARD
TZOFFSETFROM:+0000
TZOFFSETTO:+0000
TZNAME:UTC
DTSTART:20240101T000000
END:STANDARD
END:VTIMEZONE
BEGIN:VEVENT
DTSTART;TZID=UTC:20250703T093000
DTEND;TZID=UTC:20250703T093000
DTSTAMP:20260422T032041
CREATED:20250627T161242Z
LAST-MODIFIED:20250627T161242Z
UID:12148-1751535000-1751535000@navarrebeach.com
SUMMARY:4th of July Dance Party
DESCRIPTION:FREE 4th of July themed Power Sculpt class that will leave you feeling strong\, energized\, and ready to celebrate!\n\nGet ready to dance\, tone\, and stretch with a fun\, low impact workout that blends fiery cardio with strength training and a feel good stretch to finish. \n\nThis is event is totally FREE — so bring a friend and let’s celebrate freedom\, fitness\, and fun–Jazzercise style!
URL:https://navarrebeach.com/event/4th-of-july-dance-party/
LOCATION:Iron Lady Fitness\, 8177 East Bay Blvd\, Navarre\, FL\, 32566\, United States
ATTACH;FMTTYPE=image/jpeg:https://navarrebeach.com/wp-content/uploads/2025/06/511609377_1089825866532607_6042053825524791144_n.jpg
END:VEVENT
END:VCALENDAR