
BEGIN:VCALENDAR
VERSION:2.0
PRODID:-//Navarrebeach.com - ECPv6.15.20//NONSGML v1.0//EN
CALSCALE:GREGORIAN
METHOD:PUBLISH
X-WR-CALNAME:Navarrebeach.com
X-ORIGINAL-URL:https://navarrebeach.com
X-WR-CALDESC:Events for Navarrebeach.com
REFRESH-INTERVAL;VALUE=DURATION:PT1H
X-Robots-Tag:noindex
X-PUBLISHED-TTL:PT1H
BEGIN:VTIMEZONE
TZID:UTC
BEGIN:STANDARD
TZOFFSETFROM:+0000
TZOFFSETTO:+0000
TZNAME:UTC
DTSTART:20240101T000000
END:STANDARD
END:VTIMEZONE
BEGIN:VEVENT
DTSTART;TZID=UTC:20250704T110000
DTEND;TZID=UTC:20250704T110000
DTSTAMP:20260422T031947
CREATED:20250627T161835Z
LAST-MODIFIED:20250627T161835Z
UID:12160-1751626800-1751626800@navarrebeach.com
SUMMARY:Red\, White & Waterfront - A Patriotic Bash at Emerald
DESCRIPTION:Stars\, Stripes & Waterfront Vibes Friday\, July 4th | All Day Celebration | Emerald Waterfront\n\nJoin for a festive\, all-American Fourth of July bash right on the water! Good food\, great music\, great seats and less traffic to enjoy the fireworks. This is where your red\, white\, and blue truly shines.\n\nCome Dressed to Impress in Your Most Patriotic Attire!\n\nThey’ll be giving out prizes for the most festive looks\, so bring the spirit and show off your stars and stripes!\n\nWhat’s in Store:BBQ Half Chicken • Pulled Pork Sandwiches • Burgers & DogsPotato Salad & ColeslawFourth of July Drink SpecialsLive Music: Stevie Hall (Afternoon) + Never Ending rocking it out later that Evening!Door Prizes All Day LongWaterfront Fireworks Watch Party. No traffic\, just the perfect view\n\nBring your friends\, your family\, and your best red\, white & blue.
URL:https://navarrebeach.com/event/red-white-waterfront-a-patriotic-bash-at-emerald/
LOCATION:Emerald Waterfront\, 8491 Navarre Pkwy\, Navarre\, FL\, 32566\, United States
ATTACH;FMTTYPE=image/jpeg:https://navarrebeach.com/wp-content/uploads/2025/06/512173304_707143078722657_4631901183723112599_n-scaled.jpg
END:VEVENT
BEGIN:VEVENT
DTSTART;TZID=UTC:20250704T190000
DTEND;TZID=UTC:20250704T230000
DTSTAMP:20260422T031947
CREATED:20250703T191237Z
LAST-MODIFIED:20250703T191237Z
UID:12166-1751655600-1751670000@navarrebeach.com
SUMMARY:Fourth of July on the Water
DESCRIPTION:What better way to celebrate than with us on the beach stuffing your face with delicious food and drinks? Well guess what? You can!
URL:https://navarrebeach.com/event/fourth-of-july-on-the-water/
LOCATION:Emerald Waterfront\, 8491 Navarre Pkwy\, Navarre\, FL\, 32566\, United States
ATTACH;FMTTYPE=image/jpeg:https://navarrebeach.com/wp-content/uploads/2025/07/506395622_122180648684299554_6391274644701493054_n.jpg
END:VEVENT
BEGIN:VEVENT
DTSTART;TZID=UTC:20250704T210000
DTEND;TZID=UTC:20250704T210000
DTSTAMP:20260422T031947
CREATED:20250611T192416Z
LAST-MODIFIED:20250611T192416Z
UID:12090-1751662800-1751662800@navarrebeach.com
SUMMARY:4th of July Fireworks at Navarre Beach
DESCRIPTION:Join us as we celebrate the 4th of July with a fireworks display starting at 9 p.m. from the Navarre Beach Fishing Pier.
URL:https://navarrebeach.com/event/4th-of-july-fireworks-at-navarre-beach/
LOCATION:Navarre Beach Pier\, 8579 Gulf Blvd\, Navarre\, FL\, 32566\, United States
ATTACH;FMTTYPE=image/jpeg:https://navarrebeach.com/wp-content/uploads/2025/06/506025125_1007898758166859_2970325601830148629_n.jpg
END:VEVENT
END:VCALENDAR