
BEGIN:VCALENDAR
VERSION:2.0
PRODID:-//Navarrebeach.com - ECPv6.15.20//NONSGML v1.0//EN
CALSCALE:GREGORIAN
METHOD:PUBLISH
X-WR-CALNAME:Navarrebeach.com
X-ORIGINAL-URL:https://navarrebeach.com
X-WR-CALDESC:Events for Navarrebeach.com
REFRESH-INTERVAL;VALUE=DURATION:PT1H
X-Robots-Tag:noindex
X-PUBLISHED-TTL:PT1H
BEGIN:VTIMEZONE
TZID:UTC
BEGIN:STANDARD
TZOFFSETFROM:+0000
TZOFFSETTO:+0000
TZNAME:UTC
DTSTART:20240101T000000
END:STANDARD
END:VTIMEZONE
BEGIN:VEVENT
DTSTART;TZID=UTC:20250705T090000
DTEND;TZID=UTC:20250705T130000
DTSTAMP:20260422T031944
CREATED:20250703T191416Z
LAST-MODIFIED:20250703T191416Z
UID:12169-1751706000-1751720400@navarrebeach.com
SUMMARY:Navarre Farmer's Market/ Combs of Honey
DESCRIPTION:Come to one of the best Farmers markets in town! We are in Navarre right across the street from Tractor Supply from 9am-1pm every Saturday.
URL:https://navarrebeach.com/event/navarre-farmers-market-combs-of-honey-2/
LOCATION:Navarre Farmers’ Market\, LLC\, SR S87 & Segura Corner\, Navarre\, FL\, 32566\, United States
ATTACH;FMTTYPE=image/jpeg:https://navarrebeach.com/wp-content/uploads/2025/07/512969043_122134914224772993_2824292332136529228_n.jpg
END:VEVENT
BEGIN:VEVENT
DTSTART;TZID=UTC:20250705T090000
DTEND;TZID=UTC:20250705T140000
DTSTAMP:20260422T031944
CREATED:20250618T205209Z
LAST-MODIFIED:20250618T205209Z
UID:12121-1751706000-1751724000@navarrebeach.com
SUMMARY:Hwy 87 Market at Sand Dollar Plaza
DESCRIPTION:Highway 87 Market is an outdoor market\, held on the 1st and 3rd Saturday of each month\, across multiple venues on Highway 87 in Navarre. In Sand Dollar Plaza\, market vendors will be set up at the back of the plaza. Enjoy a wide variety of booths\, offering food items\, art\, decor\, and so much more.  In addition\, the merchants of Sand Dollar Plaza will be featuring various products and specials\, as they do each week for Sand Dollar Saturday.\nInterested in setting up in the Hwy 87 Market? Email us at SandDollarSaturtday@gmail.com
URL:https://navarrebeach.com/event/hwy-87-market-at-sand-dollar-plaza-3/
LOCATION:FL
ATTACH;FMTTYPE=image/jpeg:https://navarrebeach.com/wp-content/uploads/2025/06/Screenshot_20211014-071330_Google.jpg
END:VEVENT
END:VCALENDAR