
BEGIN:VCALENDAR
VERSION:2.0
PRODID:-//Navarrebeach.com - ECPv6.15.20//NONSGML v1.0//EN
CALSCALE:GREGORIAN
METHOD:PUBLISH
X-WR-CALNAME:Navarrebeach.com
X-ORIGINAL-URL:https://navarrebeach.com
X-WR-CALDESC:Events for Navarrebeach.com
REFRESH-INTERVAL;VALUE=DURATION:PT1H
X-Robots-Tag:noindex
X-PUBLISHED-TTL:PT1H
BEGIN:VTIMEZONE
TZID:UTC
BEGIN:STANDARD
TZOFFSETFROM:+0000
TZOFFSETTO:+0000
TZNAME:UTC
DTSTART:20240101T000000
END:STANDARD
END:VTIMEZONE
BEGIN:VEVENT
DTSTART;TZID=UTC:20250709T190000
DTEND;TZID=UTC:20250709T200000
DTSTAMP:20260422T032038
CREATED:20250703T192417Z
LAST-MODIFIED:20250703T192417Z
UID:12180-1752087600-1752091200@navarrebeach.com
SUMMARY:4-Week Series Intro to Aerial Yoga
DESCRIPTION:4-Week Intro to Aerial Yoga Series\n\nCurious about Aerial Yoga? This beginner-friendly 4-week series is the perfect way to take flight! No yoga or aerial experience needed—just an open heart and a willingness to explore movement in a new and mindful way.\nDATES: July 9th\, 16th\, 23rd\, 30thTIME: 7:00 PM – 8:00 PMDoors close promptly at class start\, so please arrive 5–10 minutes early.\n\nINVESTMENT: $88 for the full 4-week series\n\nBring your own yoga mat\, rent a premium Manduka mat for $5\, or purchase one for $20. https://www.navarrebeachyoga.com/…/e058b58c-2c3f-4fa6…\n\nAerial Yoga is a beautiful fusion of yoga and movement using a hammock as your support system. You’ll explore both restorative and dynamic poses—on the ground and in the air—building strength\, balance\, flexibility\, and confidence. Inversions (yes\, hanging upside down!) help decompress the spine and activate the lymphatic system\, boosting circulation and detoxification.\n\nIMPORTANT NOTE: For your safety and to protect our fabrics\, please do not wear jewelry to class.\n\nThis series is open to *every body* and every ability. Come experience the joy of movement in the air and the calm of grounding back down.\nQuestions? Call or text us at (850) 396-1138Reserve your spot online—spaces are limited!\n\nLet’s take your practice to new heights—literally!
URL:https://navarrebeach.com/event/4-week-series-intro-to-aerial-yoga/
LOCATION:Navarre Beach Yoga Studio\, 2276 FL-87\, Navarre\, FL\, 32566\, United States
ATTACH;FMTTYPE=image/jpeg:https://navarrebeach.com/wp-content/uploads/2024/08/half_size_1716087081770_offering_image.jpg
END:VEVENT
END:VCALENDAR