
BEGIN:VCALENDAR
VERSION:2.0
PRODID:-//Navarrebeach.com - ECPv6.15.20//NONSGML v1.0//EN
CALSCALE:GREGORIAN
METHOD:PUBLISH
X-ORIGINAL-URL:https://navarrebeach.com
X-WR-CALDESC:Events for Navarrebeach.com
REFRESH-INTERVAL;VALUE=DURATION:PT1H
X-Robots-Tag:noindex
X-PUBLISHED-TTL:PT1H
BEGIN:VTIMEZONE
TZID:UTC
BEGIN:STANDARD
TZOFFSETFROM:+0000
TZOFFSETTO:+0000
TZNAME:UTC
DTSTART:20240101T000000
END:STANDARD
END:VTIMEZONE
BEGIN:VEVENT
DTSTART;TZID=UTC:20250712T073000
DTEND;TZID=UTC:20250712T103000
DTSTAMP:20260422T032043
CREATED:20250611T192307Z
LAST-MODIFIED:20250611T192307Z
UID:12088-1752305400-1752316200@navarrebeach.com
SUMMARY:Monthly Breakfast at Holley Navarre Senior Center
DESCRIPTION:Did you know that there is a DELICIOUS way to support your local senior center? Every 2nd Saturday of the month\, we offer a pancake breakfast…\n\nHolley Navarre Senior Center’s breakfast is one of the best kept secrets in Navarre and we hope you’ll give it a try!!! Every dollar earned goes directly to the center and supports our community events.\n\nThey even offer ALL YOU CAN EAT PANCAKES… – WHAT!!!???(Please bring cash – we are working on going electronic!!)\n\nThey start serving at 7:00am and go all the way to 10:30am for those of you that like to sleep in.\n\nThe best part? You don’t even need to be a member to come to the breakfast\, but once you try it – you’ll want to join\, get on their e-mail list and get reminders when the breakfasts are on!!!\n\nIf you haven’t checked out the local senior center yet\, they’d love to see you!!!
URL:https://navarrebeach.com/event/monthly-breakfast-at-holley-navarre-senior-center-2/
LOCATION:Holley-Navarre Seniors Association\, 8476 Gordon Goodin Lane\, Navarre\, FL\, 32566\, United States
ATTACH;FMTTYPE=image/jpeg:https://navarrebeach.com/wp-content/uploads/2025/03/480637291_660103826591122_166516323534695306_n.jpg
END:VEVENT
BEGIN:VEVENT
DTSTART;TZID=UTC:20250712T090000
DTEND;TZID=UTC:20250712T140000
DTSTAMP:20260422T032043
CREATED:20250618T205532Z
LAST-MODIFIED:20250711T165839Z
UID:12125-1752310800-1752328800@navarrebeach.com
SUMMARY:Pik-itz Open Air Market
DESCRIPTION:Come visit our Outdoor Market right here in Navarre.   We have over 30 vendors selling local art\, crafts\, baked goods\, dairy products\, honey and plenty of fun surprises. \nMarkets are held every Saturday from 9 am to 2 pm \nIf you are interested in selling homemade/handmade items\, contact the store for more information. \nSaturday Jul 5\, 2025\n9:00 AM – 2:00 PM CDT
URL:https://navarrebeach.com/event/pik-itz-open-air-market/
LOCATION:FL
ATTACH;FMTTYPE=image/jpeg:https://navarrebeach.com/wp-content/uploads/2025/06/476050395_18455313088068630_7333089146717817484_n.jpg
END:VEVENT
BEGIN:VEVENT
DTSTART;TZID=UTC:20250712T180000
DTEND;TZID=UTC:20250712T230000
DTSTAMP:20260422T032043
CREATED:20250619T123820Z
LAST-MODIFIED:20250619T123820Z
UID:12133-1752343200-1752361200@navarrebeach.com
SUMMARY:The Crystal Awards
DESCRIPTION:Join us for The Crystal Awards\, a night to recognize and appreciate our amazing volunteers who have contributed to the success of our shows in the 24-25 season at Pensacola Little Theatre. Come and cheer for your favorites as we present awards and celebrate the outstanding work of our volunteers! The evening will be jam-packed with stories\, performances\, hugs\, and good times.
URL:https://navarrebeach.com/event/the-crystal-awards/
LOCATION:FL
ATTACH;FMTTYPE=image/jpeg:https://navarrebeach.com/wp-content/uploads/2025/06/24-25Crystals.jpg
END:VEVENT
END:VCALENDAR